{"text_format":"1","workbook":"xlsx","n_sheets":3,"sheets":["Reporte","PuntosEntrega","Catalogos"],"not_rendered":{"charts":0,"images":0,"macros":1,"external_links":0,"defined_names":42,"comments":0,"pivot_tables":0},"unopened":[],"bounds":{"document_bytes":16777216,"sheet_cells":100000,"rows_first":2000,"rows_last":500,"rows_between":2000,"halvings":0,"cell_chars":16384,"cell_head_chars":4096},"cells_cut":0,"cells_raw":0,"read":"whole","date_system":"1900"}

{"sheet":"Reporte","index":0,"n_rows":1,"n_cols":22,"rows_kept":1,"cut":false,"hidden":false,"merged":[]}
["Número de transacción","Fecha inicial de la entrega","Fecha final de la entrega","Punto de entrega, Entidad Federativa","Punto de entrega, Municipio","Punto de entrega, Infraestructura","Punto de entrega, Infraestructura (nombre)","Tipo de cliente","Volumen o energía vendida por transacción","Volumen o energía vendida por transacción, Unidad de medida","Tipo de captura del precio final por unidad de medida (TCPF)","Precio fijo","Precio fijo, Moneda","Precio fijo, Moneda (otro)","Índice del Precio Referenciado","Índice del Precio Referenciado (otro)","Índice del Precio Referenciado (otro), Unidades","Periodicidad del índice","Diferencial del Precio Referenciado","Porcentaje o Moneda","Fecha del Índice","Tipo de transacciòn"]

{"sheet":"PuntosEntrega","index":1,"n_rows":1048576,"n_cols":8,"rows_kept":4500,"cut":true,"hidden":true,"merged":[],"bounds":{"rows_first":2000,"rows_last":500,"rows_between":2000,"halvings":0}}
["EntidadFederativaId","EntidadFederativa",null,"EntidadFederativaId","EntidadFederativa","MunicipioId","Municipio","Puntos de Entrega_ Infraestructura"]
[1,"Aguascalientes",{"$f":"SUBSTITUTE(Reporte!D2,\" \",\"\")","v":""},1,"Aguascalientes",2,"Asientos","Ducto de gas natural- Punto de extracción"]
[2,"Baja California",{"$f":"SUBSTITUTE(Reporte!D3,\" \",\"\")","v":""},1,"Aguascalientes",3,"Calvillo","Ducto de gas natural- Punto de inyeccion"]
[3,"Baja California Sur",{"$f":"SUBSTITUTE(Reporte!D4,\" \",\"\")","v":""},1,"Aguascalientes",1,"Aguascalientes","Ducto de gas natural- Otro"]
[4,"Campeche",{"$f":"SUBSTITUTE(Reporte!D5,\" \",\"\")","v":""},1,"Aguascalientes",4,"Cosío","Ducto de gas natural-Punto de Interconexión"]
[5,"Coahuila de Zaragoza",{"$f":"SUBSTITUTE(Reporte!D6,\" \",\"\")","v":""},1,"Aguascalientes",5,"Jesús María","Infraestructura de un usuario final"]
[6,"Colima",{"$f":"SUBSTITUTE(Reporte!D7,\" \",\"\")","v":""},1,"Aguascalientes",6,"Pabellón de Arteaga","Terminal de regasificación"]
[7,"Chiapas",{"$f":"SUBSTITUTE(Reporte!D8,\" \",\"\")","v":""},1,"Aguascalientes",7,"Rincón de Romos","Terminal de licuefacción"]
[8,"Chihuahua",{"$f":"SUBSTITUTE(Reporte!D9,\" \",\"\")","v":""},1,"Aguascalientes",8,"San José de Gracia","Terminal de almacenamiento"]
[9,"Ciudad de México",{"$f":"SUBSTITUTE(Reporte!D10,\" \",\"\")","v":""},1,"Aguascalientes",9,"Tepezalá","Hub"]
[10,"Durango",{"$f":"SUBSTITUTE(Reporte!D11,\" \",\"\")","v":""},1,"Aguascalientes",10,"El Llano","Otro (tipo de infraestrutura y nombre)"]
[11,"Guanajuato",{"$f":"SUBSTITUTE(Reporte!D12,\" \",\"\")","v":""},1,"Aguascalientes",11,"San Francisco de los Romo"]
[12,"Guerrero",{"$f":"SUBSTITUTE(Reporte!D13,\" \",\"\")","v":""},2,"Baja California",5,"Playas de Rosarito"]
[13,"Hidalgo",{"$f":"SUBSTITUTE(Reporte!D14,\" \",\"\")","v":""},2,"Baja California",4,"Tijuana"]
[14,"Jalisco",{"$f":"SUBSTITUTE(Reporte!D15,\" \",\"\")","v":""},2,"Baja California",1,"Ensenada"]
[15,"México",{"$f":"SUBSTITUTE(Reporte!D16,\" \",\"\")","v":""},2,"Baja California",3,"Tecate"]
[16,"Michoacán de Ocampo",{"$f":"SUBSTITUTE(Reporte!D17,\" \",\"\")","v":""},2,"Baja California",2,"Mexicali"]
[17,"Morelos",{"$f":"SUBSTITUTE(Reporte!D18,\" \",\"\")","v":""},3,"Baja California Sur",2,"Mulegé"]
[18,"Nayarit",{"$f":"SUBSTITUTE(Reporte!D19,\" \",\"\")","v":""},3,"Baja California Sur",3,"La Paz"]
[19,"Nuevo León",{"$f":"SUBSTITUTE(Reporte!D20,\" \",\"\")","v":""},3,"Baja California Sur",1,"Comondú"]
[20,"Oaxaca",{"$f":"SUBSTITUTE(Reporte!D21,\" \",\"\")","v":""},3,"Baja California Sur",9,"Loreto"]
[21,"Puebla",{"$f":"SUBSTITUTE(Reporte!D22,\" \",\"\")","v":""},3,"Baja California Sur",8,"Los Cabos"]
[22,"Querétaro",{"$f":"SUBSTITUTE(Reporte!D23,\" \",\"\")","v":""},4,"Campeche",8,"Tenabo"]
[23,"Quintana Roo",{"$f":"SUBSTITUTE(Reporte!D24,\" \",\"\")","v":""},4,"Campeche",7,"Palizada"]
[24,"San Luis Potosí",{"$f":"SUBSTITUTE(Reporte!D25,\" \",\"\")","v":""},4,"Campeche",9,"Escárcega"]
[25,"Sinaloa",{"$f":"SUBSTITUTE(Reporte!D26,\" \",\"\")","v":""},4,"Campeche",10,"Calakmul"]
[26,"Sonora",{"$f":"SUBSTITUTE(Reporte!D27,\" \",\"\")","v":""},4,"Campeche",11,"Candelaria"]
[27,"Tabasco",{"$f":"SUBSTITUTE(Reporte!D28,\" \",\"\")","v":""},4,"Campeche",1,"Calkiní"]
[28,"Tamaulipas",{"$f":"SUBSTITUTE(Reporte!D29,\" \",\"\")","v":""},4,"Campeche",4,"Champotón"]
[29,"Tlaxcala",{"$f":"SUBSTITUTE(Reporte!D30,\" \",\"\")","v":""},4,"Campeche",5,"Hecelchakán"]
[30,"Veracruz de Ignacio de la Llave",{"$f":"SUBSTITUTE(Reporte!D31,\" \",\"\")","v":""},4,"Campeche",6,"Hopelchén"]
[31,"Yucatán",{"$f":"SUBSTITUTE(Reporte!D32,\" \",\"\")","v":""},4,"Campeche",3,"Carmen"]
[32,"Zacatecas",{"$f":"SUBSTITUTE(Reporte!D33,\" \",\"\")","v":""},4,"Campeche",2,"Campeche"]
[null,null,{"$f":"SUBSTITUTE(Reporte!D34,\" \",\"\")","v":""},5,"Coahuila de Zaragoza",2,"Acuña"]
[null,null,{"$f":"SUBSTITUTE(Reporte!D35,\" \",\"\")","v":""},5,"Coahuila de Zaragoza",3,"Allende"]
[null,null,{"$f":"SUBSTITUTE(Reporte!D36,\" \",\"\")","v":""},5,"Coahuila de Zaragoza",6,"Castaños"]
[null,null,{"$f":"SUBSTITUTE(Reporte!D37,\" \",\"\")","v":""},5,"Coahuila de Zaragoza",5,"Candela"]
[null,null,{"$f":"SUBSTITUTE(Reporte!D38,\" \",\"\")","v":""},5,"Coahuila de Zaragoza",4,"Arteaga"]
[null,null,{"$f":"SUBSTITUTE(Reporte!D39,\" \",\"\")","v":""},5,"Coahuila de Zaragoza",1,"Abasolo"]
[null,null,{"$f":"SUBSTITUTE(Reporte!D40,\" \",\"\")","v":""},5,"Coahuila de Zaragoza",11,"General Cepeda"]
[null,null,{"$f":"SUBSTITUTE(Reporte!D41,\" \",\"\")","v":""},5,"Coahuila de Zaragoza",12,"Guerrero"]
[null,null,{"$f":"SUBSTITUTE(Reporte!D42,\" \",\"\")","v":""},5,"Coahuila de Zaragoza",13,"Hidalgo"]
[null,null,{"$f":"SUBSTITUTE(Reporte!D43,\" \",\"\")","v":""},5,"Coahuila de Zaragoza",14,"Jiménez"]
[null,null,{"$f":"SUBSTITUTE(Reporte!D44,\" \",\"\")","v":""},5,"Coahuila de Zaragoza",10,"Frontera"]
[null,null,{"$f":"SUBSTITUTE(Reporte!D45,\" \",\"\")","v":""},5,"Coahuila de Zaragoza",9,"Francisco I. Madero"]
[null,null,{"$f":"SUBSTITUTE(Reporte!D46,\" \",\"\")","v":""},5,"Coahuila de Zaragoza",7,"Cuatro Ciénegas"]
[null,null,{"$f":"SUBSTITUTE(Reporte!D47,\" \",\"\")","v":""},5,"Coahuila de Zaragoza",8,"Escobedo"]
[null,null,{"$f":"SUBSTITUTE(Reporte!D48,\" \",\"\")","v":""},5,"Coahuila de Zaragoza",15,"Juárez"]
[null,null,{"$f":"SUBSTITUTE(Reporte!D49,\" \",\"\")","v":""},5,"Coahuila de Zaragoza",16,"Lamadrid"]
[null,null,{"$f":"SUBSTITUTE(Reporte!D50,\" \",\"\")","v":""},5,"Coahuila de Zaragoza",17,"Matamoros"]
[null,null,{"$f":"SUBSTITUTE(Reporte!D51,\" \",\"\")","v":""},5,"Coahuila de Zaragoza",18,"Monclova"]
[null,null,{"$f":"SUBSTITUTE(Reporte!D52,\" \",\"\")","v":""},5,"Coahuila de Zaragoza",19,"Morelos"]
[null,null,{"$f":"SUBSTITUTE(Reporte!D53,\" \",\"\")","v":""},5,"Coahuila de Zaragoza",20,"Múzquiz"]
[null,null,{"$f":"SUBSTITUTE(Reporte!D54,\" \",\"\")","v":""},5,"Coahuila de Zaragoza",21,"Nadadores"]
[null,null,{"$f":"SUBSTITUTE(Reporte!D55,\" \",\"\")","v":""},5,"Coahuila de Zaragoza",22,"Nava"]
[null,null,{"$f":"SUBSTITUTE(Reporte!D56,\" \",\"\")","v":""},5,"Coahuila de Zaragoza",23,"Ocampo"]
[null,null,{"$f":"SUBSTITUTE(Reporte!D57,\" \",\"\")","v":""},5,"Coahuila de Zaragoza",24,"Parras"]
[null,null,{"$f":"SUBSTITUTE(Reporte!D58,\" \",\"\")","v":""},5,"Coahuila de Zaragoza",25,"Piedras Negras"]
[null,null,{"$f":"SUBSTITUTE(Reporte!D59,\" \",\"\")","v":""},5,"Coahuila de Zaragoza",26,"Progreso"]
[null,null,{"$f":"SUBSTITUTE(Reporte!D60,\" \",\"\")","v":""},5,"Coahuila de Zaragoza",27,"Ramos Arizpe"]
[null,null,{"$f":"SUBSTITUTE(Reporte!D61,\" \",\"\")","v":""},5,"Coahuila de Zaragoza",28,"Sabinas"]
[null,null,{"$f":"SUBSTITUTE(Reporte!D62,\" \",\"\")","v":""},5,"Coahuila de Zaragoza",29,"Sacramento"]
[null,null,{"$f":"SUBSTITUTE(Reporte!D63,\" \",\"\")","v":""},5,"Coahuila de Zaragoza",30,"Saltillo"]
[null,null,{"$f":"SUBSTITUTE(Reporte!D64,\" \",\"\")","v":""},5,"Coahuila de Zaragoza",31,"San Buenaventura"]
[null,null,{"$f":"SUBSTITUTE(Reporte!D65,\" \",\"\")","v":""},5,"Coahuila de Zaragoza",32,"San Juan de Sabinas"]
[null,null,{"$f":"SUBSTITUTE(Reporte!D66,\" \",\"\")","v":""},5,"Coahuila de Zaragoza",33,"San Pedro"]
[null,null,{"$f":"SUBSTITUTE(Reporte!D67,\" \",\"\")","v":""},5,"Coahuila de Zaragoza",34,"Sierra Mojada"]
[null,null,{"$f":"SUBSTITUTE(Reporte!D68,\" \",\"\")","v":""},5,"Coahuila de Zaragoza",35,"Torreón"]
[null,null,{"$f":"SUBSTITUTE(Reporte!D69,\" \",\"\")","v":""},5,"Coahuila de Zaragoza",36,"Viesca"]
[null,null,{"$f":"SUBSTITUTE(Reporte!D70,\" \",\"\")","v":""},5,"Coahuila de Zaragoza",37,"Villa Unión"]
[null,null,{"$f":"SUBSTITUTE(Reporte!D71,\" \",\"\")","v":""},5,"Coahuila de Zaragoza",38,"Zaragoza"]
[null,null,{"$f":"SUBSTITUTE(Reporte!D72,\" \",\"\")","v":""},6,"Colima",8,"Minatitlán"]
[null,null,{"$f":"SUBSTITUTE(Reporte!D73,\" \",\"\")","v":""},6,"Colima",7,"Manzanillo"]
[null,null,{"$f":"SUBSTITUTE(Reporte!D74,\" \",\"\")","v":""},6,"Colima",9,"Tecomán"]
[null,null,{"$f":"SUBSTITUTE(Reporte!D75,\" \",\"\")","v":""},6,"Colima",10,"Villa de Álvarez"]
[null,null,{"$f":"SUBSTITUTE(Reporte!D76,\" \",\"\")","v":""},6,"Colima",1,"Armería"]
[null,null,{"$f":"SUBSTITUTE(Reporte!D77,\" \",\"\")","v":""},6,"Colima",4,"Coquimatlán"]
[null,null,{"$f":"SUBSTITUTE(Reporte!D78,\" \",\"\")","v":""},6,"Colima",5,"Cuauhtémoc"]
[null,null,{"$f":"SUBSTITUTE(Reporte!D79,\" \",\"\")","v":""},6,"Colima",6,"Ixtlahuacán"]
[null,null,{"$f":"SUBSTITUTE(Reporte!D80,\" \",\"\")","v":""},6,"Colima",3,"Comala"]
[null,null,{"$f":"SUBSTITUTE(Reporte!D81,\" \",\"\")","v":""},6,"Colima",2,"Colima"]
[null,null,{"$f":"SUBSTITUTE(Reporte!D82,\" \",\"\")","v":""},7,"Chiapas",2,"Acala"]
[null,null,{"$f":"SUBSTITUTE(Reporte!D83,\" \",\"\")","v":""},7,"Chiapas",3,"Acapetahua"]
[null,null,{"$f":"SUBSTITUTE(Reporte!D84,\" \",\"\")","v":""},7,"Chiapas",6,"Amatenango de la Frontera"]
[null,null,{"$f":"SUBSTITUTE(Reporte!D85,\" \",\"\")","v":""},7,"Chiapas",5,"Amatán"]
[null,null,{"$f":"SUBSTITUTE(Reporte!D86,\" \",\"\")","v":""},7,"Chiapas",4,"Altamirano"]
[null,null,{"$f":"SUBSTITUTE(Reporte!D87,\" \",\"\")","v":""},7,"Chiapas",1,"Acacoyagua"]
[null,null,{"$f":"SUBSTITUTE(Reporte!D88,\" \",\"\")","v":""},7,"Chiapas",10,"Bejucal de Ocampo"]
[null,null,{"$f":"SUBSTITUTE(Reporte!D89,\" \",\"\")","v":""},7,"Chiapas",9,"Arriaga"]
[null,null,{"$f":"SUBSTITUTE(Reporte!D90,\" \",\"\")","v":""},7,"Chiapas",7,"Amatenango del Valle"]
[null,null,{"$f":"SUBSTITUTE(Reporte!D91,\" \",\"\")","v":""},7,"Chiapas",8,"Angel Albino Corzo"]
[null,null,{"$f":"SUBSTITUTE(Reporte!D92,\" \",\"\")","v":""},7,"Chiapas",14,"El Bosque"]
[null,null,{"$f":"SUBSTITUTE(Reporte!D93,\" \",\"\")","v":""},7,"Chiapas",13,"Bochil"]
[null,null,{"$f":"SUBSTITUTE(Reporte!D94,\" \",\"\")","v":""},7,"Chiapas",12,"Berriozábal"]
[null,null,{"$f":"SUBSTITUTE(Reporte!D95,\" \",\"\")","v":""},7,"Chiapas",11,"Bella Vista"]
[null,null,{"$f":"SUBSTITUTE(Reporte!D96,\" \",\"\")","v":""},7,"Chiapas",30,"Chicomuselo"]
[null,null,{"$f":"SUBSTITUTE(Reporte!D97,\" \",\"\")","v":""},7,"Chiapas",29,"Chicoasén"]
[null,null,{"$f":"SUBSTITUTE(Reporte!D98,\" \",\"\")","v":""},7,"Chiapas",28,"Chiapilla"]
[null,null,{"$f":"SUBSTITUTE(Reporte!D99,\" \",\"\")","v":""},7,"Chiapas",27,"Chiapa de Corzo"]
[null,null,{"$f":"SUBSTITUTE(Reporte!D100,\" \",\"\")","v":""},7,"Chiapas",26,"Chenalhó"]
[null,null,{"$f":"SUBSTITUTE(Reporte!D101,\" \",\"\")","v":""},7,"Chiapas",25,"Chapultenango"]
[null,null,{"$f":"SUBSTITUTE(Reporte!D102,\" \",\"\")","v":""},7,"Chiapas",24,"Chanal"]
[null,null,{"$f":"SUBSTITUTE(Reporte!D103,\" \",\"\")","v":""},7,"Chiapas",23,"Chamula"]
[null,null,{"$f":"SUBSTITUTE(Reporte!D104,\" \",\"\")","v":""},7,"Chiapas",22,"Chalchihuitán"]
[null,null,{"$f":"SUBSTITUTE(Reporte!D105,\" \",\"\")","v":""},7,"Chiapas",21,"Copainalá"]
[null,null,{"$f":"SUBSTITUTE(Reporte!D106,\" \",\"\")","v":""},7,"Chiapas",20,"La Concordia"]
[null,null,{"$f":"SUBSTITUTE(Reporte!D107,\" \",\"\")","v":""},7,"Chiapas",19,"Comitán de Domínguez"]
[null,null,{"$f":"SUBSTITUTE(Reporte!D108,\" \",\"\")","v":""},7,"Chiapas",18,"Coapilla"]
[null,null,{"$f":"SUBSTITUTE(Reporte!D109,\" \",\"\")","v":""},7,"Chiapas",17,"Cintalapa"]
[null,null,{"$f":"SUBSTITUTE(Reporte!D110,\" \",\"\")","v":""},7,"Chiapas",16,"Catazajá"]
[null,null,{"$f":"SUBSTITUTE(Reporte!D111,\" \",\"\")","v":""},7,"Chiapas",15,"Cacahoatán"]
[null,null,{"$f":"SUBSTITUTE(Reporte!D112,\" \",\"\")","v":""},7,"Chiapas",38,"Huixtán"]
[null,null,{"$f":"SUBSTITUTE(Reporte!D113,\" \",\"\")","v":""},7,"Chiapas",37,"Huehuetán"]
[null,null,{"$f":"SUBSTITUTE(Reporte!D114,\" \",\"\")","v":""},7,"Chiapas",36,"La Grandeza"]
[null,null,{"$f":"SUBSTITUTE(Reporte!D115,\" \",\"\")","v":""},7,"Chiapas",35,"Frontera Hidalgo"]
[null,null,{"$f":"SUBSTITUTE(Reporte!D116,\" \",\"\")","v":""},7,"Chiapas",34,"Frontera Comalapa"]
[null,null,{"$f":"SUBSTITUTE(Reporte!D117,\" \",\"\")","v":""},7,"Chiapas",33,"Francisco León"]
[null,null,{"$f":"SUBSTITUTE(Reporte!D118,\" \",\"\")","v":""},7,"Chiapas",32,"Escuintla"]
[null,null,{"$f":"SUBSTITUTE(Reporte!D119,\" \",\"\")","v":""},7,"Chiapas",31,"Chilón"]
[null,null,{"$f":"SUBSTITUTE(Reporte!D120,\" \",\"\")","v":""},7,"Chiapas",39,"Huitiupán"]
[null,null,{"$f":"SUBSTITUTE(Reporte!D121,\" \",\"\")","v":""},7,"Chiapas",40,"Huixtla"]
[null,null,{"$f":"SUBSTITUTE(Reporte!D122,\" \",\"\")","v":""},7,"Chiapas",41,"La Independencia"]
[null,null,{"$f":"SUBSTITUTE(Reporte!D123,\" \",\"\")","v":""},7,"Chiapas",42,"Ixhuatán"]
[null,null,{"$f":"SUBSTITUTE(Reporte!D124,\" \",\"\")","v":""},7,"Chiapas",43,"Ixtacomitán"]
[null,null,{"$f":"SUBSTITUTE(Reporte!D125,\" \",\"\")","v":""},7,"Chiapas",44,"Ixtapa"]
[null,null,{"$f":"SUBSTITUTE(Reporte!D126,\" \",\"\")","v":""},7,"Chiapas",45,"Ixtapangajoya"]
[null,null,{"$f":"SUBSTITUTE(Reporte!D127,\" \",\"\")","v":""},7,"Chiapas",46,"Jiquipilas"]
[null,null,{"$f":"SUBSTITUTE(Reporte!D128,\" \",\"\")","v":""},7,"Chiapas",47,"Jitotol"]
[null,null,{"$f":"SUBSTITUTE(Reporte!D129,\" \",\"\")","v":""},7,"Chiapas",48,"Juárez"]
[null,null,{"$f":"SUBSTITUTE(Reporte!D130,\" \",\"\")","v":""},7,"Chiapas",49,"Larráinzar"]
[null,null,{"$f":"SUBSTITUTE(Reporte!D131,\" \",\"\")","v":""},7,"Chiapas",50,"La Libertad"]
[null,null,{"$f":"SUBSTITUTE(Reporte!D132,\" \",\"\")","v":""},7,"Chiapas",51,"Mapastepec"]
[null,null,{"$f":"SUBSTITUTE(Reporte!D133,\" \",\"\")","v":""},7,"Chiapas",52,"Las Margaritas"]
[null,null,{"$f":"SUBSTITUTE(Reporte!D134,\" \",\"\")","v":""},7,"Chiapas",53,"Mazapa de Madero"]
[null,null,{"$f":"SUBSTITUTE(Reporte!D135,\" \",\"\")","v":""},7,"Chiapas",54,"Mazatán"]
[null,null,{"$f":"SUBSTITUTE(Reporte!D136,\" \",\"\")","v":""},7,"Chiapas",55,"Metapa"]
[null,null,{"$f":"SUBSTITUTE(Reporte!D137,\" \",\"\")","v":""},7,"Chiapas",56,"Mitontic"]
[null,null,{"$f":"SUBSTITUTE(Reporte!D138,\" \",\"\")","v":""},7,"Chiapas",57,"Motozintla"]
[null,null,{"$f":"SUBSTITUTE(Reporte!D139,\" \",\"\")","v":""},7,"Chiapas",58,"Nicolás Ruíz"]
[null,null,{"$f":"SUBSTITUTE(Reporte!D140,\" \",\"\")","v":""},7,"Chiapas",59,"Ocosingo"]
[null,null,{"$f":"SUBSTITUTE(Reporte!D141,\" \",\"\")","v":""},7,"Chiapas",60,"Ocotepec"]
[null,null,{"$f":"SUBSTITUTE(Reporte!D142,\" \",\"\")","v":""},7,"Chiapas",61,"Ocozocoautla de Espinosa"]
[null,null,{"$f":"SUBSTITUTE(Reporte!D143,\" \",\"\")","v":""},7,"Chiapas",62,"Ostuacán"]
[null,null,{"$f":"SUBSTITUTE(Reporte!D144,\" \",\"\")","v":""},7,"Chiapas",63,"Osumacinta"]
[null,null,{"$f":"SUBSTITUTE(Reporte!D145,\" \",\"\")","v":""},7,"Chiapas",64,"Oxchuc"]
[null,null,{"$f":"SUBSTITUTE(Reporte!D146,\" \",\"\")","v":""},7,"Chiapas",65,"Palenque"]
[null,null,{"$f":"SUBSTITUTE(Reporte!D147,\" \",\"\")","v":""},7,"Chiapas",66,"Pantelhó"]
[null,null,{"$f":"SUBSTITUTE(Reporte!D148,\" \",\"\")","v":""},7,"Chiapas",67,"Pantepec"]
[null,null,{"$f":"SUBSTITUTE(Reporte!D149,\" \",\"\")","v":""},7,"Chiapas",68,"Pichucalco"]
[null,null,{"$f":"SUBSTITUTE(Reporte!D150,\" \",\"\")","v":""},7,"Chiapas",69,"Pijijiapan"]
[null,null,{"$f":"SUBSTITUTE(Reporte!D151,\" \",\"\")","v":""},7,"Chiapas",70,"El Porvenir"]
[null,null,{"$f":"SUBSTITUTE(Reporte!D152,\" \",\"\")","v":""},7,"Chiapas",71,"Villa Comaltitlán"]
[null,null,{"$f":"SUBSTITUTE(Reporte!D153,\" \",\"\")","v":""},7,"Chiapas",72,"Pueblo Nuevo Solistahuacán"]
[null,null,{"$f":"SUBSTITUTE(Reporte!D154,\" \",\"\")","v":""},7,"Chiapas",73,"Rayón"]
[null,null,{"$f":"SUBSTITUTE(Reporte!D155,\" \",\"\")","v":""},7,"Chiapas",74,"Reforma"]
[null,null,{"$f":"SUBSTITUTE(Reporte!D156,\" \",\"\")","v":""},7,"Chiapas",75,"Las Rosas"]
[null,null,{"$f":"SUBSTITUTE(Reporte!D157,\" \",\"\")","v":""},7,"Chiapas",76,"Sabanilla"]
[null,null,{"$f":"SUBSTITUTE(Reporte!D158,\" \",\"\")","v":""},7,"Chiapas",77,"Salto de Agua"]
[null,null,{"$f":"SUBSTITUTE(Reporte!D159,\" \",\"\")","v":""},7,"Chiapas",78,"San Cristóbal de las Casas"]
[null,null,{"$f":"SUBSTITUTE(Reporte!D160,\" \",\"\")","v":""},7,"Chiapas",79,"San Fernando"]
[null,null,{"$f":"SUBSTITUTE(Reporte!D161,\" \",\"\")","v":""},7,"Chiapas",80,"Siltepec"]
[null,null,{"$f":"SUBSTITUTE(Reporte!D162,\" \",\"\")","v":""},7,"Chiapas",81,"Simojovel"]
[null,null,{"$f":"SUBSTITUTE(Reporte!D163,\" \",\"\")","v":""},7,"Chiapas",82,"Sitalá"]
[null,null,{"$f":"SUBSTITUTE(Reporte!D164,\" \",\"\")","v":""},7,"Chiapas",83,"Socoltenango"]
[null,null,{"$f":"SUBSTITUTE(Reporte!D165,\" \",\"\")","v":""},7,"Chiapas",84,"Solosuchiapa"]
[null,null,{"$f":"SUBSTITUTE(Reporte!D166,\" \",\"\")","v":""},7,"Chiapas",85,"Soyaló"]
[null,null,{"$f":"SUBSTITUTE(Reporte!D167,\" \",\"\")","v":""},7,"Chiapas",86,"Suchiapa"]
[null,null,{"$f":"SUBSTITUTE(Reporte!D168,\" \",\"\")","v":""},7,"Chiapas",87,"Suchiate"]
[null,null,{"$f":"SUBSTITUTE(Reporte!D169,\" \",\"\")","v":""},7,"Chiapas",88,"Sunuapa"]
[null,null,{"$f":"SUBSTITUTE(Reporte!D170,\" \",\"\")","v":""},7,"Chiapas",89,"Tapachula"]
[null,null,{"$f":"SUBSTITUTE(Reporte!D171,\" \",\"\")","v":""},7,"Chiapas",90,"Tapalapa"]
[null,null,{"$f":"SUBSTITUTE(Reporte!D172,\" \",\"\")","v":""},7,"Chiapas",91,"Tapilula"]
[null,null,{"$f":"SUBSTITUTE(Reporte!D173,\" \",\"\")","v":""},7,"Chiapas",92,"Tecpatán"]
[null,null,{"$f":"SUBSTITUTE(Reporte!D174,\" \",\"\")","v":""},7,"Chiapas",93,"Tenejapa"]
[null,null,{"$f":"SUBSTITUTE(Reporte!D175,\" \",\"\")","v":""},7,"Chiapas",94,"Teopisca"]
[null,null,{"$f":"SUBSTITUTE(Reporte!D176,\" \",\"\")","v":""},7,"Chiapas",96,"Tila"]
[null,null,{"$f":"SUBSTITUTE(Reporte!D177,\" \",\"\")","v":""},7,"Chiapas",97,"Tonalá"]
[null,null,{"$f":"SUBSTITUTE(Reporte!D178,\" \",\"\")","v":""},7,"Chiapas",98,"Totolapa"]
[null,null,{"$f":"SUBSTITUTE(Reporte!D179,\" \",\"\")","v":""},7,"Chiapas",99,"La Trinitaria"]
[null,null,{"$f":"SUBSTITUTE(Reporte!D180,\" \",\"\")","v":""},7,"Chiapas",100,"Tumbalá"]
[null,null,{"$f":"SUBSTITUTE(Reporte!D181,\" \",\"\")","v":""},7,"Chiapas",101,"Tuxtla Gutiérrez"]
[null,null,{"$f":"SUBSTITUTE(Reporte!D182,\" \",\"\")","v":""},7,"Chiapas",102,"Tuxtla Chico"]
[null,null,{"$f":"SUBSTITUTE(Reporte!D183,\" \",\"\")","v":""},7,"Chiapas",103,"Tuzantán"]
[null,null,{"$f":"SUBSTITUTE(Reporte!D184,\" \",\"\")","v":""},7,"Chiapas",104,"Tzimol"]
[null,null,{"$f":"SUBSTITUTE(Reporte!D185,\" \",\"\")","v":""},7,"Chiapas",105,"Unión Juárez"]
[null,null,{"$f":"SUBSTITUTE(Reporte!D186,\" \",\"\")","v":""},7,"Chiapas",106,"Venustiano Carranza"]
[null,null,{"$f":"SUBSTITUTE(Reporte!D187,\" \",\"\")","v":""},7,"Chiapas",107,"Villa Corzo"]
[null,null,{"$f":"SUBSTITUTE(Reporte!D188,\" \",\"\")","v":""},7,"Chiapas",108,"Villaflores"]
[null,null,{"$f":"SUBSTITUTE(Reporte!D189,\" \",\"\")","v":""},7,"Chiapas",109,"Yajalón"]
[null,null,{"$f":"SUBSTITUTE(Reporte!D190,\" \",\"\")","v":""},7,"Chiapas",110,"San Lucas"]
[null,null,{"$f":"SUBSTITUTE(Reporte!D191,\" \",\"\")","v":""},7,"Chiapas",111,"Zinacantán"]
[null,null,{"$f":"SUBSTITUTE(Reporte!D192,\" \",\"\")","v":""},7,"Chiapas",112,"San Juan Cancuc"]
[null,null,{"$f":"SUBSTITUTE(Reporte!D193,\" \",\"\")","v":""},7,"Chiapas",113,"Aldama"]
[null,null,{"$f":"SUBSTITUTE(Reporte!D194,\" \",\"\")","v":""},7,"Chiapas",114,"Benemérito de las Américas"]
[null,null,{"$f":"SUBSTITUTE(Reporte!D195,\" \",\"\")","v":""},7,"Chiapas",115,"Maravilla Tenejapa"]
[null,null,{"$f":"SUBSTITUTE(Reporte!D196,\" \",\"\")","v":""},7,"Chiapas",116,"Marqués de Comillas"]
[null,null,{"$f":"SUBSTITUTE(Reporte!D197,\" \",\"\")","v":""},7,"Chiapas",117,"Montecristo de Guerrero"]
[null,null,{"$f":"SUBSTITUTE(Reporte!D198,\" \",\"\")","v":""},7,"Chiapas",118,"San Andrés Duraznal"]
[null,null,{"$f":"SUBSTITUTE(Reporte!D199,\" \",\"\")","v":""},7,"Chiapas",119,"Santiago el Pinar"]
[null,null,{"$f":"SUBSTITUTE(Reporte!D200,\" \",\"\")","v":""},7,"Chiapas",120,"Capitán Luis Ángel Vidal"]
[null,null,{"$f":"SUBSTITUTE(Reporte!D201,\" \",\"\")","v":""},7,"Chiapas",121,"Rincón Chamula San Pedro"]
[null,null,{"$f":"SUBSTITUTE(Reporte!D202,\" \",\"\")","v":""},8,"Chihuahua",67,"Valle de Zaragoza"]
[null,null,{"$f":"SUBSTITUTE(Reporte!D203,\" \",\"\")","v":""},8,"Chihuahua",66,"Uruachi"]
[null,null,{"$f":"SUBSTITUTE(Reporte!D204,\" \",\"\")","v":""},8,"Chihuahua",65,"Urique"]
[null,null,{"$f":"SUBSTITUTE(Reporte!D205,\" \",\"\")","v":""},8,"Chihuahua",64,"El Tule"]
[null,null,{"$f":"SUBSTITUTE(Reporte!D206,\" \",\"\")","v":""},8,"Chihuahua",63,"Temósachic"]
[null,null,{"$f":"SUBSTITUTE(Reporte!D207,\" \",\"\")","v":""},8,"Chihuahua",62,"Saucillo"]
[null,null,{"$f":"SUBSTITUTE(Reporte!D208,\" \",\"\")","v":""},8,"Chihuahua",61,"Satevó"]
[null,null,{"$f":"SUBSTITUTE(Reporte!D209,\" \",\"\")","v":""},8,"Chihuahua",60,"Santa Bárbara"]
[null,null,{"$f":"SUBSTITUTE(Reporte!D210,\" \",\"\")","v":""},8,"Chihuahua",59,"San Francisco del Oro"]
[null,null,{"$f":"SUBSTITUTE(Reporte!D211,\" \",\"\")","v":""},8,"Chihuahua",58,"San Francisco de Conchos"]
[null,null,{"$f":"SUBSTITUTE(Reporte!D212,\" \",\"\")","v":""},8,"Chihuahua",57,"San Francisco de Borja"]
[null,null,{"$f":"SUBSTITUTE(Reporte!D213,\" \",\"\")","v":""},8,"Chihuahua",56,"Rosario"]
[null,null,{"$f":"SUBSTITUTE(Reporte!D214,\" \",\"\")","v":""},8,"Chihuahua",55,"Rosales"]
[null,null,{"$f":"SUBSTITUTE(Reporte!D215,\" \",\"\")","v":""},8,"Chihuahua",54,"Riva Palacio"]
[null,null,{"$f":"SUBSTITUTE(Reporte!D216,\" \",\"\")","v":""},8,"Chihuahua",53,"Praxedis G. Guerrero"]
[null,null,{"$f":"SUBSTITUTE(Reporte!D217,\" \",\"\")","v":""},8,"Chihuahua",52,"Ojinaga"]
[null,null,{"$f":"SUBSTITUTE(Reporte!D218,\" \",\"\")","v":""},8,"Chihuahua",51,"Ocampo"]
[null,null,{"$f":"SUBSTITUTE(Reporte!D219,\" \",\"\")","v":""},8,"Chihuahua",50,"Nuevo Casas Grandes"]
[null,null,{"$f":"SUBSTITUTE(Reporte!D220,\" \",\"\")","v":""},8,"Chihuahua",49,"Nonoava"]
[null,null,{"$f":"SUBSTITUTE(Reporte!D221,\" \",\"\")","v":""},8,"Chihuahua",48,"Namiquipa"]
[null,null,{"$f":"SUBSTITUTE(Reporte!D222,\" \",\"\")","v":""},8,"Chihuahua",47,"Moris"]
[null,null,{"$f":"SUBSTITUTE(Reporte!D223,\" \",\"\")","v":""},8,"Chihuahua",46,"Morelos"]
[null,null,{"$f":"SUBSTITUTE(Reporte!D224,\" \",\"\")","v":""},8,"Chihuahua",45,"Meoqui"]
[null,null,{"$f":"SUBSTITUTE(Reporte!D225,\" \",\"\")","v":""},8,"Chihuahua",44,"Matamoros"]
[null,null,{"$f":"SUBSTITUTE(Reporte!D226,\" \",\"\")","v":""},8,"Chihuahua",43,"Matachí"]
[null,null,{"$f":"SUBSTITUTE(Reporte!D227,\" \",\"\")","v":""},8,"Chihuahua",42,"Manuel Benavides"]
[null,null,{"$f":"SUBSTITUTE(Reporte!D228,\" \",\"\")","v":""},8,"Chihuahua",41,"Maguarichi"]
[null,null,{"$f":"SUBSTITUTE(Reporte!D229,\" \",\"\")","v":""},8,"Chihuahua",40,"Madera"]
[null,null,{"$f":"SUBSTITUTE(Reporte!D230,\" \",\"\")","v":""},8,"Chihuahua",39,"López"]
[null,null,{"$f":"SUBSTITUTE(Reporte!D231,\" \",\"\")","v":""},8,"Chihuahua",31,"Guerrero"]
[null,null,{"$f":"SUBSTITUTE(Reporte!D232,\" \",\"\")","v":""},8,"Chihuahua",32,"Hidalgo del Parral"]
[null,null,{"$f":"SUBSTITUTE(Reporte!D233,\" \",\"\")","v":""},8,"Chihuahua",33,"Huejotitán"]
[null,null,{"$f":"SUBSTITUTE(Reporte!D234,\" \",\"\")","v":""},8,"Chihuahua",34,"Ignacio Zaragoza"]
[null,null,{"$f":"SUBSTITUTE(Reporte!D235,\" \",\"\")","v":""},8,"Chihuahua",35,"Janos"]
[null,null,{"$f":"SUBSTITUTE(Reporte!D236,\" \",\"\")","v":""},8,"Chihuahua",36,"Jiménez"]
[null,null,{"$f":"SUBSTITUTE(Reporte!D237,\" \",\"\")","v":""},8,"Chihuahua",37,"Juárez"]
[null,null,{"$f":"SUBSTITUTE(Reporte!D238,\" \",\"\")","v":""},8,"Chihuahua",38,"Julimes"]
[null,null,{"$f":"SUBSTITUTE(Reporte!D239,\" \",\"\")","v":""},8,"Chihuahua",15,"Coyame del Sotol"]
[null,null,{"$f":"SUBSTITUTE(Reporte!D240,\" \",\"\")","v":""},8,"Chihuahua",16,"La Cruz"]
[null,null,{"$f":"SUBSTITUTE(Reporte!D241,\" \",\"\")","v":""},8,"Chihuahua",17,"Cuauhtémoc"]
[null,null,{"$f":"SUBSTITUTE(Reporte!D242,\" \",\"\")","v":""},8,"Chihuahua",18,"Cusihuiriachi"]
[null,null,{"$f":"SUBSTITUTE(Reporte!D243,\" \",\"\")","v":""},8,"Chihuahua",19,"Chihuahua"]
[null,null,{"$f":"SUBSTITUTE(Reporte!D244,\" \",\"\")","v":""},8,"Chihuahua",20,"Chínipas"]
[null,null,{"$f":"SUBSTITUTE(Reporte!D245,\" \",\"\")","v":""},8,"Chihuahua",21,"Delicias"]
[null,null,{"$f":"SUBSTITUTE(Reporte!D246,\" \",\"\")","v":""},8,"Chihuahua",22,"Dr. Belisario Domínguez"]
[null,null,{"$f":"SUBSTITUTE(Reporte!D247,\" \",\"\")","v":""},8,"Chihuahua",23,"Galeana"]
[null,null,{"$f":"SUBSTITUTE(Reporte!D248,\" \",\"\")","v":""},8,"Chihuahua",24,"Santa Isabel"]
[null,null,{"$f":"SUBSTITUTE(Reporte!D249,\" \",\"\")","v":""},8,"Chihuahua",25,"Gómez Farías"]
[null,null,{"$f":"SUBSTITUTE(Reporte!D250,\" \",\"\")","v":""},8,"Chihuahua",26,"Gran Morelos"]
[null,null,{"$f":"SUBSTITUTE(Reporte!D251,\" \",\"\")","v":""},8,"Chihuahua",27,"Guachochi"]
[null,null,{"$f":"SUBSTITUTE(Reporte!D252,\" \",\"\")","v":""},8,"Chihuahua",28,"Guadalupe"]
[null,null,{"$f":"SUBSTITUTE(Reporte!D253,\" \",\"\")","v":""},8,"Chihuahua",29,"Guadalupe y Calvo"]
[null,null,{"$f":"SUBSTITUTE(Reporte!D254,\" \",\"\")","v":""},8,"Chihuahua",30,"Guazapares"]
[null,null,{"$f":"SUBSTITUTE(Reporte!D255,\" \",\"\")","v":""},8,"Chihuahua",11,"Camargo"]
[null,null,{"$f":"SUBSTITUTE(Reporte!D256,\" \",\"\")","v":""},8,"Chihuahua",12,"Carichí"]
[null,null,{"$f":"SUBSTITUTE(Reporte!D257,\" \",\"\")","v":""},8,"Chihuahua",13,"Casas Grandes"]
[null,null,{"$f":"SUBSTITUTE(Reporte!D258,\" \",\"\")","v":""},8,"Chihuahua",14,"Coronado"]
[null,null,{"$f":"SUBSTITUTE(Reporte!D259,\" \",\"\")","v":""},8,"Chihuahua",8,"Batopilas"]
[null,null,{"$f":"SUBSTITUTE(Reporte!D260,\" \",\"\")","v":""},8,"Chihuahua",7,"Balleza"]
[null,null,{"$f":"SUBSTITUTE(Reporte!D261,\" \",\"\")","v":""},8,"Chihuahua",9,"Bocoyna"]
[null,null,{"$f":"SUBSTITUTE(Reporte!D262,\" \",\"\")","v":""},8,"Chihuahua",10,"Buenaventura"]
[null,null,{"$f":"SUBSTITUTE(Reporte!D263,\" \",\"\")","v":""},8,"Chihuahua",1,"Ahumada"]
[null,null,{"$f":"SUBSTITUTE(Reporte!D264,\" \",\"\")","v":""},8,"Chihuahua",4,"Aquiles Serdán"]
[null,null,{"$f":"SUBSTITUTE(Reporte!D265,\" \",\"\")","v":""},8,"Chihuahua",5,"Ascensión"]
[null,null,{"$f":"SUBSTITUTE(Reporte!D266,\" \",\"\")","v":""},8,"Chihuahua",6,"Bachíniva"]
[null,null,{"$f":"SUBSTITUTE(Reporte!D267,\" \",\"\")","v":""},8,"Chihuahua",3,"Allende"]
[null,null,{"$f":"SUBSTITUTE(Reporte!D268,\" \",\"\")","v":""},8,"Chihuahua",2,"Aldama"]
[null,null,{"$f":"SUBSTITUTE(Reporte!D269,\" \",\"\")","v":""},9,"Ciudad de México",2,"Azcapotzalco"]
[null,null,{"$f":"SUBSTITUTE(Reporte!D270,\" \",\"\")","v":""},9,"Ciudad de México",3,"Coyoacán"]
[null,null,{"$f":"SUBSTITUTE(Reporte!D271,\" \",\"\")","v":""},9,"Ciudad de México",6,"Iztacalco"]
[null,null,{"$f":"SUBSTITUTE(Reporte!D272,\" \",\"\")","v":""},9,"Ciudad de México",5,"Gustavo A. Madero"]
[null,null,{"$f":"SUBSTITUTE(Reporte!D273,\" \",\"\")","v":""},9,"Ciudad de México",4,"Cuajimalpa de Morelos"]
[null,null,{"$f":"SUBSTITUTE(Reporte!D274,\" \",\"\")","v":""},9,"Ciudad de México",10,"Álvaro Obregón"]
[null,null,{"$f":"SUBSTITUTE(Reporte!D275,\" \",\"\")","v":""},9,"Ciudad de México",9,"Milpa Alta"]
[null,null,{"$f":"SUBSTITUTE(Reporte!D276,\" \",\"\")","v":""},9,"Ciudad de México",7,"Iztapalapa"]
[null,null,{"$f":"SUBSTITUTE(Reporte!D277,\" \",\"\")","v":""},9,"Ciudad de México",8,"La Magdalena Contreras"]
[null,null,{"$f":"SUBSTITUTE(Reporte!D278,\" \",\"\")","v":""},9,"Ciudad de México",14,"Benito Juárez"]
[null,null,{"$f":"SUBSTITUTE(Reporte!D279,\" \",\"\")","v":""},9,"Ciudad de México",13,"Xochimilco"]
[null,null,{"$f":"SUBSTITUTE(Reporte!D280,\" \",\"\")","v":""},9,"Ciudad de México",12,"Tlalpan"]
[null,null,{"$f":"SUBSTITUTE(Reporte!D281,\" \",\"\")","v":""},9,"Ciudad de México",11,"Tláhuac"]
[null,null,{"$f":"SUBSTITUTE(Reporte!D282,\" \",\"\")","v":""},9,"Ciudad de México",17,"Venustiano Carranza"]
[null,null,{"$f":"SUBSTITUTE(Reporte!D283,\" \",\"\")","v":""},9,"Ciudad de México",16,"Miguel Hidalgo"]
[null,null,{"$f":"SUBSTITUTE(Reporte!D284,\" \",\"\")","v":""},9,"Ciudad de México",15,"Cuauhtémoc"]
[null,null,{"$f":"SUBSTITUTE(Reporte!D285,\" \",\"\")","v":""},10,"Durango",15,"Nazas"]
[null,null,{"$f":"SUBSTITUTE(Reporte!D286,\" \",\"\")","v":""},10,"Durango",16,"Nombre de Dios"]
[null,null,{"$f":"SUBSTITUTE(Reporte!D287,\" \",\"\")","v":""},10,"Durango",17,"Ocampo"]
[null,null,{"$f":"SUBSTITUTE(Reporte!D288,\" \",\"\")","v":""},10,"Durango",18,"El Oro"]
[null,null,{"$f":"SUBSTITUTE(Reporte!D289,\" \",\"\")","v":""},10,"Durango",22,"Poanas"]
[null,null,{"$f":"SUBSTITUTE(Reporte!D290,\" \",\"\")","v":""},10,"Durango",21,"Peñón Blanco"]
[null,null,{"$f":"SUBSTITUTE(Reporte!D291,\" \",\"\")","v":""},10,"Durango",20,"Pánuco de Coronado"]
[null,null,{"$f":"SUBSTITUTE(Reporte!D292,\" \",\"\")","v":""},10,"Durango",19,"Otáez"]
[null,null,{"$f":"SUBSTITUTE(Reporte!D293,\" \",\"\")","v":""},10,"Durango",30,"San Pedro del Gallo"]
[null,null,{"$f":"SUBSTITUTE(Reporte!D294,\" \",\"\")","v":""},10,"Durango",29,"San Luis del Cordero"]
[null,null,{"$f":"SUBSTITUTE(Reporte!D295,\" \",\"\")","v":""},10,"Durango",28,"San Juan del Río"]
[null,null,{"$f":"SUBSTITUTE(Reporte!D296,\" \",\"\")","v":""},10,"Durango",27,"San Juan de Guadalupe"]
[null,null,{"$f":"SUBSTITUTE(Reporte!D297,\" \",\"\")","v":""},10,"Durango",26,"San Dimas"]
[null,null,{"$f":"SUBSTITUTE(Reporte!D298,\" \",\"\")","v":""},10,"Durango",25,"San Bernardo"]
[null,null,{"$f":"SUBSTITUTE(Reporte!D299,\" \",\"\")","v":""},10,"Durango",24,"Rodeo"]
[null,null,{"$f":"SUBSTITUTE(Reporte!D300,\" \",\"\")","v":""},10,"Durango",23,"Pueblo Nuevo"]
[null,null,{"$f":"SUBSTITUTE(Reporte!D301,\" \",\"\")","v":""},10,"Durango",11,"Indé"]
[null,null,{"$f":"SUBSTITUTE(Reporte!D302,\" \",\"\")","v":""},10,"Durango",12,"Lerdo"]
[null,null,{"$f":"SUBSTITUTE(Reporte!D303,\" \",\"\")","v":""},10,"Durango",13,"Mapimí"]
[null,null,{"$f":"SUBSTITUTE(Reporte!D304,\" \",\"\")","v":""},10,"Durango",14,"Mezquital"]
[null,null,{"$f":"SUBSTITUTE(Reporte!D305,\" \",\"\")","v":""},10,"Durango",8,"Guadalupe Victoria"]
[null,null,{"$f":"SUBSTITUTE(Reporte!D306,\" \",\"\")","v":""},10,"Durango",7,"Gómez Palacio"]
[null,null,{"$f":"SUBSTITUTE(Reporte!D307,\" \",\"\")","v":""},10,"Durango",9,"Guanaceví"]
[null,null,{"$f":"SUBSTITUTE(Reporte!D308,\" \",\"\")","v":""},10,"Durango",10,"Hidalgo"]
[null,null,{"$f":"SUBSTITUTE(Reporte!D309,\" \",\"\")","v":""},10,"Durango",4,"Cuencamé"]
[null,null,{"$f":"SUBSTITUTE(Reporte!D310,\" \",\"\")","v":""},10,"Durango",1,"Canatlán"]
[null,null,{"$f":"SUBSTITUTE(Reporte!D311,\" \",\"\")","v":""},10,"Durango",5,"Durango"]
[null,null,{"$f":"SUBSTITUTE(Reporte!D312,\" \",\"\")","v":""},10,"Durango",6,"General Simón Bolívar"]
[null,null,{"$f":"SUBSTITUTE(Reporte!D313,\" \",\"\")","v":""},10,"Durango",3,"Coneto de Comonfort"]
[null,null,{"$f":"SUBSTITUTE(Reporte!D314,\" \",\"\")","v":""},10,"Durango",2,"Canelas"]
[null,null,{"$f":"SUBSTITUTE(Reporte!D315,\" \",\"\")","v":""},10,"Durango",38,"Vicente Guerrero"]
[null,null,{"$f":"SUBSTITUTE(Reporte!D316,\" \",\"\")","v":""},10,"Durango",37,"Topia"]
[null,null,{"$f":"SUBSTITUTE(Reporte!D317,\" \",\"\")","v":""},10,"Durango",36,"Tlahualilo"]
[null,null,{"$f":"SUBSTITUTE(Reporte!D318,\" \",\"\")","v":""},10,"Durango",35,"Tepehuanes"]
[null,null,{"$f":"SUBSTITUTE(Reporte!D319,\" \",\"\")","v":""},10,"Durango",34,"Tamazula"]
[null,null,{"$f":"SUBSTITUTE(Reporte!D320,\" \",\"\")","v":""},10,"Durango",33,"Súchil"]
[null,null,{"$f":"SUBSTITUTE(Reporte!D321,\" \",\"\")","v":""},10,"Durango",32,"Santiago Papasquiaro"]
[null,null,{"$f":"SUBSTITUTE(Reporte!D322,\" \",\"\")","v":""},10,"Durango",31,"Santa Clara"]
[null,null,{"$f":"SUBSTITUTE(Reporte!D323,\" \",\"\")","v":""},10,"Durango",39,"Nuevo Ideal"]
[null,null,{"$f":"SUBSTITUTE(Reporte!D324,\" \",\"\")","v":""},11,"Guanajuato",39,"Tarimoro"]
[null,null,{"$f":"SUBSTITUTE(Reporte!D325,\" \",\"\")","v":""},11,"Guanajuato",40,"Tierra Blanca"]
[null,null,{"$f":"SUBSTITUTE(Reporte!D326,\" \",\"\")","v":""},11,"Guanajuato",41,"Uriangato"]
[null,null,{"$f":"SUBSTITUTE(Reporte!D327,\" \",\"\")","v":""},11,"Guanajuato",42,"Valle de Santiago"]
[null,null,{"$f":"SUBSTITUTE(Reporte!D328,\" \",\"\")","v":""},11,"Guanajuato",43,"Victoria"]
[null,null,{"$f":"SUBSTITUTE(Reporte!D329,\" \",\"\")","v":""},11,"Guanajuato",44,"Villagrán"]
[null,null,{"$f":"SUBSTITUTE(Reporte!D330,\" \",\"\")","v":""},11,"Guanajuato",45,"Xichú"]
[null,null,{"$f":"SUBSTITUTE(Reporte!D331,\" \",\"\")","v":""},11,"Guanajuato",46,"Yuriria"]
[null,null,{"$f":"SUBSTITUTE(Reporte!D332,\" \",\"\")","v":""},11,"Guanajuato",31,"San Francisco del Rincón"]
[null,null,{"$f":"SUBSTITUTE(Reporte!D333,\" \",\"\")","v":""},11,"Guanajuato",32,"San José Iturbide"]
[null,null,{"$f":"SUBSTITUTE(Reporte!D334,\" \",\"\")","v":""},11,"Guanajuato",33,"San Luis de la Paz"]
[null,null,{"$f":"SUBSTITUTE(Reporte!D335,\" \",\"\")","v":""},11,"Guanajuato",34,"Santa Catarina"]
[null,null,{"$f":"SUBSTITUTE(Reporte!D336,\" \",\"\")","v":""},11,"Guanajuato",35,"Santa Cruz de Juventino Rosas"]
[null,null,{"$f":"SUBSTITUTE(Reporte!D337,\" \",\"\")","v":""},11,"Guanajuato",36,"Santiago Maravatío"]
[null,null,{"$f":"SUBSTITUTE(Reporte!D338,\" \",\"\")","v":""},11,"Guanajuato",37,"Silao de la Victoria"]
[null,null,{"$f":"SUBSTITUTE(Reporte!D339,\" \",\"\")","v":""},11,"Guanajuato",38,"Tarandacuao"]
[null,null,{"$f":"SUBSTITUTE(Reporte!D340,\" \",\"\")","v":""},11,"Guanajuato",2,"Acámbaro"]
[null,null,{"$f":"SUBSTITUTE(Reporte!D341,\" \",\"\")","v":""},11,"Guanajuato",3,"San Miguel de Allende"]
[null,null,{"$f":"SUBSTITUTE(Reporte!D342,\" \",\"\")","v":""},11,"Guanajuato",6,"Atarjea"]
[null,null,{"$f":"SUBSTITUTE(Reporte!D343,\" \",\"\")","v":""},11,"Guanajuato",5,"Apaseo el Grande"]
[null,null,{"$f":"SUBSTITUTE(Reporte!D344,\" \",\"\")","v":""},11,"Guanajuato",1,"Abasolo"]
[null,null,{"$f":"SUBSTITUTE(Reporte!D345,\" \",\"\")","v":""},11,"Guanajuato",4,"Apaseo el Alto"]
[null,null,{"$f":"SUBSTITUTE(Reporte!D346,\" \",\"\")","v":""},11,"Guanajuato",10,"Coroneo"]
[null,null,{"$f":"SUBSTITUTE(Reporte!D347,\" \",\"\")","v":""},11,"Guanajuato",9,"Comonfort"]
[null,null,{"$f":"SUBSTITUTE(Reporte!D348,\" \",\"\")","v":""},11,"Guanajuato",7,"Celaya"]
[null,null,{"$f":"SUBSTITUTE(Reporte!D349,\" \",\"\")","v":""},11,"Guanajuato",8,"Manuel Doblado"]
[null,null,{"$f":"SUBSTITUTE(Reporte!D350,\" \",\"\")","v":""},11,"Guanajuato",14,"Dolores Hidalgo Cuna de la Independencia Nacional"]
[null,null,{"$f":"SUBSTITUTE(Reporte!D351,\" \",\"\")","v":""},11,"Guanajuato",13,"Doctor Mora"]
[null,null,{"$f":"SUBSTITUTE(Reporte!D352,\" \",\"\")","v":""},11,"Guanajuato",12,"Cuerámaro"]
[null,null,{"$f":"SUBSTITUTE(Reporte!D353,\" \",\"\")","v":""},11,"Guanajuato",11,"Cortazar"]
[null,null,{"$f":"SUBSTITUTE(Reporte!D354,\" \",\"\")","v":""},11,"Guanajuato",23,"Pénjamo"]
[null,null,{"$f":"SUBSTITUTE(Reporte!D355,\" \",\"\")","v":""},11,"Guanajuato",24,"Pueblo Nuevo"]
[null,null,{"$f":"SUBSTITUTE(Reporte!D356,\" \",\"\")","v":""},11,"Guanajuato",25,"Purísima del Rincón"]
[null,null,{"$f":"SUBSTITUTE(Reporte!D357,\" \",\"\")","v":""},11,"Guanajuato",26,"Romita"]
[null,null,{"$f":"SUBSTITUTE(Reporte!D358,\" \",\"\")","v":""},11,"Guanajuato",27,"Salamanca"]
[null,null,{"$f":"SUBSTITUTE(Reporte!D359,\" \",\"\")","v":""},11,"Guanajuato",28,"Salvatierra"]
[null,null,{"$f":"SUBSTITUTE(Reporte!D360,\" \",\"\")","v":""},11,"Guanajuato",29,"San Diego de la Unión"]
[null,null,{"$f":"SUBSTITUTE(Reporte!D361,\" \",\"\")","v":""},11,"Guanajuato",30,"San Felipe"]
[null,null,{"$f":"SUBSTITUTE(Reporte!D362,\" \",\"\")","v":""},11,"Guanajuato",19,"Jerécuaro"]
[null,null,{"$f":"SUBSTITUTE(Reporte!D363,\" \",\"\")","v":""},11,"Guanajuato",20,"León"]
[null,null,{"$f":"SUBSTITUTE(Reporte!D364,\" \",\"\")","v":""},11,"Guanajuato",21,"Moroleón"]
[null,null,{"$f":"SUBSTITUTE(Reporte!D365,\" \",\"\")","v":""},11,"Guanajuato",22,"Ocampo"]
[null,null,{"$f":"SUBSTITUTE(Reporte!D366,\" \",\"\")","v":""},11,"Guanajuato",18,"Jaral del Progreso"]
[null,null,{"$f":"SUBSTITUTE(Reporte!D367,\" \",\"\")","v":""},11,"Guanajuato",17,"Irapuato"]
[null,null,{"$f":"SUBSTITUTE(Reporte!D368,\" \",\"\")","v":""},11,"Guanajuato",16,"Huanímaro"]
[null,null,{"$f":"SUBSTITUTE(Reporte!D369,\" \",\"\")","v":""},11,"Guanajuato",15,"Guanajuato"]
[null,null,{"$f":"SUBSTITUTE(Reporte!D370,\" \",\"\")","v":""},12,"Guerrero",15,"Buenavista de Cuéllar"]
[null,null,{"$f":"SUBSTITUTE(Reporte!D371,\" \",\"\")","v":""},12,"Guerrero",16,"Coahuayutla de José María Izazaga"]
[null,null,{"$f":"SUBSTITUTE(Reporte!D372,\" \",\"\")","v":""},12,"Guerrero",17,"Cocula"]
[null,null,{"$f":"SUBSTITUTE(Reporte!D373,\" \",\"\")","v":""},12,"Guerrero",18,"Copala"]
[null,null,{"$f":"SUBSTITUTE(Reporte!D374,\" \",\"\")","v":""},12,"Guerrero",22,"Coyuca de Catalán"]
[null,null,{"$f":"SUBSTITUTE(Reporte!D375,\" \",\"\")","v":""},12,"Guerrero",21,"Coyuca de Benítez"]
[null,null,{"$f":"SUBSTITUTE(Reporte!D376,\" \",\"\")","v":""},12,"Guerrero",20,"Copanatoyac"]
[null,null,{"$f":"SUBSTITUTE(Reporte!D377,\" \",\"\")","v":""},12,"Guerrero",19,"Copalillo"]
[null,null,{"$f":"SUBSTITUTE(Reporte!D378,\" \",\"\")","v":""},12,"Guerrero",30,"Florencio Villarreal"]
[null,null,{"$f":"SUBSTITUTE(Reporte!D379,\" \",\"\")","v":""},12,"Guerrero",29,"Chilpancingo de los Bravo"]
[null,null,{"$f":"SUBSTITUTE(Reporte!D380,\" \",\"\")","v":""},12,"Guerrero",28,"Chilapa de Álvarez"]
[null,null,{"$f":"SUBSTITUTE(Reporte!D381,\" \",\"\")","v":""},12,"Guerrero",27,"Cutzamala de Pinzón"]
[null,null,{"$f":"SUBSTITUTE(Reporte!D382,\" \",\"\")","v":""},12,"Guerrero",26,"Cuetzala del Progreso"]
[null,null,{"$f":"SUBSTITUTE(Reporte!D383,\" \",\"\")","v":""},12,"Guerrero",25,"Cuautepec"]
[null,null,{"$f":"SUBSTITUTE(Reporte!D384,\" \",\"\")","v":""},12,"Guerrero",24,"Cualác"]
[null,null,{"$f":"SUBSTITUTE(Reporte!D385,\" \",\"\")","v":""},12,"Guerrero",23,"Cuajinicuilapa"]
[null,null,{"$f":"SUBSTITUTE(Reporte!D386,\" \",\"\")","v":""},12,"Guerrero",11,"Atoyac de Álvarez"]
[null,null,{"$f":"SUBSTITUTE(Reporte!D387,\" \",\"\")","v":""},12,"Guerrero",12,"Ayutla de los Libres"]
[null,null,{"$f":"SUBSTITUTE(Reporte!D388,\" \",\"\")","v":""},12,"Guerrero",13,"Azoyú"]
[null,null,{"$f":"SUBSTITUTE(Reporte!D389,\" \",\"\")","v":""},12,"Guerrero",14,"Benito Juárez"]
[null,null,{"$f":"SUBSTITUTE(Reporte!D390,\" \",\"\")","v":""},12,"Guerrero",8,"Atenango del Río"]
[null,null,{"$f":"SUBSTITUTE(Reporte!D391,\" \",\"\")","v":""},12,"Guerrero",7,"Arcelia"]
[null,null,{"$f":"SUBSTITUTE(Reporte!D392,\" \",\"\")","v":""},12,"Guerrero",9,"Atlamajalcingo del Monte"]
[null,null,{"$f":"SUBSTITUTE(Reporte!D393,\" \",\"\")","v":""},12,"Guerrero",10,"Atlixtac"]
[null,null,{"$f":"SUBSTITUTE(Reporte!D394,\" \",\"\")","v":""},12,"Guerrero",4,"Alcozauca de Guerrero"]
[null,null,{"$f":"SUBSTITUTE(Reporte!D395,\" \",\"\")","v":""},12,"Guerrero",1,"Acapulco de Juárez"]
[null,null,{"$f":"SUBSTITUTE(Reporte!D396,\" \",\"\")","v":""},12,"Guerrero",5,"Alpoyeca"]
[null,null,{"$f":"SUBSTITUTE(Reporte!D397,\" \",\"\")","v":""},12,"Guerrero",6,"Apaxtla"]
[null,null,{"$f":"SUBSTITUTE(Reporte!D398,\" \",\"\")","v":""},12,"Guerrero",3,"Ajuchitlán del Progreso"]
[null,null,{"$f":"SUBSTITUTE(Reporte!D399,\" \",\"\")","v":""},12,"Guerrero",2,"Ahuacuotzingo"]
[null,null,{"$f":"SUBSTITUTE(Reporte!D400,\" \",\"\")","v":""},12,"Guerrero",38,"Zihuatanejo de Azueta"]
[null,null,{"$f":"SUBSTITUTE(Reporte!D401,\" \",\"\")","v":""},12,"Guerrero",37,"Ixcateopan de Cuauhtémoc"]
[null,null,{"$f":"SUBSTITUTE(Reporte!D402,\" \",\"\")","v":""},12,"Guerrero",36,"Igualapa"]
[null,null,{"$f":"SUBSTITUTE(Reporte!D403,\" \",\"\")","v":""},12,"Guerrero",35,"Iguala de la Independencia"]
[null,null,{"$f":"SUBSTITUTE(Reporte!D404,\" \",\"\")","v":""},12,"Guerrero",34,"Huitzuco de los Figueroa"]
[null,null,{"$f":"SUBSTITUTE(Reporte!D405,\" \",\"\")","v":""},12,"Guerrero",33,"Huamuxtitlán"]
[null,null,{"$f":"SUBSTITUTE(Reporte!D406,\" \",\"\")","v":""},12,"Guerrero",32,"General Heliodoro Castillo"]
[null,null,{"$f":"SUBSTITUTE(Reporte!D407,\" \",\"\")","v":""},12,"Guerrero",31,"General Canuto A. Neri"]
[null,null,{"$f":"SUBSTITUTE(Reporte!D408,\" \",\"\")","v":""},12,"Guerrero",46,"Ometepec"]
[null,null,{"$f":"SUBSTITUTE(Reporte!D409,\" \",\"\")","v":""},12,"Guerrero",45,"Olinalá"]
[null,null,{"$f":"SUBSTITUTE(Reporte!D410,\" \",\"\")","v":""},12,"Guerrero",44,"Mochitlán"]
[null,null,{"$f":"SUBSTITUTE(Reporte!D411,\" \",\"\")","v":""},12,"Guerrero",43,"Metlatónoc"]
[null,null,{"$f":"SUBSTITUTE(Reporte!D412,\" \",\"\")","v":""},12,"Guerrero",42,"Mártir de Cuilapan"]
[null,null,{"$f":"SUBSTITUTE(Reporte!D413,\" \",\"\")","v":""},12,"Guerrero",41,"Malinaltepec"]
[null,null,{"$f":"SUBSTITUTE(Reporte!D414,\" \",\"\")","v":""},12,"Guerrero",40,"Leonardo Bravo"]
[null,null,{"$f":"SUBSTITUTE(Reporte!D415,\" \",\"\")","v":""},12,"Guerrero",39,"Juan R. Escudero"]
[null,null,{"$f":"SUBSTITUTE(Reporte!D416,\" \",\"\")","v":""},12,"Guerrero",47,"Pedro Ascencio Alquisiras"]
[null,null,{"$f":"SUBSTITUTE(Reporte!D417,\" \",\"\")","v":""},12,"Guerrero",48,"Petatlán"]
[null,null,{"$f":"SUBSTITUTE(Reporte!D418,\" \",\"\")","v":""},12,"Guerrero",49,"Pilcaya"]
[null,null,{"$f":"SUBSTITUTE(Reporte!D419,\" \",\"\")","v":""},12,"Guerrero",50,"Pungarabato"]
[null,null,{"$f":"SUBSTITUTE(Reporte!D420,\" \",\"\")","v":""},12,"Guerrero",51,"Quechultenango"]
[null,null,{"$f":"SUBSTITUTE(Reporte!D421,\" \",\"\")","v":""},12,"Guerrero",52,"San Luis Acatlán"]
[null,null,{"$f":"SUBSTITUTE(Reporte!D422,\" \",\"\")","v":""},12,"Guerrero",53,"San Marcos"]
[null,null,{"$f":"SUBSTITUTE(Reporte!D423,\" \",\"\")","v":""},12,"Guerrero",54,"San Miguel Totolapan"]
[null,null,{"$f":"SUBSTITUTE(Reporte!D424,\" \",\"\")","v":""},12,"Guerrero",55,"Taxco de Alarcón"]
[null,null,{"$f":"SUBSTITUTE(Reporte!D425,\" \",\"\")","v":""},12,"Guerrero",56,"Tecoanapa"]
[null,null,{"$f":"SUBSTITUTE(Reporte!D426,\" \",\"\")","v":""},12,"Guerrero",57,"Técpan de Galeana"]
[null,null,{"$f":"SUBSTITUTE(Reporte!D427,\" \",\"\")","v":""},12,"Guerrero",58,"Teloloapan"]
[null,null,{"$f":"SUBSTITUTE(Reporte!D428,\" \",\"\")","v":""},12,"Guerrero",59,"Tepecoacuilco de Trujano"]
[null,null,{"$f":"SUBSTITUTE(Reporte!D429,\" \",\"\")","v":""},12,"Guerrero",60,"Tetipac"]
[null,null,{"$f":"SUBSTITUTE(Reporte!D430,\" \",\"\")","v":""},12,"Guerrero",61,"Tixtla de Guerrero"]
[null,null,{"$f":"SUBSTITUTE(Reporte!D431,\" \",\"\")","v":""},12,"Guerrero",62,"Tlacoachistlahuaca"]
[null,null,{"$f":"SUBSTITUTE(Reporte!D432,\" \",\"\")","v":""},12,"Guerrero",63,"Tlacoapa"]
[null,null,{"$f":"SUBSTITUTE(Reporte!D433,\" \",\"\")","v":""},12,"Guerrero",64,"Tlalchapa"]
[null,null,{"$f":"SUBSTITUTE(Reporte!D434,\" \",\"\")","v":""},12,"Guerrero",65,"Tlalixtaquilla de Maldonado"]
[null,null,{"$f":"SUBSTITUTE(Reporte!D435,\" \",\"\")","v":""},12,"Guerrero",66,"Tlapa de Comonfort"]
[null,null,{"$f":"SUBSTITUTE(Reporte!D436,\" \",\"\")","v":""},12,"Guerrero",67,"Tlapehuala"]
[null,null,{"$f":"SUBSTITUTE(Reporte!D437,\" \",\"\")","v":""},12,"Guerrero",69,"Xalpatláhuac"]
[null,null,{"$f":"SUBSTITUTE(Reporte!D438,\" \",\"\")","v":""},12,"Guerrero",68,"La Unión de Isidoro Montes de Oca"]
[null,null,{"$f":"SUBSTITUTE(Reporte!D439,\" \",\"\")","v":""},12,"Guerrero",73,"Zirándaro"]
[null,null,{"$f":"SUBSTITUTE(Reporte!D440,\" \",\"\")","v":""},12,"Guerrero",72,"Zapotitlán Tablas"]
[null,null,{"$f":"SUBSTITUTE(Reporte!D441,\" \",\"\")","v":""},12,"Guerrero",71,"Xochistlahuaca"]
[null,null,{"$f":"SUBSTITUTE(Reporte!D442,\" \",\"\")","v":""},12,"Guerrero",70,"Xochihuehuetlán"]
[null,null,{"$f":"SUBSTITUTE(Reporte!D443,\" \",\"\")","v":""},12,"Guerrero",81,"Iliatenco"]
[null,null,{"$f":"SUBSTITUTE(Reporte!D444,\" \",\"\")","v":""},12,"Guerrero",80,"Juchitán"]
[null,null,{"$f":"SUBSTITUTE(Reporte!D445,\" \",\"\")","v":""},12,"Guerrero",79,"José Joaquín de Herrera"]
[null,null,{"$f":"SUBSTITUTE(Reporte!D446,\" \",\"\")","v":""},12,"Guerrero",78,"Cochoapa el Grande"]
[null,null,{"$f":"SUBSTITUTE(Reporte!D447,\" \",\"\")","v":""},12,"Guerrero",77,"Marquelia"]
[null,null,{"$f":"SUBSTITUTE(Reporte!D448,\" \",\"\")","v":""},12,"Guerrero",76,"Acatepec"]
[null,null,{"$f":"SUBSTITUTE(Reporte!D449,\" \",\"\")","v":""},12,"Guerrero",75,"Eduardo Neri"]
[null,null,{"$f":"SUBSTITUTE(Reporte!D450,\" \",\"\")","v":""},12,"Guerrero",74,"Zitlala"]
[null,null,{"$f":"SUBSTITUTE(Reporte!D451,\" \",\"\")","v":""},13,"Hidalgo",74,"Tlaxcoapan"]
[null,null,{"$f":"SUBSTITUTE(Reporte!D452,\" \",\"\")","v":""},13,"Hidalgo",75,"Tolcayuca"]
[null,null,{"$f":"SUBSTITUTE(Reporte!D453,\" \",\"\")","v":""},13,"Hidalgo",76,"Tula de Allende"]
[null,null,{"$f":"SUBSTITUTE(Reporte!D454,\" \",\"\")","v":""},13,"Hidalgo",77,"Tulancingo de Bravo"]
[null,null,{"$f":"SUBSTITUTE(Reporte!D455,\" \",\"\")","v":""},13,"Hidalgo",78,"Xochiatipan"]
[null,null,{"$f":"SUBSTITUTE(Reporte!D456,\" \",\"\")","v":""},13,"Hidalgo",79,"Xochicoatlán"]
[null,null,{"$f":"SUBSTITUTE(Reporte!D457,\" \",\"\")","v":""},13,"Hidalgo",80,"Yahualica"]
[null,null,{"$f":"SUBSTITUTE(Reporte!D458,\" \",\"\")","v":""},13,"Hidalgo",81,"Zacualtipán de Ángeles"]
[null,null,{"$f":"SUBSTITUTE(Reporte!D459,\" \",\"\")","v":""},13,"Hidalgo",84,"Zimapán"]
[null,null,{"$f":"SUBSTITUTE(Reporte!D460,\" \",\"\")","v":""},13,"Hidalgo",83,"Zempoala"]
[null,null,{"$f":"SUBSTITUTE(Reporte!D461,\" \",\"\")","v":""},13,"Hidalgo",82,"Zapotlán de Juárez"]
[null,null,{"$f":"SUBSTITUTE(Reporte!D462,\" \",\"\")","v":""},13,"Hidalgo",70,"Tlahuelilpan"]
[null,null,{"$f":"SUBSTITUTE(Reporte!D463,\" \",\"\")","v":""},13,"Hidalgo",71,"Tlahuiltepa"]
[null,null,{"$f":"SUBSTITUTE(Reporte!D464,\" \",\"\")","v":""},13,"Hidalgo",72,"Tlanalapa"]
[null,null,{"$f":"SUBSTITUTE(Reporte!D465,\" \",\"\")","v":""},13,"Hidalgo",73,"Tlanchinol"]
[null,null,{"$f":"SUBSTITUTE(Reporte!D466,\" \",\"\")","v":""},13,"Hidalgo",68,"Tianguistengo"]
[null,null,{"$f":"SUBSTITUTE(Reporte!D467,\" \",\"\")","v":""},13,"Hidalgo",69,"Tizayuca"]
[null,null,{"$f":"SUBSTITUTE(Reporte!D468,\" \",\"\")","v":""},13,"Hidalgo",67,"Tezontepec de Aldama"]
[null,null,{"$f":"SUBSTITUTE(Reporte!D469,\" \",\"\")","v":""},13,"Hidalgo",66,"Villa de Tezontepec"]
[null,null,{"$f":"SUBSTITUTE(Reporte!D470,\" \",\"\")","v":""},13,"Hidalgo",65,"Tetepango"]
[null,null,{"$f":"SUBSTITUTE(Reporte!D471,\" \",\"\")","v":""},13,"Hidalgo",64,"Tepetitlán"]
[null,null,{"$f":"SUBSTITUTE(Reporte!D472,\" \",\"\")","v":""},13,"Hidalgo",63,"Tepeji del Río de Ocampo"]
[null,null,{"$f":"SUBSTITUTE(Reporte!D473,\" \",\"\")","v":""},13,"Hidalgo",62,"Tepehuacán de Guerrero"]
[null,null,{"$f":"SUBSTITUTE(Reporte!D474,\" \",\"\")","v":""},13,"Hidalgo",61,"Tepeapulco"]
[null,null,{"$f":"SUBSTITUTE(Reporte!D475,\" \",\"\")","v":""},13,"Hidalgo",60,"Tenango de Doria"]
[null,null,{"$f":"SUBSTITUTE(Reporte!D476,\" \",\"\")","v":""},13,"Hidalgo",59,"Tecozautla"]
[null,null,{"$f":"SUBSTITUTE(Reporte!D477,\" \",\"\")","v":""},13,"Hidalgo",58,"Tasquillo"]
[null,null,{"$f":"SUBSTITUTE(Reporte!D478,\" \",\"\")","v":""},13,"Hidalgo",57,"Singuilucan"]
[null,null,{"$f":"SUBSTITUTE(Reporte!D479,\" \",\"\")","v":""},13,"Hidalgo",56,"Santiago Tulantepec de Lugo Guerrero"]
[null,null,{"$f":"SUBSTITUTE(Reporte!D480,\" \",\"\")","v":""},13,"Hidalgo",55,"Santiago de Anaya"]
[null,null,{"$f":"SUBSTITUTE(Reporte!D481,\" \",\"\")","v":""},13,"Hidalgo",54,"San Salvador"]
[null,null,{"$f":"SUBSTITUTE(Reporte!D482,\" \",\"\")","v":""},13,"Hidalgo",53,"San Bartolo Tutotepec"]
[null,null,{"$f":"SUBSTITUTE(Reporte!D483,\" \",\"\")","v":""},13,"Hidalgo",52,"San Agustín Tlaxiaca"]
[null,null,{"$f":"SUBSTITUTE(Reporte!D484,\" \",\"\")","v":""},13,"Hidalgo",51,"Mineral de la Reforma"]
[null,null,{"$f":"SUBSTITUTE(Reporte!D485,\" \",\"\")","v":""},13,"Hidalgo",50,"Progreso de Obregón"]
[null,null,{"$f":"SUBSTITUTE(Reporte!D486,\" \",\"\")","v":""},13,"Hidalgo",49,"Pisaflores"]
[null,null,{"$f":"SUBSTITUTE(Reporte!D487,\" \",\"\")","v":""},13,"Hidalgo",48,"Pachuca de Soto"]
[null,null,{"$f":"SUBSTITUTE(Reporte!D488,\" \",\"\")","v":""},13,"Hidalgo",47,"Pacula"]
[null,null,{"$f":"SUBSTITUTE(Reporte!D489,\" \",\"\")","v":""},13,"Hidalgo",39,"Mineral del Monte"]
[null,null,{"$f":"SUBSTITUTE(Reporte!D490,\" \",\"\")","v":""},13,"Hidalgo",40,"La Misión"]
[null,null,{"$f":"SUBSTITUTE(Reporte!D491,\" \",\"\")","v":""},13,"Hidalgo",41,"Mixquiahuala de Juárez"]
[null,null,{"$f":"SUBSTITUTE(Reporte!D492,\" \",\"\")","v":""},13,"Hidalgo",42,"Molango de Escamilla"]
[null,null,{"$f":"SUBSTITUTE(Reporte!D493,\" \",\"\")","v":""},13,"Hidalgo",43,"Nicolás Flores"]
[null,null,{"$f":"SUBSTITUTE(Reporte!D494,\" \",\"\")","v":""},13,"Hidalgo",44,"Nopala de Villagrán"]
[null,null,{"$f":"SUBSTITUTE(Reporte!D495,\" \",\"\")","v":""},13,"Hidalgo",45,"Omitlán de Juárez"]
[null,null,{"$f":"SUBSTITUTE(Reporte!D496,\" \",\"\")","v":""},13,"Hidalgo",46,"San Felipe Orizatlán"]
[null,null,{"$f":"SUBSTITUTE(Reporte!D497,\" \",\"\")","v":""},13,"Hidalgo",31,"Jacala de Ledezma"]
[null,null,{"$f":"SUBSTITUTE(Reporte!D498,\" \",\"\")","v":""},13,"Hidalgo",32,"Jaltocán"]
[null,null,{"$f":"SUBSTITUTE(Reporte!D499,\" \",\"\")","v":""},13,"Hidalgo",33,"Juárez Hidalgo"]
[null,null,{"$f":"SUBSTITUTE(Reporte!D500,\" \",\"\")","v":""},13,"Hidalgo",34,"Lolotla"]
[null,null,{"$f":"SUBSTITUTE(Reporte!D501,\" \",\"\")","v":""},13,"Hidalgo",35,"Metepec"]
[null,null,{"$f":"SUBSTITUTE(Reporte!D502,\" \",\"\")","v":""},13,"Hidalgo",36,"San Agustín Metzquititlán"]
[null,null,{"$f":"SUBSTITUTE(Reporte!D503,\" \",\"\")","v":""},13,"Hidalgo",37,"Metztitlán"]
[null,null,{"$f":"SUBSTITUTE(Reporte!D504,\" \",\"\")","v":""},13,"Hidalgo",38,"Mineral del Chico"]
[null,null,{"$f":"SUBSTITUTE(Reporte!D505,\" \",\"\")","v":""},13,"Hidalgo",2,"Acaxochitlán"]
[null,null,{"$f":"SUBSTITUTE(Reporte!D506,\" \",\"\")","v":""},13,"Hidalgo",3,"Actopan"]
[null,null,{"$f":"SUBSTITUTE(Reporte!D507,\" \",\"\")","v":""},13,"Hidalgo",6,"Alfajayucan"]
[null,null,{"$f":"SUBSTITUTE(Reporte!D508,\" \",\"\")","v":""},13,"Hidalgo",5,"Ajacuba"]
[null,null,{"$f":"SUBSTITUTE(Reporte!D509,\" \",\"\")","v":""},13,"Hidalgo",1,"Acatlán"]
[null,null,{"$f":"SUBSTITUTE(Reporte!D510,\" \",\"\")","v":""},13,"Hidalgo",4,"Agua Blanca de Iturbide"]
[null,null,{"$f":"SUBSTITUTE(Reporte!D511,\" \",\"\")","v":""},13,"Hidalgo",10,"Atitalaquia"]
[null,null,{"$f":"SUBSTITUTE(Reporte!D512,\" \",\"\")","v":""},13,"Hidalgo",9,"El Arenal"]
[null,null,{"$f":"SUBSTITUTE(Reporte!D513,\" \",\"\")","v":""},13,"Hidalgo",7,"Almoloya"]
[null,null,{"$f":"SUBSTITUTE(Reporte!D514,\" \",\"\")","v":""},13,"Hidalgo",8,"Apan"]
[null,null,{"$f":"SUBSTITUTE(Reporte!D515,\" \",\"\")","v":""},13,"Hidalgo",14,"Calnali"]
[null,null,{"$f":"SUBSTITUTE(Reporte!D516,\" \",\"\")","v":""},13,"Hidalgo",13,"Atotonilco de Tula"]
[null,null,{"$f":"SUBSTITUTE(Reporte!D517,\" \",\"\")","v":""},13,"Hidalgo",12,"Atotonilco el Grande"]
[null,null,{"$f":"SUBSTITUTE(Reporte!D518,\" \",\"\")","v":""},13,"Hidalgo",11,"Atlapexco"]
[null,null,{"$f":"SUBSTITUTE(Reporte!D519,\" \",\"\")","v":""},13,"Hidalgo",23,"Francisco I. Madero"]
[null,null,{"$f":"SUBSTITUTE(Reporte!D520,\" \",\"\")","v":""},13,"Hidalgo",24,"Huasca de Ocampo"]
[null,null,{"$f":"SUBSTITUTE(Reporte!D521,\" \",\"\")","v":""},13,"Hidalgo",25,"Huautla"]
[null,null,{"$f":"SUBSTITUTE(Reporte!D522,\" \",\"\")","v":""},13,"Hidalgo",26,"Huazalingo"]
[null,null,{"$f":"SUBSTITUTE(Reporte!D523,\" \",\"\")","v":""},13,"Hidalgo",27,"Huehuetla"]
[null,null,{"$f":"SUBSTITUTE(Reporte!D524,\" \",\"\")","v":""},13,"Hidalgo",28,"Huejutla de Reyes"]
[null,null,{"$f":"SUBSTITUTE(Reporte!D525,\" \",\"\")","v":""},13,"Hidalgo",29,"Huichapan"]
[null,null,{"$f":"SUBSTITUTE(Reporte!D526,\" \",\"\")","v":""},13,"Hidalgo",30,"Ixmiquilpan"]
[null,null,{"$f":"SUBSTITUTE(Reporte!D527,\" \",\"\")","v":""},13,"Hidalgo",19,"Chilcuautla"]
[null,null,{"$f":"SUBSTITUTE(Reporte!D528,\" \",\"\")","v":""},13,"Hidalgo",20,"Eloxochitlán"]
[null,null,{"$f":"SUBSTITUTE(Reporte!D529,\" \",\"\")","v":""},13,"Hidalgo",21,"Emiliano Zapata"]
[null,null,{"$f":"SUBSTITUTE(Reporte!D530,\" \",\"\")","v":""},13,"Hidalgo",22,"Epazoyucan"]
[null,null,{"$f":"SUBSTITUTE(Reporte!D531,\" \",\"\")","v":""},13,"Hidalgo",18,"Chapulhuacán"]
[null,null,{"$f":"SUBSTITUTE(Reporte!D532,\" \",\"\")","v":""},13,"Hidalgo",17,"Chapantongo"]
[null,null,{"$f":"SUBSTITUTE(Reporte!D533,\" \",\"\")","v":""},13,"Hidalgo",16,"Cuautepec de Hinojosa"]
[null,null,{"$f":"SUBSTITUTE(Reporte!D534,\" \",\"\")","v":""},13,"Hidalgo",15,"Cardonal"]
[null,null,{"$f":"SUBSTITUTE(Reporte!D535,\" \",\"\")","v":""},14,"Jalisco",15,"Autlán de Navarro"]
[null,null,{"$f":"SUBSTITUTE(Reporte!D536,\" \",\"\")","v":""},14,"Jalisco",16,"Ayotlán"]
[null,null,{"$f":"SUBSTITUTE(Reporte!D537,\" \",\"\")","v":""},14,"Jalisco",17,"Ayutla"]
[null,null,{"$f":"SUBSTITUTE(Reporte!D538,\" \",\"\")","v":""},14,"Jalisco",18,"La Barca"]
[null,null,{"$f":"SUBSTITUTE(Reporte!D539,\" \",\"\")","v":""},14,"Jalisco",22,"Cihuatlán"]
[null,null,{"$f":"SUBSTITUTE(Reporte!D540,\" \",\"\")","v":""},14,"Jalisco",21,"Casimiro Castillo"]
[null,null,{"$f":"SUBSTITUTE(Reporte!D541,\" \",\"\")","v":""},14,"Jalisco",20,"Cabo Corrientes"]
[null,null,{"$f":"SUBSTITUTE(Reporte!D542,\" \",\"\")","v":""},14,"Jalisco",19,"Bolaños"]
[null,null,{"$f":"SUBSTITUTE(Reporte!D543,\" \",\"\")","v":""},14,"Jalisco",30,"Chapala"]
[null,null,{"$f":"SUBSTITUTE(Reporte!D544,\" \",\"\")","v":""},14,"Jalisco",29,"Cuquío"]
[null,null,{"$f":"SUBSTITUTE(Reporte!D545,\" \",\"\")","v":""},14,"Jalisco",28,"Cuautla"]
[null,null,{"$f":"SUBSTITUTE(Reporte!D546,\" \",\"\")","v":""},14,"Jalisco",27,"Cuautitlán de García Barragán"]
[null,null,{"$f":"SUBSTITUTE(Reporte!D547,\" \",\"\")","v":""},14,"Jalisco",26,"Concepción de Buenos Aires"]
[null,null,{"$f":"SUBSTITUTE(Reporte!D548,\" \",\"\")","v":""},14,"Jalisco",25,"Colotlán"]
[null,null,{"$f":"SUBSTITUTE(Reporte!D549,\" \",\"\")","v":""},14,"Jalisco",24,"Cocula"]
[null,null,{"$f":"SUBSTITUTE(Reporte!D550,\" \",\"\")","v":""},14,"Jalisco",23,"Zapotlán el Grande"]
[null,null,{"$f":"SUBSTITUTE(Reporte!D551,\" \",\"\")","v":""},14,"Jalisco",11,"Atengo"]
[null,null,{"$f":"SUBSTITUTE(Reporte!D552,\" \",\"\")","v":""},14,"Jalisco",12,"Atenguillo"]
[null,null,{"$f":"SUBSTITUTE(Reporte!D553,\" \",\"\")","v":""},14,"Jalisco",13,"Atotonilco el Alto"]
[null,null,{"$f":"SUBSTITUTE(Reporte!D554,\" \",\"\")","v":""},14,"Jalisco",14,"Atoyac"]
[null,null,{"$f":"SUBSTITUTE(Reporte!D555,\" \",\"\")","v":""},14,"Jalisco",8,"Arandas"]
[null,null,{"$f":"SUBSTITUTE(Reporte!D556,\" \",\"\")","v":""},14,"Jalisco",7,"San Juanito de Escobedo"]
[null,null,{"$f":"SUBSTITUTE(Reporte!D557,\" \",\"\")","v":""},14,"Jalisco",9,"El Arenal"]
[null,null,{"$f":"SUBSTITUTE(Reporte!D558,\" \",\"\")","v":""},14,"Jalisco",10,"Atemajac de Brizuela"]
[null,null,{"$f":"SUBSTITUTE(Reporte!D559,\" \",\"\")","v":""},14,"Jalisco",4,"Amacueca"]
[null,null,{"$f":"SUBSTITUTE(Reporte!D560,\" \",\"\")","v":""},14,"Jalisco",1,"Acatic"]
[null,null,{"$f":"SUBSTITUTE(Reporte!D561,\" \",\"\")","v":""},14,"Jalisco",5,"Amatitán"]
[null,null,{"$f":"SUBSTITUTE(Reporte!D562,\" \",\"\")","v":""},14,"Jalisco",6,"Ameca"]
[null,null,{"$f":"SUBSTITUTE(Reporte!D563,\" \",\"\")","v":""},14,"Jalisco",3,"Ahualulco de Mercado"]
[null,null,{"$f":"SUBSTITUTE(Reporte!D564,\" \",\"\")","v":""},14,"Jalisco",2,"Acatlán de Juárez"]
[null,null,{"$f":"SUBSTITUTE(Reporte!D565,\" \",\"\")","v":""},14,"Jalisco",38,"Guachinango"]
[null,null,{"$f":"SUBSTITUTE(Reporte!D566,\" \",\"\")","v":""},14,"Jalisco",37,"El Grullo"]
[null,null,{"$f":"SUBSTITUTE(Reporte!D567,\" \",\"\")","v":""},14,"Jalisco",36,"Etzatlán"]
[null,null,{"$f":"SUBSTITUTE(Reporte!D568,\" \",\"\")","v":""},14,"Jalisco",35,"Encarnación de Díaz"]
[null,null,{"$f":"SUBSTITUTE(Reporte!D569,\" \",\"\")","v":""},14,"Jalisco",34,"Ejutla"]
[null,null,{"$f":"SUBSTITUTE(Reporte!D570,\" \",\"\")","v":""},14,"Jalisco",33,"Degollado"]
[null,null,{"$f":"SUBSTITUTE(Reporte!D571,\" \",\"\")","v":""},14,"Jalisco",32,"Chiquilistlán"]
[null,null,{"$f":"SUBSTITUTE(Reporte!D572,\" \",\"\")","v":""},14,"Jalisco",31,"Chimaltitán"]
[null,null,{"$f":"SUBSTITUTE(Reporte!D573,\" \",\"\")","v":""},14,"Jalisco",46,"Jalostotitlán"]
[null,null,{"$f":"SUBSTITUTE(Reporte!D574,\" \",\"\")","v":""},14,"Jalisco",45,"Ixtlahuacán del Río"]
[null,null,{"$f":"SUBSTITUTE(Reporte!D575,\" \",\"\")","v":""},14,"Jalisco",44,"Ixtlahuacán de los Membrillos"]
[null,null,{"$f":"SUBSTITUTE(Reporte!D576,\" \",\"\")","v":""},14,"Jalisco",43,"La Huerta"]
[null,null,{"$f":"SUBSTITUTE(Reporte!D577,\" \",\"\")","v":""},14,"Jalisco",42,"Huejuquilla el Alto"]
[null,null,{"$f":"SUBSTITUTE(Reporte!D578,\" \",\"\")","v":""},14,"Jalisco",41,"Huejúcar"]
[null,null,{"$f":"SUBSTITUTE(Reporte!D579,\" \",\"\")","v":""},14,"Jalisco",40,"Hostotipaquillo"]
[null,null,{"$f":"SUBSTITUTE(Reporte!D580,\" \",\"\")","v":""},14,"Jalisco",39,"Guadalajara"]
[null,null,{"$f":"SUBSTITUTE(Reporte!D581,\" \",\"\")","v":""},14,"Jalisco",47,"Jamay"]
[null,null,{"$f":"SUBSTITUTE(Reporte!D582,\" \",\"\")","v":""},14,"Jalisco",48,"Jesús María"]
[null,null,{"$f":"SUBSTITUTE(Reporte!D583,\" \",\"\")","v":""},14,"Jalisco",49,"Jilotlán de los Dolores"]
[null,null,{"$f":"SUBSTITUTE(Reporte!D584,\" \",\"\")","v":""},14,"Jalisco",50,"Jocotepec"]
[null,null,{"$f":"SUBSTITUTE(Reporte!D585,\" \",\"\")","v":""},14,"Jalisco",51,"Juanacatlán"]
[null,null,{"$f":"SUBSTITUTE(Reporte!D586,\" \",\"\")","v":""},14,"Jalisco",52,"Juchitlán"]
[null,null,{"$f":"SUBSTITUTE(Reporte!D587,\" \",\"\")","v":""},14,"Jalisco",53,"Lagos de Moreno"]
[null,null,{"$f":"SUBSTITUTE(Reporte!D588,\" \",\"\")","v":""},14,"Jalisco",54,"El Limón"]
[null,null,{"$f":"SUBSTITUTE(Reporte!D589,\" \",\"\")","v":""},14,"Jalisco",55,"Magdalena"]
[null,null,{"$f":"SUBSTITUTE(Reporte!D590,\" \",\"\")","v":""},14,"Jalisco",56,"Santa María del Oro"]
[null,null,{"$f":"SUBSTITUTE(Reporte!D591,\" \",\"\")","v":""},14,"Jalisco",57,"La Manzanilla de la Paz"]
[null,null,{"$f":"SUBSTITUTE(Reporte!D592,\" \",\"\")","v":""},14,"Jalisco",58,"Mascota"]
[null,null,{"$f":"SUBSTITUTE(Reporte!D593,\" \",\"\")","v":""},14,"Jalisco",59,"Mazamitla"]
[null,null,{"$f":"SUBSTITUTE(Reporte!D594,\" \",\"\")","v":""},14,"Jalisco",60,"Mexticacán"]
[null,null,{"$f":"SUBSTITUTE(Reporte!D595,\" \",\"\")","v":""},14,"Jalisco",61,"Mezquitic"]
[null,null,{"$f":"SUBSTITUTE(Reporte!D596,\" \",\"\")","v":""},14,"Jalisco",62,"Mixtlán"]
[null,null,{"$f":"SUBSTITUTE(Reporte!D597,\" \",\"\")","v":""},14,"Jalisco",63,"Ocotlán"]
[null,null,{"$f":"SUBSTITUTE(Reporte!D598,\" \",\"\")","v":""},14,"Jalisco",64,"Ojuelos de Jalisco"]
[null,null,{"$f":"SUBSTITUTE(Reporte!D599,\" \",\"\")","v":""},14,"Jalisco",65,"Pihuamo"]
[null,null,{"$f":"SUBSTITUTE(Reporte!D600,\" \",\"\")","v":""},14,"Jalisco",66,"Poncitlán"]
[null,null,{"$f":"SUBSTITUTE(Reporte!D601,\" \",\"\")","v":""},14,"Jalisco",67,"Puerto Vallarta"]
[null,null,{"$f":"SUBSTITUTE(Reporte!D602,\" \",\"\")","v":""},14,"Jalisco",69,"Quitupan"]
[null,null,{"$f":"SUBSTITUTE(Reporte!D603,\" \",\"\")","v":""},14,"Jalisco",68,"Villa Purificación"]
[null,null,{"$f":"SUBSTITUTE(Reporte!D604,\" \",\"\")","v":""},14,"Jalisco",73,"San Juan de los Lagos"]
[null,null,{"$f":"SUBSTITUTE(Reporte!D605,\" \",\"\")","v":""},14,"Jalisco",72,"San Diego de Alejandría"]
[null,null,{"$f":"SUBSTITUTE(Reporte!D606,\" \",\"\")","v":""},14,"Jalisco",71,"San Cristóbal de la Barranca"]
[null,null,{"$f":"SUBSTITUTE(Reporte!D607,\" \",\"\")","v":""},14,"Jalisco",70,"El Salto"]
[null,null,{"$f":"SUBSTITUTE(Reporte!D608,\" \",\"\")","v":""},14,"Jalisco",82,"Sayula"]
[null,null,{"$f":"SUBSTITUTE(Reporte!D609,\" \",\"\")","v":""},14,"Jalisco",83,"Tala"]
[null,null,{"$f":"SUBSTITUTE(Reporte!D610,\" \",\"\")","v":""},14,"Jalisco",84,"Talpa de Allende"]
[null,null,{"$f":"SUBSTITUTE(Reporte!D611,\" \",\"\")","v":""},14,"Jalisco",85,"Tamazula de Gordiano"]
[null,null,{"$f":"SUBSTITUTE(Reporte!D612,\" \",\"\")","v":""},14,"Jalisco",89,"Techaluta de Montenegro"]
[null,null,{"$f":"SUBSTITUTE(Reporte!D613,\" \",\"\")","v":""},14,"Jalisco",88,"Tecolotlán"]
[null,null,{"$f":"SUBSTITUTE(Reporte!D614,\" \",\"\")","v":""},14,"Jalisco",87,"Tecalitlán"]
[null,null,{"$f":"SUBSTITUTE(Reporte!D615,\" \",\"\")","v":""},14,"Jalisco",86,"Tapalpa"]
[null,null,{"$f":"SUBSTITUTE(Reporte!D616,\" \",\"\")","v":""},14,"Jalisco",81,"Santa María de los Ángeles"]
[null,null,{"$f":"SUBSTITUTE(Reporte!D617,\" \",\"\")","v":""},14,"Jalisco",80,"San Sebastián del Oeste"]
[null,null,{"$f":"SUBSTITUTE(Reporte!D618,\" \",\"\")","v":""},14,"Jalisco",79,"Gómez Farías"]
[null,null,{"$f":"SUBSTITUTE(Reporte!D619,\" \",\"\")","v":""},14,"Jalisco",78,"San Miguel el Alto"]
[null,null,{"$f":"SUBSTITUTE(Reporte!D620,\" \",\"\")","v":""},14,"Jalisco",77,"San Martín Hidalgo"]
[null,null,{"$f":"SUBSTITUTE(Reporte!D621,\" \",\"\")","v":""},14,"Jalisco",76,"San Martín de Bolaños"]
[null,null,{"$f":"SUBSTITUTE(Reporte!D622,\" \",\"\")","v":""},14,"Jalisco",75,"San Marcos"]
[null,null,{"$f":"SUBSTITUTE(Reporte!D623,\" \",\"\")","v":""},14,"Jalisco",74,"San Julián"]
[null,null,{"$f":"SUBSTITUTE(Reporte!D624,\" \",\"\")","v":""},14,"Jalisco",106,"Tuxcacuesco"]
[null,null,{"$f":"SUBSTITUTE(Reporte!D625,\" \",\"\")","v":""},14,"Jalisco",105,"Tototlán"]
[null,null,{"$f":"SUBSTITUTE(Reporte!D626,\" \",\"\")","v":""},14,"Jalisco",104,"Totatiche"]
[null,null,{"$f":"SUBSTITUTE(Reporte!D627,\" \",\"\")","v":""},14,"Jalisco",103,"Tonila"]
[null,null,{"$f":"SUBSTITUTE(Reporte!D628,\" \",\"\")","v":""},14,"Jalisco",102,"Tonaya"]
[null,null,{"$f":"SUBSTITUTE(Reporte!D629,\" \",\"\")","v":""},14,"Jalisco",101,"Tonalá"]
[null,null,{"$f":"SUBSTITUTE(Reporte!D630,\" \",\"\")","v":""},14,"Jalisco",100,"Tomatlán"]
[null,null,{"$f":"SUBSTITUTE(Reporte!D631,\" \",\"\")","v":""},14,"Jalisco",99,"Tolimán"]
[null,null,{"$f":"SUBSTITUTE(Reporte!D632,\" \",\"\")","v":""},14,"Jalisco",98,"San Pedro Tlaquepaque"]
[null,null,{"$f":"SUBSTITUTE(Reporte!D633,\" \",\"\")","v":""},14,"Jalisco",97,"Tlajomulco de Zúñiga"]
[null,null,{"$f":"SUBSTITUTE(Reporte!D634,\" \",\"\")","v":""},14,"Jalisco",96,"Tizapán el Alto"]
[null,null,{"$f":"SUBSTITUTE(Reporte!D635,\" \",\"\")","v":""},14,"Jalisco",94,"Tequila"]
[null,null,{"$f":"SUBSTITUTE(Reporte!D636,\" \",\"\")","v":""},14,"Jalisco",93,"Tepatitlán de Morelos"]
[null,null,{"$f":"SUBSTITUTE(Reporte!D637,\" \",\"\")","v":""},14,"Jalisco",92,"Teocuitatlán de Corona"]
[null,null,{"$f":"SUBSTITUTE(Reporte!D638,\" \",\"\")","v":""},14,"Jalisco",91,"Teocaltiche"]
[null,null,{"$f":"SUBSTITUTE(Reporte!D639,\" \",\"\")","v":""},14,"Jalisco",90,"Tenamaxtlán"]
[null,null,{"$f":"SUBSTITUTE(Reporte!D640,\" \",\"\")","v":""},14,"Jalisco",121,"Zapotiltic"]
[null,null,{"$f":"SUBSTITUTE(Reporte!D641,\" \",\"\")","v":""},14,"Jalisco",120,"Zapopan"]
[null,null,{"$f":"SUBSTITUTE(Reporte!D642,\" \",\"\")","v":""},14,"Jalisco",119,"Zacoalco de Torres"]
[null,null,{"$f":"SUBSTITUTE(Reporte!D643,\" \",\"\")","v":""},14,"Jalisco",118,"Yahualica de González Gallo"]
[null,null,{"$f":"SUBSTITUTE(Reporte!D644,\" \",\"\")","v":""},14,"Jalisco",117,"Cañadas de Obregón"]
[null,null,{"$f":"SUBSTITUTE(Reporte!D645,\" \",\"\")","v":""},14,"Jalisco",116,"Villa Hidalgo"]
[null,null,{"$f":"SUBSTITUTE(Reporte!D646,\" \",\"\")","v":""},14,"Jalisco",115,"Villa Guerrero"]
[null,null,{"$f":"SUBSTITUTE(Reporte!D647,\" \",\"\")","v":""},14,"Jalisco",114,"Villa Corona"]
[null,null,{"$f":"SUBSTITUTE(Reporte!D648,\" \",\"\")","v":""},14,"Jalisco",113,"San Gabriel"]
[null,null,{"$f":"SUBSTITUTE(Reporte!D649,\" \",\"\")","v":""},14,"Jalisco",112,"Valle de Juárez"]
[null,null,{"$f":"SUBSTITUTE(Reporte!D650,\" \",\"\")","v":""},14,"Jalisco",111,"Valle de Guadalupe"]
[null,null,{"$f":"SUBSTITUTE(Reporte!D651,\" \",\"\")","v":""},14,"Jalisco",110,"Unión de Tula"]
[null,null,{"$f":"SUBSTITUTE(Reporte!D652,\" \",\"\")","v":""},14,"Jalisco",109,"Unión de San Antonio"]
[null,null,{"$f":"SUBSTITUTE(Reporte!D653,\" \",\"\")","v":""},14,"Jalisco",108,"Tuxpan"]
[null,null,{"$f":"SUBSTITUTE(Reporte!D654,\" \",\"\")","v":""},14,"Jalisco",107,"Tuxcueca"]
[null,null,{"$f":"SUBSTITUTE(Reporte!D655,\" \",\"\")","v":""},14,"Jalisco",95,"Teuchitlán"]
[null,null,{"$f":"SUBSTITUTE(Reporte!D656,\" \",\"\")","v":""},14,"Jalisco",122,"Zapotitlán de Vadillo"]
[null,null,{"$f":"SUBSTITUTE(Reporte!D657,\" \",\"\")","v":""},14,"Jalisco",123,"Zapotlán del Rey"]
[null,null,{"$f":"SUBSTITUTE(Reporte!D658,\" \",\"\")","v":""},14,"Jalisco",124,"Zapotlanejo"]
[null,null,{"$f":"SUBSTITUTE(Reporte!D659,\" \",\"\")","v":""},14,"Jalisco",125,"San Ignacio Cerro Gordo"]
[null,null,{"$f":"SUBSTITUTE(Reporte!D660,\" \",\"\")","v":""},15,"México",125,"Tonanitla"]
[null,null,{"$f":"SUBSTITUTE(Reporte!D661,\" \",\"\")","v":""},15,"México",124,"San José del Rincón"]
[null,null,{"$f":"SUBSTITUTE(Reporte!D662,\" \",\"\")","v":""},15,"México",123,"Luvianos"]
[null,null,{"$f":"SUBSTITUTE(Reporte!D663,\" \",\"\")","v":""},15,"México",122,"Valle de Chalco Solidaridad"]
[null,null,{"$f":"SUBSTITUTE(Reporte!D664,\" \",\"\")","v":""},15,"México",95,"Tepotzotlán"]
[null,null,{"$f":"SUBSTITUTE(Reporte!D665,\" \",\"\")","v":""},15,"México",107,"Tonatico"]
[null,null,{"$f":"SUBSTITUTE(Reporte!D666,\" \",\"\")","v":""},15,"México",108,"Tultepec"]
[null,null,{"$f":"SUBSTITUTE(Reporte!D667,\" \",\"\")","v":""},15,"México",109,"Tultitlán"]
[null,null,{"$f":"SUBSTITUTE(Reporte!D668,\" \",\"\")","v":""},15,"México",110,"Valle de Bravo"]
[null,null,{"$f":"SUBSTITUTE(Reporte!D669,\" \",\"\")","v":""},15,"México",111,"Villa de Allende"]
[null,null,{"$f":"SUBSTITUTE(Reporte!D670,\" \",\"\")","v":""},15,"México",112,"Villa del Carbón"]
[null,null,{"$f":"SUBSTITUTE(Reporte!D671,\" \",\"\")","v":""},15,"México",113,"Villa Guerrero"]
[null,null,{"$f":"SUBSTITUTE(Reporte!D672,\" \",\"\")","v":""},15,"México",114,"Villa Victoria"]
[null,null,{"$f":"SUBSTITUTE(Reporte!D673,\" \",\"\")","v":""},15,"México",115,"Xonacatlán"]
[null,null,{"$f":"SUBSTITUTE(Reporte!D674,\" \",\"\")","v":""},15,"México",116,"Zacazonapan"]
[null,null,{"$f":"SUBSTITUTE(Reporte!D675,\" \",\"\")","v":""},15,"México",117,"Zacualpan"]
[null,null,{"$f":"SUBSTITUTE(Reporte!D676,\" \",\"\")","v":""},15,"México",118,"Zinacantepec"]
[null,null,{"$f":"SUBSTITUTE(Reporte!D677,\" \",\"\")","v":""},15,"México",119,"Zumpahuacán"]
[null,null,{"$f":"SUBSTITUTE(Reporte!D678,\" \",\"\")","v":""},15,"México",120,"Zumpango"]
[null,null,{"$f":"SUBSTITUTE(Reporte!D679,\" \",\"\")","v":""},15,"México",121,"Cuautitlán Izcalli"]
[null,null,{"$f":"SUBSTITUTE(Reporte!D680,\" \",\"\")","v":""},15,"México",90,"Tenango del Valle"]
[null,null,{"$f":"SUBSTITUTE(Reporte!D681,\" \",\"\")","v":""},15,"México",91,"Teoloyucan"]
[null,null,{"$f":"SUBSTITUTE(Reporte!D682,\" \",\"\")","v":""},15,"México",92,"Teotihuacán"]
[null,null,{"$f":"SUBSTITUTE(Reporte!D683,\" \",\"\")","v":""},15,"México",93,"Tepetlaoxtoc"]
[null,null,{"$f":"SUBSTITUTE(Reporte!D684,\" \",\"\")","v":""},15,"México",94,"Tepetlixpa"]
[null,null,{"$f":"SUBSTITUTE(Reporte!D685,\" \",\"\")","v":""},15,"México",96,"Tequixquiac"]
[null,null,{"$f":"SUBSTITUTE(Reporte!D686,\" \",\"\")","v":""},15,"México",97,"Texcaltitlán"]
[null,null,{"$f":"SUBSTITUTE(Reporte!D687,\" \",\"\")","v":""},15,"México",98,"Texcalyacac"]
[null,null,{"$f":"SUBSTITUTE(Reporte!D688,\" \",\"\")","v":""},15,"México",99,"Texcoco"]
[null,null,{"$f":"SUBSTITUTE(Reporte!D689,\" \",\"\")","v":""},15,"México",100,"Tezoyuca"]
[null,null,{"$f":"SUBSTITUTE(Reporte!D690,\" \",\"\")","v":""},15,"México",101,"Tianguistenco"]
[null,null,{"$f":"SUBSTITUTE(Reporte!D691,\" \",\"\")","v":""},15,"México",102,"Timilpan"]
[null,null,{"$f":"SUBSTITUTE(Reporte!D692,\" \",\"\")","v":""},15,"México",103,"Tlalmanalco"]
[null,null,{"$f":"SUBSTITUTE(Reporte!D693,\" \",\"\")","v":""},15,"México",104,"Tlalnepantla de Baz"]
[null,null,{"$f":"SUBSTITUTE(Reporte!D694,\" \",\"\")","v":""},15,"México",105,"Tlatlaya"]
[null,null,{"$f":"SUBSTITUTE(Reporte!D695,\" \",\"\")","v":""},15,"México",106,"Toluca"]
[null,null,{"$f":"SUBSTITUTE(Reporte!D696,\" \",\"\")","v":""},15,"México",74,"San Felipe del Progreso"]
[null,null,{"$f":"SUBSTITUTE(Reporte!D697,\" \",\"\")","v":""},15,"México",75,"San Martín de las Pirámides"]
[null,null,{"$f":"SUBSTITUTE(Reporte!D698,\" \",\"\")","v":""},15,"México",76,"San Mateo Atenco"]
[null,null,{"$f":"SUBSTITUTE(Reporte!D699,\" \",\"\")","v":""},15,"México",77,"San Simón de Guerrero"]
[null,null,{"$f":"SUBSTITUTE(Reporte!D700,\" \",\"\")","v":""},15,"México",78,"Santo Tomás"]
[null,null,{"$f":"SUBSTITUTE(Reporte!D701,\" \",\"\")","v":""},15,"México",79,"Soyaniquilpan de Juárez"]
[null,null,{"$f":"SUBSTITUTE(Reporte!D702,\" \",\"\")","v":""},15,"México",80,"Sultepec"]
[null,null,{"$f":"SUBSTITUTE(Reporte!D703,\" \",\"\")","v":""},15,"México",81,"Tecámac"]
[null,null,{"$f":"SUBSTITUTE(Reporte!D704,\" \",\"\")","v":""},15,"México",86,"Temascaltepec"]
[null,null,{"$f":"SUBSTITUTE(Reporte!D705,\" \",\"\")","v":""},15,"México",87,"Temoaya"]
[null,null,{"$f":"SUBSTITUTE(Reporte!D706,\" \",\"\")","v":""},15,"México",88,"Tenancingo"]
[null,null,{"$f":"SUBSTITUTE(Reporte!D707,\" \",\"\")","v":""},15,"México",89,"Tenango del Aire"]
[null,null,{"$f":"SUBSTITUTE(Reporte!D708,\" \",\"\")","v":""},15,"México",85,"Temascalcingo"]
[null,null,{"$f":"SUBSTITUTE(Reporte!D709,\" \",\"\")","v":""},15,"México",84,"Temascalapa"]
[null,null,{"$f":"SUBSTITUTE(Reporte!D710,\" \",\"\")","v":""},15,"México",83,"Temamatla"]
[null,null,{"$f":"SUBSTITUTE(Reporte!D711,\" \",\"\")","v":""},15,"México",82,"Tejupilco"]
[null,null,{"$f":"SUBSTITUTE(Reporte!D712,\" \",\"\")","v":""},15,"México",70,"La Paz"]
[null,null,{"$f":"SUBSTITUTE(Reporte!D713,\" \",\"\")","v":""},15,"México",71,"Polotitlán"]
[null,null,{"$f":"SUBSTITUTE(Reporte!D714,\" \",\"\")","v":""},15,"México",72,"Rayón"]
[null,null,{"$f":"SUBSTITUTE(Reporte!D715,\" \",\"\")","v":""},15,"México",73,"San Antonio la Isla"]
[null,null,{"$f":"SUBSTITUTE(Reporte!D716,\" \",\"\")","v":""},15,"México",68,"Ozumba"]
[null,null,{"$f":"SUBSTITUTE(Reporte!D717,\" \",\"\")","v":""},15,"México",69,"Papalotla"]
[null,null,{"$f":"SUBSTITUTE(Reporte!D718,\" \",\"\")","v":""},15,"México",67,"Otzolotepec"]
[null,null,{"$f":"SUBSTITUTE(Reporte!D719,\" \",\"\")","v":""},15,"México",66,"Otzoloapan"]
[null,null,{"$f":"SUBSTITUTE(Reporte!D720,\" \",\"\")","v":""},15,"México",65,"Otumba"]
[null,null,{"$f":"SUBSTITUTE(Reporte!D721,\" \",\"\")","v":""},15,"México",64,"El Oro"]
[null,null,{"$f":"SUBSTITUTE(Reporte!D722,\" \",\"\")","v":""},15,"México",63,"Ocuilan"]
[null,null,{"$f":"SUBSTITUTE(Reporte!D723,\" \",\"\")","v":""},15,"México",62,"Ocoyoacac"]
[null,null,{"$f":"SUBSTITUTE(Reporte!D724,\" \",\"\")","v":""},15,"México",61,"Nopaltepec"]
[null,null,{"$f":"SUBSTITUTE(Reporte!D725,\" \",\"\")","v":""},15,"México",60,"Nicolás Romero"]
[null,null,{"$f":"SUBSTITUTE(Reporte!D726,\" \",\"\")","v":""},15,"México",59,"Nextlalpan"]
[null,null,{"$f":"SUBSTITUTE(Reporte!D727,\" \",\"\")","v":""},15,"México",58,"Nezahualcóyotl"]
[null,null,{"$f":"SUBSTITUTE(Reporte!D728,\" \",\"\")","v":""},15,"México",57,"Naucalpan de Juárez"]
[null,null,{"$f":"SUBSTITUTE(Reporte!D729,\" \",\"\")","v":""},15,"México",56,"Morelos"]
[null,null,{"$f":"SUBSTITUTE(Reporte!D730,\" \",\"\")","v":""},15,"México",55,"Mexicaltzingo"]
[null,null,{"$f":"SUBSTITUTE(Reporte!D731,\" \",\"\")","v":""},15,"México",54,"Metepec"]
[null,null,{"$f":"SUBSTITUTE(Reporte!D732,\" \",\"\")","v":""},15,"México",53,"Melchor Ocampo"]
[null,null,{"$f":"SUBSTITUTE(Reporte!D733,\" \",\"\")","v":""},15,"México",52,"Malinalco"]
[null,null,{"$f":"SUBSTITUTE(Reporte!D734,\" \",\"\")","v":""},15,"México",51,"Lerma"]
[null,null,{"$f":"SUBSTITUTE(Reporte!D735,\" \",\"\")","v":""},15,"México",50,"Juchitepec"]
[null,null,{"$f":"SUBSTITUTE(Reporte!D736,\" \",\"\")","v":""},15,"México",49,"Joquicingo"]
[null,null,{"$f":"SUBSTITUTE(Reporte!D737,\" \",\"\")","v":""},15,"México",48,"Jocotitlán"]
[null,null,{"$f":"SUBSTITUTE(Reporte!D738,\" \",\"\")","v":""},15,"México",47,"Jiquipilco"]
[null,null,{"$f":"SUBSTITUTE(Reporte!D739,\" \",\"\")","v":""},15,"México",39,"Ixtapaluca"]
[null,null,{"$f":"SUBSTITUTE(Reporte!D740,\" \",\"\")","v":""},15,"México",40,"Ixtapan de la Sal"]
[null,null,{"$f":"SUBSTITUTE(Reporte!D741,\" \",\"\")","v":""},15,"México",41,"Ixtapan del Oro"]
[null,null,{"$f":"SUBSTITUTE(Reporte!D742,\" \",\"\")","v":""},15,"México",42,"Ixtlahuaca"]
[null,null,{"$f":"SUBSTITUTE(Reporte!D743,\" \",\"\")","v":""},15,"México",43,"Xalatlaco"]
[null,null,{"$f":"SUBSTITUTE(Reporte!D744,\" \",\"\")","v":""},15,"México",44,"Jaltenco"]
[null,null,{"$f":"SUBSTITUTE(Reporte!D745,\" \",\"\")","v":""},15,"México",45,"Jilotepec"]
[null,null,{"$f":"SUBSTITUTE(Reporte!D746,\" \",\"\")","v":""},15,"México",46,"Jilotzingo"]
[null,null,{"$f":"SUBSTITUTE(Reporte!D747,\" \",\"\")","v":""},15,"México",31,"Chimalhuacán"]
[null,null,{"$f":"SUBSTITUTE(Reporte!D748,\" \",\"\")","v":""},15,"México",32,"Donato Guerra"]
[null,null,{"$f":"SUBSTITUTE(Reporte!D749,\" \",\"\")","v":""},15,"México",33,"Ecatepec de Morelos"]
[null,null,{"$f":"SUBSTITUTE(Reporte!D750,\" \",\"\")","v":""},15,"México",34,"Ecatzingo"]
[null,null,{"$f":"SUBSTITUTE(Reporte!D751,\" \",\"\")","v":""},15,"México",35,"Huehuetoca"]
[null,null,{"$f":"SUBSTITUTE(Reporte!D752,\" \",\"\")","v":""},15,"México",36,"Hueypoxtla"]
[null,null,{"$f":"SUBSTITUTE(Reporte!D753,\" \",\"\")","v":""},15,"México",37,"Huixquilucan"]
[null,null,{"$f":"SUBSTITUTE(Reporte!D754,\" \",\"\")","v":""},15,"México",38,"Isidro Fabela"]
[null,null,{"$f":"SUBSTITUTE(Reporte!D755,\" \",\"\")","v":""},15,"México",2,"Acolman"]
[null,null,{"$f":"SUBSTITUTE(Reporte!D756,\" \",\"\")","v":""},15,"México",3,"Aculco"]
[null,null,{"$f":"SUBSTITUTE(Reporte!D757,\" \",\"\")","v":""},15,"México",6,"Almoloya del Río"]
[null,null,{"$f":"SUBSTITUTE(Reporte!D758,\" \",\"\")","v":""},15,"México",5,"Almoloya de Juárez"]
[null,null,{"$f":"SUBSTITUTE(Reporte!D759,\" \",\"\")","v":""},15,"México",1,"Acambay de Ruíz Castañeda"]
[null,null,{"$f":"SUBSTITUTE(Reporte!D760,\" \",\"\")","v":""},15,"México",4,"Almoloya de Alquisiras"]
[null,null,{"$f":"SUBSTITUTE(Reporte!D761,\" \",\"\")","v":""},15,"México",10,"Apaxco"]
[null,null,{"$f":"SUBSTITUTE(Reporte!D762,\" \",\"\")","v":""},15,"México",9,"Amecameca"]
[null,null,{"$f":"SUBSTITUTE(Reporte!D763,\" \",\"\")","v":""},15,"México",7,"Amanalco"]
[null,null,{"$f":"SUBSTITUTE(Reporte!D764,\" \",\"\")","v":""},15,"México",8,"Amatepec"]
[null,null,{"$f":"SUBSTITUTE(Reporte!D765,\" \",\"\")","v":""},15,"México",14,"Atlacomulco"]
[null,null,{"$f":"SUBSTITUTE(Reporte!D766,\" \",\"\")","v":""},15,"México",13,"Atizapán de Zaragoza"]
[null,null,{"$f":"SUBSTITUTE(Reporte!D767,\" \",\"\")","v":""},15,"México",12,"Atizapán"]
[null,null,{"$f":"SUBSTITUTE(Reporte!D768,\" \",\"\")","v":""},15,"México",11,"Atenco"]
[null,null,{"$f":"SUBSTITUTE(Reporte!D769,\" \",\"\")","v":""},15,"México",23,"Coyotepec"]
[null,null,{"$f":"SUBSTITUTE(Reporte!D770,\" \",\"\")","v":""},15,"México",24,"Cuautitlán"]
[null,null,{"$f":"SUBSTITUTE(Reporte!D771,\" \",\"\")","v":""},15,"México",25,"Chalco"]
[null,null,{"$f":"SUBSTITUTE(Reporte!D772,\" \",\"\")","v":""},15,"México",26,"Chapa de Mota"]
[null,null,{"$f":"SUBSTITUTE(Reporte!D773,\" \",\"\")","v":""},15,"México",27,"Chapultepec"]
[null,null,{"$f":"SUBSTITUTE(Reporte!D774,\" \",\"\")","v":""},15,"México",28,"Chiautla"]
[null,null,{"$f":"SUBSTITUTE(Reporte!D775,\" \",\"\")","v":""},15,"México",29,"Chicoloapan"]
[null,null,{"$f":"SUBSTITUTE(Reporte!D776,\" \",\"\")","v":""},15,"México",30,"Chiconcuac"]
[null,null,{"$f":"SUBSTITUTE(Reporte!D777,\" \",\"\")","v":""},15,"México",19,"Capulhuac"]
[null,null,{"$f":"SUBSTITUTE(Reporte!D778,\" \",\"\")","v":""},15,"México",20,"Coacalco de Berriozábal"]
[null,null,{"$f":"SUBSTITUTE(Reporte!D779,\" \",\"\")","v":""},15,"México",21,"Coatepec Harinas"]
[null,null,{"$f":"SUBSTITUTE(Reporte!D780,\" \",\"\")","v":""},15,"México",22,"Cocotitlán"]
[null,null,{"$f":"SUBSTITUTE(Reporte!D781,\" \",\"\")","v":""},15,"México",18,"Calimaya"]
[null,null,{"$f":"SUBSTITUTE(Reporte!D782,\" \",\"\")","v":""},15,"México",17,"Ayapango"]
[null,null,{"$f":"SUBSTITUTE(Reporte!D783,\" \",\"\")","v":""},15,"México",16,"Axapusco"]
[null,null,{"$f":"SUBSTITUTE(Reporte!D784,\" \",\"\")","v":""},15,"México",15,"Atlautla"]
[null,null,{"$f":"SUBSTITUTE(Reporte!D785,\" \",\"\")","v":""},16,"Michoacán de Ocampo",15,"Coalcomán de Vázquez Pallares"]
[null,null,{"$f":"SUBSTITUTE(Reporte!D786,\" \",\"\")","v":""},16,"Michoacán de Ocampo",16,"Coeneo"]
[null,null,{"$f":"SUBSTITUTE(Reporte!D787,\" \",\"\")","v":""},16,"Michoacán de Ocampo",17,"Contepec"]
[null,null,{"$f":"SUBSTITUTE(Reporte!D788,\" \",\"\")","v":""},16,"Michoacán de Ocampo",18,"Copándaro"]
[null,null,{"$f":"SUBSTITUTE(Reporte!D789,\" \",\"\")","v":""},16,"Michoacán de Ocampo",22,"Charo"]
[null,null,{"$f":"SUBSTITUTE(Reporte!D790,\" \",\"\")","v":""},16,"Michoacán de Ocampo",21,"Charapan"]
[null,null,{"$f":"SUBSTITUTE(Reporte!D791,\" \",\"\")","v":""},16,"Michoacán de Ocampo",20,"Cuitzeo"]
[null,null,{"$f":"SUBSTITUTE(Reporte!D792,\" \",\"\")","v":""},16,"Michoacán de Ocampo",19,"Cotija"]
[null,null,{"$f":"SUBSTITUTE(Reporte!D793,\" \",\"\")","v":""},16,"Michoacán de Ocampo",30,"Ecuandureo"]
[null,null,{"$f":"SUBSTITUTE(Reporte!D794,\" \",\"\")","v":""},16,"Michoacán de Ocampo",29,"Churumuco"]
[null,null,{"$f":"SUBSTITUTE(Reporte!D795,\" \",\"\")","v":""},16,"Michoacán de Ocampo",28,"Churintzio"]
[null,null,{"$f":"SUBSTITUTE(Reporte!D796,\" \",\"\")","v":""},16,"Michoacán de Ocampo",27,"Chucándiro"]
[null,null,{"$f":"SUBSTITUTE(Reporte!D797,\" \",\"\")","v":""},16,"Michoacán de Ocampo",26,"Chinicuila"]
[null,null,{"$f":"SUBSTITUTE(Reporte!D798,\" \",\"\")","v":""},16,"Michoacán de Ocampo",25,"Chilchota"]
[null,null,{"$f":"SUBSTITUTE(Reporte!D799,\" \",\"\")","v":""},16,"Michoacán de Ocampo",24,"Cherán"]
[null,null,{"$f":"SUBSTITUTE(Reporte!D800,\" \",\"\")","v":""},16,"Michoacán de Ocampo",23,"Chavinda"]
[null,null,{"$f":"SUBSTITUTE(Reporte!D801,\" \",\"\")","v":""},16,"Michoacán de Ocampo",11,"Briseñas"]
[null,null,{"$f":"SUBSTITUTE(Reporte!D802,\" \",\"\")","v":""},16,"Michoacán de Ocampo",12,"Buenavista"]
[null,null,{"$f":"SUBSTITUTE(Reporte!D803,\" \",\"\")","v":""},16,"Michoacán de Ocampo",13,"Carácuaro"]
[null,null,{"$f":"SUBSTITUTE(Reporte!D804,\" \",\"\")","v":""},16,"Michoacán de Ocampo",14,"Coahuayana"]
[null,null,{"$f":"SUBSTITUTE(Reporte!D805,\" \",\"\")","v":""},16,"Michoacán de Ocampo",8,"Aquila"]
[null,null,{"$f":"SUBSTITUTE(Reporte!D806,\" \",\"\")","v":""},16,"Michoacán de Ocampo",7,"Aporo"]
[null,null,{"$f":"SUBSTITUTE(Reporte!D807,\" \",\"\")","v":""},16,"Michoacán de Ocampo",9,"Ario"]
[null,null,{"$f":"SUBSTITUTE(Reporte!D808,\" \",\"\")","v":""},16,"Michoacán de Ocampo",10,"Arteaga"]
[null,null,{"$f":"SUBSTITUTE(Reporte!D809,\" \",\"\")","v":""},16,"Michoacán de Ocampo",4,"Angamacutiro"]
[null,null,{"$f":"SUBSTITUTE(Reporte!D810,\" \",\"\")","v":""},16,"Michoacán de Ocampo",1,"Acuitzio"]
[null,null,{"$f":"SUBSTITUTE(Reporte!D811,\" \",\"\")","v":""},16,"Michoacán de Ocampo",5,"Angangueo"]
[null,null,{"$f":"SUBSTITUTE(Reporte!D812,\" \",\"\")","v":""},16,"Michoacán de Ocampo",6,"Apatzingán"]
[null,null,{"$f":"SUBSTITUTE(Reporte!D813,\" \",\"\")","v":""},16,"Michoacán de Ocampo",3,"Álvaro Obregón"]
[null,null,{"$f":"SUBSTITUTE(Reporte!D814,\" \",\"\")","v":""},16,"Michoacán de Ocampo",2,"Aguililla"]
[null,null,{"$f":"SUBSTITUTE(Reporte!D815,\" \",\"\")","v":""},16,"Michoacán de Ocampo",38,"Huetamo"]
[null,null,{"$f":"SUBSTITUTE(Reporte!D816,\" \",\"\")","v":""},16,"Michoacán de Ocampo",37,"Huaniqueo"]
[null,null,{"$f":"SUBSTITUTE(Reporte!D817,\" \",\"\")","v":""},16,"Michoacán de Ocampo",36,"Huandacareo"]
[null,null,{"$f":"SUBSTITUTE(Reporte!D818,\" \",\"\")","v":""},16,"Michoacán de Ocampo",35,"La Huacana"]
[null,null,{"$f":"SUBSTITUTE(Reporte!D819,\" \",\"\")","v":""},16,"Michoacán de Ocampo",34,"Hidalgo"]
[null,null,{"$f":"SUBSTITUTE(Reporte!D820,\" \",\"\")","v":""},16,"Michoacán de Ocampo",33,"Gabriel Zamora"]
[null,null,{"$f":"SUBSTITUTE(Reporte!D821,\" \",\"\")","v":""},16,"Michoacán de Ocampo",32,"Erongarícuaro"]
[null,null,{"$f":"SUBSTITUTE(Reporte!D822,\" \",\"\")","v":""},16,"Michoacán de Ocampo",31,"Epitacio Huerta"]
[null,null,{"$f":"SUBSTITUTE(Reporte!D823,\" \",\"\")","v":""},16,"Michoacán de Ocampo",46,"Juárez"]
[null,null,{"$f":"SUBSTITUTE(Reporte!D824,\" \",\"\")","v":""},16,"Michoacán de Ocampo",45,"Jiquilpan"]
[null,null,{"$f":"SUBSTITUTE(Reporte!D825,\" \",\"\")","v":""},16,"Michoacán de Ocampo",44,"Jiménez"]
[null,null,{"$f":"SUBSTITUTE(Reporte!D826,\" \",\"\")","v":""},16,"Michoacán de Ocampo",43,"Jacona"]
[null,null,{"$f":"SUBSTITUTE(Reporte!D827,\" \",\"\")","v":""},16,"Michoacán de Ocampo",42,"Ixtlán"]
[null,null,{"$f":"SUBSTITUTE(Reporte!D828,\" \",\"\")","v":""},16,"Michoacán de Ocampo",41,"Irimbo"]
[null,null,{"$f":"SUBSTITUTE(Reporte!D829,\" \",\"\")","v":""},16,"Michoacán de Ocampo",40,"Indaparapeo"]
[null,null,{"$f":"SUBSTITUTE(Reporte!D830,\" \",\"\")","v":""},16,"Michoacán de Ocampo",39,"Huiramba"]
[null,null,{"$f":"SUBSTITUTE(Reporte!D831,\" \",\"\")","v":""},16,"Michoacán de Ocampo",47,"Jungapeo"]
[null,null,{"$f":"SUBSTITUTE(Reporte!D832,\" \",\"\")","v":""},16,"Michoacán de Ocampo",48,"Lagunillas"]
[null,null,{"$f":"SUBSTITUTE(Reporte!D833,\" \",\"\")","v":""},16,"Michoacán de Ocampo",49,"Madero"]
[null,null,{"$f":"SUBSTITUTE(Reporte!D834,\" \",\"\")","v":""},16,"Michoacán de Ocampo",50,"Maravatío"]
[null,null,{"$f":"SUBSTITUTE(Reporte!D835,\" \",\"\")","v":""},16,"Michoacán de Ocampo",51,"Marcos Castellanos"]
[null,null,{"$f":"SUBSTITUTE(Reporte!D836,\" \",\"\")","v":""},16,"Michoacán de Ocampo",52,"Lázaro Cárdenas"]
[null,null,{"$f":"SUBSTITUTE(Reporte!D837,\" \",\"\")","v":""},16,"Michoacán de Ocampo",53,"Morelia"]
[null,null,{"$f":"SUBSTITUTE(Reporte!D838,\" \",\"\")","v":""},16,"Michoacán de Ocampo",54,"Morelos"]
[null,null,{"$f":"SUBSTITUTE(Reporte!D839,\" \",\"\")","v":""},16,"Michoacán de Ocampo",55,"Múgica"]
[null,null,{"$f":"SUBSTITUTE(Reporte!D840,\" \",\"\")","v":""},16,"Michoacán de Ocampo",56,"Nahuatzen"]
[null,null,{"$f":"SUBSTITUTE(Reporte!D841,\" \",\"\")","v":""},16,"Michoacán de Ocampo",57,"Nocupétaro"]
[null,null,{"$f":"SUBSTITUTE(Reporte!D842,\" \",\"\")","v":""},16,"Michoacán de Ocampo",58,"Nuevo Parangaricutiro"]
[null,null,{"$f":"SUBSTITUTE(Reporte!D843,\" \",\"\")","v":""},16,"Michoacán de Ocampo",59,"Nuevo Urecho"]
[null,null,{"$f":"SUBSTITUTE(Reporte!D844,\" \",\"\")","v":""},16,"Michoacán de Ocampo",60,"Numarán"]
[null,null,{"$f":"SUBSTITUTE(Reporte!D845,\" \",\"\")","v":""},16,"Michoacán de Ocampo",61,"Ocampo"]
[null,null,{"$f":"SUBSTITUTE(Reporte!D846,\" \",\"\")","v":""},16,"Michoacán de Ocampo",62,"Pajacuarán"]
[null,null,{"$f":"SUBSTITUTE(Reporte!D847,\" \",\"\")","v":""},16,"Michoacán de Ocampo",63,"Panindícuaro"]
[null,null,{"$f":"SUBSTITUTE(Reporte!D848,\" \",\"\")","v":""},16,"Michoacán de Ocampo",64,"Parácuaro"]
[null,null,{"$f":"SUBSTITUTE(Reporte!D849,\" \",\"\")","v":""},16,"Michoacán de Ocampo",65,"Paracho"]
[null,null,{"$f":"SUBSTITUTE(Reporte!D850,\" \",\"\")","v":""},16,"Michoacán de Ocampo",66,"Pátzcuaro"]
[null,null,{"$f":"SUBSTITUTE(Reporte!D851,\" \",\"\")","v":""},16,"Michoacán de Ocampo",67,"Penjamillo"]
[null,null,{"$f":"SUBSTITUTE(Reporte!D852,\" \",\"\")","v":""},16,"Michoacán de Ocampo",69,"La Piedad"]
[null,null,{"$f":"SUBSTITUTE(Reporte!D853,\" \",\"\")","v":""},16,"Michoacán de Ocampo",68,"Peribán"]
[null,null,{"$f":"SUBSTITUTE(Reporte!D854,\" \",\"\")","v":""},16,"Michoacán de Ocampo",73,"Quiroga"]
[null,null,{"$f":"SUBSTITUTE(Reporte!D855,\" \",\"\")","v":""},16,"Michoacán de Ocampo",72,"Queréndaro"]
[null,null,{"$f":"SUBSTITUTE(Reporte!D856,\" \",\"\")","v":""},16,"Michoacán de Ocampo",71,"Puruándiro"]
[null,null,{"$f":"SUBSTITUTE(Reporte!D857,\" \",\"\")","v":""},16,"Michoacán de Ocampo",70,"Purépero"]
[null,null,{"$f":"SUBSTITUTE(Reporte!D858,\" \",\"\")","v":""},16,"Michoacán de Ocampo",82,"Tacámbaro"]
[null,null,{"$f":"SUBSTITUTE(Reporte!D859,\" \",\"\")","v":""},16,"Michoacán de Ocampo",83,"Tancítaro"]
[null,null,{"$f":"SUBSTITUTE(Reporte!D860,\" \",\"\")","v":""},16,"Michoacán de Ocampo",84,"Tangamandapio"]
[null,null,{"$f":"SUBSTITUTE(Reporte!D861,\" \",\"\")","v":""},16,"Michoacán de Ocampo",85,"Tangancícuaro"]
[null,null,{"$f":"SUBSTITUTE(Reporte!D862,\" \",\"\")","v":""},16,"Michoacán de Ocampo",89,"Tepalcatepec"]
[null,null,{"$f":"SUBSTITUTE(Reporte!D863,\" \",\"\")","v":""},16,"Michoacán de Ocampo",88,"Tarímbaro"]
[null,null,{"$f":"SUBSTITUTE(Reporte!D864,\" \",\"\")","v":""},16,"Michoacán de Ocampo",87,"Taretan"]
[null,null,{"$f":"SUBSTITUTE(Reporte!D865,\" \",\"\")","v":""},16,"Michoacán de Ocampo",86,"Tanhuato"]
[null,null,{"$f":"SUBSTITUTE(Reporte!D866,\" \",\"\")","v":""},16,"Michoacán de Ocampo",81,"Susupuato"]
[null,null,{"$f":"SUBSTITUTE(Reporte!D867,\" \",\"\")","v":""},16,"Michoacán de Ocampo",80,"Senguio"]
[null,null,{"$f":"SUBSTITUTE(Reporte!D868,\" \",\"\")","v":""},16,"Michoacán de Ocampo",79,"Salvador Escalante"]
[null,null,{"$f":"SUBSTITUTE(Reporte!D869,\" \",\"\")","v":""},16,"Michoacán de Ocampo",78,"Santa Ana Maya"]
[null,null,{"$f":"SUBSTITUTE(Reporte!D870,\" \",\"\")","v":""},16,"Michoacán de Ocampo",77,"San Lucas"]
[null,null,{"$f":"SUBSTITUTE(Reporte!D871,\" \",\"\")","v":""},16,"Michoacán de Ocampo",76,"Sahuayo"]
[null,null,{"$f":"SUBSTITUTE(Reporte!D872,\" \",\"\")","v":""},16,"Michoacán de Ocampo",75,"Los Reyes"]
[null,null,{"$f":"SUBSTITUTE(Reporte!D873,\" \",\"\")","v":""},16,"Michoacán de Ocampo",74,"Cojumatlán de Régules"]
[null,null,{"$f":"SUBSTITUTE(Reporte!D874,\" \",\"\")","v":""},16,"Michoacán de Ocampo",106,"Yurécuaro"]
[null,null,{"$f":"SUBSTITUTE(Reporte!D875,\" \",\"\")","v":""},16,"Michoacán de Ocampo",105,"Vista Hermosa"]
[null,null,{"$f":"SUBSTITUTE(Reporte!D876,\" \",\"\")","v":""},16,"Michoacán de Ocampo",104,"Villamar"]
[null,null,{"$f":"SUBSTITUTE(Reporte!D877,\" \",\"\")","v":""},16,"Michoacán de Ocampo",103,"Venustiano Carranza"]
[null,null,{"$f":"SUBSTITUTE(Reporte!D878,\" \",\"\")","v":""},16,"Michoacán de Ocampo",102,"Uruapan"]
[null,null,{"$f":"SUBSTITUTE(Reporte!D879,\" \",\"\")","v":""},16,"Michoacán de Ocampo",101,"Tzitzio"]
[null,null,{"$f":"SUBSTITUTE(Reporte!D880,\" \",\"\")","v":""},16,"Michoacán de Ocampo",100,"Tzintzuntzan"]
[null,null,{"$f":"SUBSTITUTE(Reporte!D881,\" \",\"\")","v":""},16,"Michoacán de Ocampo",99,"Tuzantla"]
[null,null,{"$f":"SUBSTITUTE(Reporte!D882,\" \",\"\")","v":""},16,"Michoacán de Ocampo",98,"Tuxpan"]
[null,null,{"$f":"SUBSTITUTE(Reporte!D883,\" \",\"\")","v":""},16,"Michoacán de Ocampo",97,"Turicato"]
[null,null,{"$f":"SUBSTITUTE(Reporte!D884,\" \",\"\")","v":""},16,"Michoacán de Ocampo",96,"Tumbiscatío"]
[null,null,{"$f":"SUBSTITUTE(Reporte!D885,\" \",\"\")","v":""},16,"Michoacán de Ocampo",94,"Tlazazalca"]
[null,null,{"$f":"SUBSTITUTE(Reporte!D886,\" \",\"\")","v":""},16,"Michoacán de Ocampo",93,"Tlalpujahua"]
[null,null,{"$f":"SUBSTITUTE(Reporte!D887,\" \",\"\")","v":""},16,"Michoacán de Ocampo",92,"Tiquicheo de Nicolás Romero"]
[null,null,{"$f":"SUBSTITUTE(Reporte!D888,\" \",\"\")","v":""},16,"Michoacán de Ocampo",91,"Tingüindín"]
[null,null,{"$f":"SUBSTITUTE(Reporte!D889,\" \",\"\")","v":""},16,"Michoacán de Ocampo",90,"Tingambato"]
[null,null,{"$f":"SUBSTITUTE(Reporte!D890,\" \",\"\")","v":""},16,"Michoacán de Ocampo",113,"José Sixto Verduzco"]
[null,null,{"$f":"SUBSTITUTE(Reporte!D891,\" \",\"\")","v":""},16,"Michoacán de Ocampo",112,"Zitácuaro"]
[null,null,{"$f":"SUBSTITUTE(Reporte!D892,\" \",\"\")","v":""},16,"Michoacán de Ocampo",111,"Ziracuaretiro"]
[null,null,{"$f":"SUBSTITUTE(Reporte!D893,\" \",\"\")","v":""},16,"Michoacán de Ocampo",110,"Zinapécuaro"]
[null,null,{"$f":"SUBSTITUTE(Reporte!D894,\" \",\"\")","v":""},16,"Michoacán de Ocampo",109,"Zináparo"]
[null,null,{"$f":"SUBSTITUTE(Reporte!D895,\" \",\"\")","v":""},16,"Michoacán de Ocampo",108,"Zamora"]
[null,null,{"$f":"SUBSTITUTE(Reporte!D896,\" \",\"\")","v":""},16,"Michoacán de Ocampo",107,"Zacapu"]
[null,null,{"$f":"SUBSTITUTE(Reporte!D897,\" \",\"\")","v":""},16,"Michoacán de Ocampo",95,"Tocumbo"]
[null,null,{"$f":"SUBSTITUTE(Reporte!D898,\" \",\"\")","v":""},17,"Morelos",31,"Zacatepec"]
[null,null,{"$f":"SUBSTITUTE(Reporte!D899,\" \",\"\")","v":""},17,"Morelos",32,"Zacualpan de Amilpas"]
[null,null,{"$f":"SUBSTITUTE(Reporte!D900,\" \",\"\")","v":""},17,"Morelos",33,"Temoac"]
[null,null,{"$f":"SUBSTITUTE(Reporte!D901,\" \",\"\")","v":""},17,"Morelos",2,"Atlatlahucan"]
[null,null,{"$f":"SUBSTITUTE(Reporte!D902,\" \",\"\")","v":""},17,"Morelos",3,"Axochiapan"]
[null,null,{"$f":"SUBSTITUTE(Reporte!D903,\" \",\"\")","v":""},17,"Morelos",6,"Cuautla"]
[null,null,{"$f":"SUBSTITUTE(Reporte!D904,\" \",\"\")","v":""},17,"Morelos",5,"Coatlán del Río"]
[null,null,{"$f":"SUBSTITUTE(Reporte!D905,\" \",\"\")","v":""},17,"Morelos",1,"Amacuzac"]
[null,null,{"$f":"SUBSTITUTE(Reporte!D906,\" \",\"\")","v":""},17,"Morelos",4,"Ayala"]
[null,null,{"$f":"SUBSTITUTE(Reporte!D907,\" \",\"\")","v":""},17,"Morelos",10,"Jantetelco"]
[null,null,{"$f":"SUBSTITUTE(Reporte!D908,\" \",\"\")","v":""},17,"Morelos",9,"Huitzilac"]
[null,null,{"$f":"SUBSTITUTE(Reporte!D909,\" \",\"\")","v":""},17,"Morelos",7,"Cuernavaca"]
[null,null,{"$f":"SUBSTITUTE(Reporte!D910,\" \",\"\")","v":""},17,"Morelos",8,"Emiliano Zapata"]
[null,null,{"$f":"SUBSTITUTE(Reporte!D911,\" \",\"\")","v":""},17,"Morelos",14,"Mazatepec"]
[null,null,{"$f":"SUBSTITUTE(Reporte!D912,\" \",\"\")","v":""},17,"Morelos",13,"Jonacatepec de Leandro Valle"]
[null,null,{"$f":"SUBSTITUTE(Reporte!D913,\" \",\"\")","v":""},17,"Morelos",12,"Jojutla"]
[null,null,{"$f":"SUBSTITUTE(Reporte!D914,\" \",\"\")","v":""},17,"Morelos",11,"Jiutepec"]
[null,null,{"$f":"SUBSTITUTE(Reporte!D915,\" \",\"\")","v":""},17,"Morelos",23,"Tlalnepantla"]
[null,null,{"$f":"SUBSTITUTE(Reporte!D916,\" \",\"\")","v":""},17,"Morelos",24,"Tlaltizapán de Zapata"]
[null,null,{"$f":"SUBSTITUTE(Reporte!D917,\" \",\"\")","v":""},17,"Morelos",25,"Tlaquiltenango"]
[null,null,{"$f":"SUBSTITUTE(Reporte!D918,\" \",\"\")","v":""},17,"Morelos",26,"Tlayacapan"]
[null,null,{"$f":"SUBSTITUTE(Reporte!D919,\" \",\"\")","v":""},17,"Morelos",27,"Totolapan"]
[null,null,{"$f":"SUBSTITUTE(Reporte!D920,\" \",\"\")","v":""},17,"Morelos",28,"Xochitepec"]
[null,null,{"$f":"SUBSTITUTE(Reporte!D921,\" \",\"\")","v":""},17,"Morelos",29,"Yautepec"]
[null,null,{"$f":"SUBSTITUTE(Reporte!D922,\" \",\"\")","v":""},17,"Morelos",30,"Yecapixtla"]
[null,null,{"$f":"SUBSTITUTE(Reporte!D923,\" \",\"\")","v":""},17,"Morelos",19,"Tepalcingo"]
[null,null,{"$f":"SUBSTITUTE(Reporte!D924,\" \",\"\")","v":""},17,"Morelos",20,"Tepoztlán"]
[null,null,{"$f":"SUBSTITUTE(Reporte!D925,\" \",\"\")","v":""},17,"Morelos",21,"Tetecala"]
[null,null,{"$f":"SUBSTITUTE(Reporte!D926,\" \",\"\")","v":""},17,"Morelos",22,"Tetela del Volcán"]
[null,null,{"$f":"SUBSTITUTE(Reporte!D927,\" \",\"\")","v":""},17,"Morelos",18,"Temixco"]
[null,null,{"$f":"SUBSTITUTE(Reporte!D928,\" \",\"\")","v":""},17,"Morelos",17,"Puente de Ixtla"]
[null,null,{"$f":"SUBSTITUTE(Reporte!D929,\" \",\"\")","v":""},17,"Morelos",16,"Ocuituco"]
[null,null,{"$f":"SUBSTITUTE(Reporte!D930,\" \",\"\")","v":""},17,"Morelos",15,"Miacatlán"]
[null,null,{"$f":"SUBSTITUTE(Reporte!D931,\" \",\"\")","v":""},18,"Nayarit",15,"Santiago Ixcuintla"]
[null,null,{"$f":"SUBSTITUTE(Reporte!D932,\" \",\"\")","v":""},18,"Nayarit",16,"Tecuala"]
[null,null,{"$f":"SUBSTITUTE(Reporte!D933,\" \",\"\")","v":""},18,"Nayarit",17,"Tepic"]
[null,null,{"$f":"SUBSTITUTE(Reporte!D934,\" \",\"\")","v":""},18,"Nayarit",18,"Tuxpan"]
[null,null,{"$f":"SUBSTITUTE(Reporte!D935,\" \",\"\")","v":""},18,"Nayarit",20,"Bahía de Banderas"]
[null,null,{"$f":"SUBSTITUTE(Reporte!D936,\" \",\"\")","v":""},18,"Nayarit",19,"La Yesca"]
[null,null,{"$f":"SUBSTITUTE(Reporte!D937,\" \",\"\")","v":""},18,"Nayarit",11,"Ruíz"]
[null,null,{"$f":"SUBSTITUTE(Reporte!D938,\" \",\"\")","v":""},18,"Nayarit",12,"San Blas"]
[null,null,{"$f":"SUBSTITUTE(Reporte!D939,\" \",\"\")","v":""},18,"Nayarit",13,"San Pedro Lagunillas"]
[null,null,{"$f":"SUBSTITUTE(Reporte!D940,\" \",\"\")","v":""},18,"Nayarit",14,"Santa María del Oro"]
[null,null,{"$f":"SUBSTITUTE(Reporte!D941,\" \",\"\")","v":""},18,"Nayarit",8,"Xalisco"]
[null,null,{"$f":"SUBSTITUTE(Reporte!D942,\" \",\"\")","v":""},18,"Nayarit",7,"Jala"]
[null,null,{"$f":"SUBSTITUTE(Reporte!D943,\" \",\"\")","v":""},18,"Nayarit",9,"Del Nayar"]
[null,null,{"$f":"SUBSTITUTE(Reporte!D944,\" \",\"\")","v":""},18,"Nayarit",10,"Rosamorada"]
[null,null,{"$f":"SUBSTITUTE(Reporte!D945,\" \",\"\")","v":""},18,"Nayarit",4,"Compostela"]
[null,null,{"$f":"SUBSTITUTE(Reporte!D946,\" \",\"\")","v":""},18,"Nayarit",1,"Acaponeta"]
[null,null,{"$f":"SUBSTITUTE(Reporte!D947,\" \",\"\")","v":""},18,"Nayarit",5,"Huajicori"]
[null,null,{"$f":"SUBSTITUTE(Reporte!D948,\" \",\"\")","v":""},18,"Nayarit",6,"Ixtlán del Río"]
[null,null,{"$f":"SUBSTITUTE(Reporte!D949,\" \",\"\")","v":""},18,"Nayarit",3,"Amatlán de Cañas"]
[null,null,{"$f":"SUBSTITUTE(Reporte!D950,\" \",\"\")","v":""},18,"Nayarit",2,"Ahuacatlán"]
[null,null,{"$f":"SUBSTITUTE(Reporte!D951,\" \",\"\")","v":""},19,"Nuevo León",2,"Agualeguas"]
[null,null,{"$f":"SUBSTITUTE(Reporte!D952,\" \",\"\")","v":""},19,"Nuevo León",3,"Los Aldamas"]
[null,null,{"$f":"SUBSTITUTE(Reporte!D953,\" \",\"\")","v":""},19,"Nuevo León",6,"Apodaca"]
[null,null,{"$f":"SUBSTITUTE(Reporte!D954,\" \",\"\")","v":""},19,"Nuevo León",5,"Anáhuac"]
[null,null,{"$f":"SUBSTITUTE(Reporte!D955,\" \",\"\")","v":""},19,"Nuevo León",1,"Abasolo"]
[null,null,{"$f":"SUBSTITUTE(Reporte!D956,\" \",\"\")","v":""},19,"Nuevo León",4,"Allende"]
[null,null,{"$f":"SUBSTITUTE(Reporte!D957,\" \",\"\")","v":""},19,"Nuevo León",10,"El Carmen"]
[null,null,{"$f":"SUBSTITUTE(Reporte!D958,\" \",\"\")","v":""},19,"Nuevo León",9,"Cadereyta Jiménez"]
[null,null,{"$f":"SUBSTITUTE(Reporte!D959,\" \",\"\")","v":""},19,"Nuevo León",7,"Aramberri"]
[null,null,{"$f":"SUBSTITUTE(Reporte!D960,\" \",\"\")","v":""},19,"Nuevo León",8,"Bustamante"]
[null,null,{"$f":"SUBSTITUTE(Reporte!D961,\" \",\"\")","v":""},19,"Nuevo León",14,"Doctor Arroyo"]
[null,null,{"$f":"SUBSTITUTE(Reporte!D962,\" \",\"\")","v":""},19,"Nuevo León",13,"China"]
[null,null,{"$f":"SUBSTITUTE(Reporte!D963,\" \",\"\")","v":""},19,"Nuevo León",12,"Ciénega de Flores"]
[null,null,{"$f":"SUBSTITUTE(Reporte!D964,\" \",\"\")","v":""},19,"Nuevo León",11,"Cerralvo"]
[null,null,{"$f":"SUBSTITUTE(Reporte!D965,\" \",\"\")","v":""},19,"Nuevo León",19,"San Pedro Garza García"]
[null,null,{"$f":"SUBSTITUTE(Reporte!D966,\" \",\"\")","v":""},19,"Nuevo León",20,"General Bravo"]
[null,null,{"$f":"SUBSTITUTE(Reporte!D967,\" \",\"\")","v":""},19,"Nuevo León",22,"General Terán"]
[null,null,{"$f":"SUBSTITUTE(Reporte!D968,\" \",\"\")","v":""},19,"Nuevo León",21,"General Escobedo"]
[null,null,{"$f":"SUBSTITUTE(Reporte!D969,\" \",\"\")","v":""},19,"Nuevo León",18,"García"]
[null,null,{"$f":"SUBSTITUTE(Reporte!D970,\" \",\"\")","v":""},19,"Nuevo León",17,"Galeana"]
[null,null,{"$f":"SUBSTITUTE(Reporte!D971,\" \",\"\")","v":""},19,"Nuevo León",16,"Doctor González"]
[null,null,{"$f":"SUBSTITUTE(Reporte!D972,\" \",\"\")","v":""},19,"Nuevo León",15,"Doctor Coss"]
[null,null,{"$f":"SUBSTITUTE(Reporte!D973,\" \",\"\")","v":""},19,"Nuevo León",30,"Iturbide"]
[null,null,{"$f":"SUBSTITUTE(Reporte!D974,\" \",\"\")","v":""},19,"Nuevo León",29,"Hualahuises"]
[null,null,{"$f":"SUBSTITUTE(Reporte!D975,\" \",\"\")","v":""},19,"Nuevo León",28,"Higueras"]
[null,null,{"$f":"SUBSTITUTE(Reporte!D976,\" \",\"\")","v":""},19,"Nuevo León",27,"Los Herreras"]
[null,null,{"$f":"SUBSTITUTE(Reporte!D977,\" \",\"\")","v":""},19,"Nuevo León",26,"Guadalupe"]
[null,null,{"$f":"SUBSTITUTE(Reporte!D978,\" \",\"\")","v":""},19,"Nuevo León",25,"General Zuazua"]
[null,null,{"$f":"SUBSTITUTE(Reporte!D979,\" \",\"\")","v":""},19,"Nuevo León",24,"General Zaragoza"]
[null,null,{"$f":"SUBSTITUTE(Reporte!D980,\" \",\"\")","v":""},19,"Nuevo León",23,"General Treviño"]
[null,null,{"$f":"SUBSTITUTE(Reporte!D981,\" \",\"\")","v":""},19,"Nuevo León",33,"Linares"]
[null,null,{"$f":"SUBSTITUTE(Reporte!D982,\" \",\"\")","v":""},19,"Nuevo León",34,"Marín"]
[null,null,{"$f":"SUBSTITUTE(Reporte!D983,\" \",\"\")","v":""},19,"Nuevo León",32,"Lampazos de Naranjo"]
[null,null,{"$f":"SUBSTITUTE(Reporte!D984,\" \",\"\")","v":""},19,"Nuevo León",31,"Juárez"]
[null,null,{"$f":"SUBSTITUTE(Reporte!D985,\" \",\"\")","v":""},19,"Nuevo León",35,"Melchor Ocampo"]
[null,null,{"$f":"SUBSTITUTE(Reporte!D986,\" \",\"\")","v":""},19,"Nuevo León",36,"Mier y Noriega"]
[null,null,{"$f":"SUBSTITUTE(Reporte!D987,\" \",\"\")","v":""},19,"Nuevo León",37,"Mina"]
[null,null,{"$f":"SUBSTITUTE(Reporte!D988,\" \",\"\")","v":""},19,"Nuevo León",38,"Montemorelos"]
[null,null,{"$f":"SUBSTITUTE(Reporte!D989,\" \",\"\")","v":""},19,"Nuevo León",39,"Monterrey"]
[null,null,{"$f":"SUBSTITUTE(Reporte!D990,\" \",\"\")","v":""},19,"Nuevo León",40,"Parás"]
[null,null,{"$f":"SUBSTITUTE(Reporte!D991,\" \",\"\")","v":""},19,"Nuevo León",41,"Pesquería"]
[null,null,{"$f":"SUBSTITUTE(Reporte!D992,\" \",\"\")","v":""},19,"Nuevo León",42,"Los Ramones"]
[null,null,{"$f":"SUBSTITUTE(Reporte!D993,\" \",\"\")","v":""},19,"Nuevo León",43,"Rayones"]
[null,null,{"$f":"SUBSTITUTE(Reporte!D994,\" \",\"\")","v":""},19,"Nuevo León",44,"Sabinas Hidalgo"]
[null,null,{"$f":"SUBSTITUTE(Reporte!D995,\" \",\"\")","v":""},19,"Nuevo León",45,"Salinas Victoria"]
[null,null,{"$f":"SUBSTITUTE(Reporte!D996,\" \",\"\")","v":""},19,"Nuevo León",46,"San Nicolás de los Garza"]
[null,null,{"$f":"SUBSTITUTE(Reporte!D997,\" \",\"\")","v":""},19,"Nuevo León",51,"Villaldama"]
[null,null,{"$f":"SUBSTITUTE(Reporte!D998,\" \",\"\")","v":""},19,"Nuevo León",50,"Vallecillo"]
[null,null,{"$f":"SUBSTITUTE(Reporte!D999,\" \",\"\")","v":""},19,"Nuevo León",49,"Santiago"]
[null,null,{"$f":"SUBSTITUTE(Reporte!D1000,\" \",\"\")","v":""},19,"Nuevo León",48,"Santa Catarina"]
[null,null,{"$f":"SUBSTITUTE(Reporte!D1001,\" \",\"\")","v":""},19,"Nuevo León",47,"Hidalgo"]
[null,null,{"$f":"SUBSTITUTE(Reporte!D1002,\" \",\"\")","v":""},20,"Oaxaca",47,"Santa Magdalena Jicotlán"]
[null,null,{"$f":"SUBSTITUTE(Reporte!D1003,\" \",\"\")","v":""},20,"Oaxaca",48,"Magdalena Mixtepec"]
[null,null,{"$f":"SUBSTITUTE(Reporte!D1004,\" \",\"\")","v":""},20,"Oaxaca",49,"Magdalena Ocotlán"]
[null,null,{"$f":"SUBSTITUTE(Reporte!D1005,\" \",\"\")","v":""},20,"Oaxaca",50,"Magdalena Peñasco"]
[null,null,{"$f":"SUBSTITUTE(Reporte!D1006,\" \",\"\")","v":""},20,"Oaxaca",51,"Magdalena Teitipac"]
[null,null,{"$f":"SUBSTITUTE(Reporte!D1007,\" \",\"\")","v":""},20,"Oaxaca",53,"Magdalena Tlacotepec"]
[null,null,{"$f":"SUBSTITUTE(Reporte!D1008,\" \",\"\")","v":""},20,"Oaxaca",52,"Magdalena Tequisistlán"]
[null,null,{"$f":"SUBSTITUTE(Reporte!D1009,\" \",\"\")","v":""},20,"Oaxaca",57,"Matías Romero Avendaño"]
[null,null,{"$f":"SUBSTITUTE(Reporte!D1010,\" \",\"\")","v":""},20,"Oaxaca",56,"Mártires de Tacubaya"]
[null,null,{"$f":"SUBSTITUTE(Reporte!D1011,\" \",\"\")","v":""},20,"Oaxaca",55,"Mariscala de Juárez"]
[null,null,{"$f":"SUBSTITUTE(Reporte!D1012,\" \",\"\")","v":""},20,"Oaxaca",54,"Magdalena Zahuatlán"]
[null,null,{"$f":"SUBSTITUTE(Reporte!D1013,\" \",\"\")","v":""},20,"Oaxaca",70,"Pinotepa de Don Luis"]
[null,null,{"$f":"SUBSTITUTE(Reporte!D1014,\" \",\"\")","v":""},20,"Oaxaca",71,"Pluma Hidalgo"]
[null,null,{"$f":"SUBSTITUTE(Reporte!D1015,\" \",\"\")","v":""},20,"Oaxaca",72,"San José del Progreso"]
[null,null,{"$f":"SUBSTITUTE(Reporte!D1016,\" \",\"\")","v":""},20,"Oaxaca",73,"Putla Villa de Guerrero"]
[null,null,{"$f":"SUBSTITUTE(Reporte!D1017,\" \",\"\")","v":""},20,"Oaxaca",68,"Ocotlán de Morelos"]
[null,null,{"$f":"SUBSTITUTE(Reporte!D1018,\" \",\"\")","v":""},20,"Oaxaca",69,"La Pe"]
[null,null,{"$f":"SUBSTITUTE(Reporte!D1019,\" \",\"\")","v":""},20,"Oaxaca",67,"Oaxaca de Juárez"]
[null,null,{"$f":"SUBSTITUTE(Reporte!D1020,\" \",\"\")","v":""},20,"Oaxaca",66,"Santiago Niltepec"]
[null,null,{"$f":"SUBSTITUTE(Reporte!D1021,\" \",\"\")","v":""},20,"Oaxaca",65,"Ixpantepec Nieves"]
[null,null,{"$f":"SUBSTITUTE(Reporte!D1022,\" \",\"\")","v":""},20,"Oaxaca",64,"Nejapa de Madero"]
[null,null,{"$f":"SUBSTITUTE(Reporte!D1023,\" \",\"\")","v":""},20,"Oaxaca",63,"Nazareno Etla"]
[null,null,{"$f":"SUBSTITUTE(Reporte!D1024,\" \",\"\")","v":""},20,"Oaxaca",62,"Natividad"]
[null,null,{"$f":"SUBSTITUTE(Reporte!D1025,\" \",\"\")","v":""},20,"Oaxaca",61,"Monjas"]
[null,null,{"$f":"SUBSTITUTE(Reporte!D1026,\" \",\"\")","v":""},20,"Oaxaca",60,"Mixistlán de la Reforma"]
[null,null,{"$f":"SUBSTITUTE(Reporte!D1027,\" \",\"\")","v":""},20,"Oaxaca",59,"Miahuatlán de Porfirio Díaz"]
[null,null,{"$f":"SUBSTITUTE(Reporte!D1028,\" \",\"\")","v":""},20,"Oaxaca",58,"Mazatlán Villa de Flores"]
[null,null,{"$f":"SUBSTITUTE(Reporte!D1029,\" \",\"\")","v":""},20,"Oaxaca",46,"Magdalena Jaltepec"]
[null,null,{"$f":"SUBSTITUTE(Reporte!D1030,\" \",\"\")","v":""},20,"Oaxaca",45,"Magdalena Apasco"]
[null,null,{"$f":"SUBSTITUTE(Reporte!D1031,\" \",\"\")","v":""},20,"Oaxaca",44,"Loma Bonita"]
[null,null,{"$f":"SUBSTITUTE(Reporte!D1032,\" \",\"\")","v":""},20,"Oaxaca",43,"Heroica Ciudad de Juchitán de Zaragoza"]
[null,null,{"$f":"SUBSTITUTE(Reporte!D1033,\" \",\"\")","v":""},20,"Oaxaca",42,"Ixtlán de Juárez"]
[null,null,{"$f":"SUBSTITUTE(Reporte!D1034,\" \",\"\")","v":""},20,"Oaxaca",41,"Huautla de Jiménez"]
[null,null,{"$f":"SUBSTITUTE(Reporte!D1035,\" \",\"\")","v":""},20,"Oaxaca",40,"Huautepec"]
[null,null,{"$f":"SUBSTITUTE(Reporte!D1036,\" \",\"\")","v":""},20,"Oaxaca",39,"Heroica Ciudad de Huajuapan de León"]
[null,null,{"$f":"SUBSTITUTE(Reporte!D1037,\" \",\"\")","v":""},20,"Oaxaca",38,"Villa Hidalgo"]
[null,null,{"$f":"SUBSTITUTE(Reporte!D1038,\" \",\"\")","v":""},20,"Oaxaca",37,"Mesones Hidalgo"]
[null,null,{"$f":"SUBSTITUTE(Reporte!D1039,\" \",\"\")","v":""},20,"Oaxaca",36,"Guevea de Humboldt"]
[null,null,{"$f":"SUBSTITUTE(Reporte!D1040,\" \",\"\")","v":""},20,"Oaxaca",35,"Guelatao de Juárez"]
[null,null,{"$f":"SUBSTITUTE(Reporte!D1041,\" \",\"\")","v":""},20,"Oaxaca",31,"Tamazulápam del Espíritu Santo"]
[null,null,{"$f":"SUBSTITUTE(Reporte!D1042,\" \",\"\")","v":""},20,"Oaxaca",32,"Fresnillo de Trujano"]
[null,null,{"$f":"SUBSTITUTE(Reporte!D1043,\" \",\"\")","v":""},20,"Oaxaca",34,"Guadalupe de Ramírez"]
[null,null,{"$f":"SUBSTITUTE(Reporte!D1044,\" \",\"\")","v":""},20,"Oaxaca",33,"Guadalupe Etla"]
[null,null,{"$f":"SUBSTITUTE(Reporte!D1045,\" \",\"\")","v":""},20,"Oaxaca",23,"Cuilápam de Guerrero"]
[null,null,{"$f":"SUBSTITUTE(Reporte!D1046,\" \",\"\")","v":""},20,"Oaxaca",24,"Cuyamecalco Villa de Zaragoza"]
[null,null,{"$f":"SUBSTITUTE(Reporte!D1047,\" \",\"\")","v":""},20,"Oaxaca",25,"Chahuites"]
[null,null,{"$f":"SUBSTITUTE(Reporte!D1048,\" \",\"\")","v":""},20,"Oaxaca",26,"Chalcatongo de Hidalgo"]
[null,null,{"$f":"SUBSTITUTE(Reporte!D1049,\" \",\"\")","v":""},20,"Oaxaca",27,"Chiquihuitlán de Benito Juárez"]
[null,null,{"$f":"SUBSTITUTE(Reporte!D1050,\" \",\"\")","v":""},20,"Oaxaca",28,"Heroica Ciudad de Ejutla de Crespo"]
[null,null,{"$f":"SUBSTITUTE(Reporte!D1051,\" \",\"\")","v":""},20,"Oaxaca",29,"Eloxochitlán de Flores Magón"]
[null,null,{"$f":"SUBSTITUTE(Reporte!D1052,\" \",\"\")","v":""},20,"Oaxaca",30,"El Espinal"]
[null,null,{"$f":"SUBSTITUTE(Reporte!D1053,\" \",\"\")","v":""},20,"Oaxaca",15,"Coatecas Altas"]
[null,null,{"$f":"SUBSTITUTE(Reporte!D1054,\" \",\"\")","v":""},20,"Oaxaca",16,"Coicoyán de las Flores"]
[null,null,{"$f":"SUBSTITUTE(Reporte!D1055,\" \",\"\")","v":""},20,"Oaxaca",17,"La Compañía"]
[null,null,{"$f":"SUBSTITUTE(Reporte!D1056,\" \",\"\")","v":""},20,"Oaxaca",18,"Concepción Buenavista"]
[null,null,{"$f":"SUBSTITUTE(Reporte!D1057,\" \",\"\")","v":""},20,"Oaxaca",21,"Cosolapa"]
[null,null,{"$f":"SUBSTITUTE(Reporte!D1058,\" \",\"\")","v":""},20,"Oaxaca",22,"Cosoltepec"]
[null,null,{"$f":"SUBSTITUTE(Reporte!D1059,\" \",\"\")","v":""},20,"Oaxaca",20,"Constancia del Rosario"]
[null,null,{"$f":"SUBSTITUTE(Reporte!D1060,\" \",\"\")","v":""},20,"Oaxaca",19,"Concepción Pápalo"]
[null,null,{"$f":"SUBSTITUTE(Reporte!D1061,\" \",\"\")","v":""},20,"Oaxaca",11,"Calihualá"]
[null,null,{"$f":"SUBSTITUTE(Reporte!D1062,\" \",\"\")","v":""},20,"Oaxaca",12,"Candelaria Loxicha"]
[null,null,{"$f":"SUBSTITUTE(Reporte!D1063,\" \",\"\")","v":""},20,"Oaxaca",13,"Ciénega de Zimatlán"]
[null,null,{"$f":"SUBSTITUTE(Reporte!D1064,\" \",\"\")","v":""},20,"Oaxaca",14,"Ciudad Ixtepec"]
[null,null,{"$f":"SUBSTITUTE(Reporte!D1065,\" \",\"\")","v":""},20,"Oaxaca",8,"Asunción Tlacolulita"]
[null,null,{"$f":"SUBSTITUTE(Reporte!D1066,\" \",\"\")","v":""},20,"Oaxaca",7,"Asunción Ocotlán"]
[null,null,{"$f":"SUBSTITUTE(Reporte!D1067,\" \",\"\")","v":""},20,"Oaxaca",9,"Ayotzintepec"]
[null,null,{"$f":"SUBSTITUTE(Reporte!D1068,\" \",\"\")","v":""},20,"Oaxaca",10,"El Barrio de la Soledad"]
[null,null,{"$f":"SUBSTITUTE(Reporte!D1069,\" \",\"\")","v":""},20,"Oaxaca",4,"Asunción Cuyotepeji"]
[null,null,{"$f":"SUBSTITUTE(Reporte!D1070,\" \",\"\")","v":""},20,"Oaxaca",1,"Abejones"]
[null,null,{"$f":"SUBSTITUTE(Reporte!D1071,\" \",\"\")","v":""},20,"Oaxaca",5,"Asunción Ixtaltepec"]
[null,null,{"$f":"SUBSTITUTE(Reporte!D1072,\" \",\"\")","v":""},20,"Oaxaca",6,"Asunción Nochixtlán"]
[null,null,{"$f":"SUBSTITUTE(Reporte!D1073,\" \",\"\")","v":""},20,"Oaxaca",3,"Asunción Cacalotepec"]
[null,null,{"$f":"SUBSTITUTE(Reporte!D1074,\" \",\"\")","v":""},20,"Oaxaca",2,"Acatlán de Pérez Figueroa"]
[null,null,{"$f":"SUBSTITUTE(Reporte!D1075,\" \",\"\")","v":""},20,"Oaxaca",95,"San Andrés Paxtlán"]
[null,null,{"$f":"SUBSTITUTE(Reporte!D1076,\" \",\"\")","v":""},20,"Oaxaca",107,"San Antonio de la Cal"]
[null,null,{"$f":"SUBSTITUTE(Reporte!D1077,\" \",\"\")","v":""},20,"Oaxaca",108,"San Antonio Huitepec"]
[null,null,{"$f":"SUBSTITUTE(Reporte!D1078,\" \",\"\")","v":""},20,"Oaxaca",109,"San Antonio Nanahuatípam"]
[null,null,{"$f":"SUBSTITUTE(Reporte!D1079,\" \",\"\")","v":""},20,"Oaxaca",110,"San Antonio Sinicahua"]
[null,null,{"$f":"SUBSTITUTE(Reporte!D1080,\" \",\"\")","v":""},20,"Oaxaca",111,"San Antonio Tepetlapa"]
[null,null,{"$f":"SUBSTITUTE(Reporte!D1081,\" \",\"\")","v":""},20,"Oaxaca",112,"San Baltazar Chichicápam"]
[null,null,{"$f":"SUBSTITUTE(Reporte!D1082,\" \",\"\")","v":""},20,"Oaxaca",113,"San Baltazar Loxicha"]
[null,null,{"$f":"SUBSTITUTE(Reporte!D1083,\" \",\"\")","v":""},20,"Oaxaca",121,"San Bartolo Soyaltepec"]
[null,null,{"$f":"SUBSTITUTE(Reporte!D1084,\" \",\"\")","v":""},20,"Oaxaca",120,"San Bartolomé Zoogocho"]
[null,null,{"$f":"SUBSTITUTE(Reporte!D1085,\" \",\"\")","v":""},20,"Oaxaca",119,"San Bartolomé Yucuañe"]
[null,null,{"$f":"SUBSTITUTE(Reporte!D1086,\" \",\"\")","v":""},20,"Oaxaca",118,"San Bartolomé Quialana"]
[null,null,{"$f":"SUBSTITUTE(Reporte!D1087,\" \",\"\")","v":""},20,"Oaxaca",117,"San Bartolomé Loxicha"]
[null,null,{"$f":"SUBSTITUTE(Reporte!D1088,\" \",\"\")","v":""},20,"Oaxaca",116,"San Bartolomé Ayautla"]
[null,null,{"$f":"SUBSTITUTE(Reporte!D1089,\" \",\"\")","v":""},20,"Oaxaca",115,"San Bartolo Coyotepec"]
[null,null,{"$f":"SUBSTITUTE(Reporte!D1090,\" \",\"\")","v":""},20,"Oaxaca",114,"San Baltazar Yatzachi el Bajo"]
[null,null,{"$f":"SUBSTITUTE(Reporte!D1091,\" \",\"\")","v":""},20,"Oaxaca",122,"San Bartolo Yautepec"]
[null,null,{"$f":"SUBSTITUTE(Reporte!D1092,\" \",\"\")","v":""},20,"Oaxaca",123,"San Bernardo Mixtepec"]
[null,null,{"$f":"SUBSTITUTE(Reporte!D1093,\" \",\"\")","v":""},20,"Oaxaca",124,"San Blas Atempa"]
[null,null,{"$f":"SUBSTITUTE(Reporte!D1094,\" \",\"\")","v":""},20,"Oaxaca",125,"San Carlos Yautepec"]
[null,null,{"$f":"SUBSTITUTE(Reporte!D1095,\" \",\"\")","v":""},20,"Oaxaca",126,"San Cristóbal Amatlán"]
[null,null,{"$f":"SUBSTITUTE(Reporte!D1096,\" \",\"\")","v":""},20,"Oaxaca",127,"San Cristóbal Amoltepec"]
[null,null,{"$f":"SUBSTITUTE(Reporte!D1097,\" \",\"\")","v":""},20,"Oaxaca",128,"San Cristóbal Lachirioag"]
[null,null,{"$f":"SUBSTITUTE(Reporte!D1098,\" \",\"\")","v":""},20,"Oaxaca",129,"San Cristóbal Suchixtlahuaca"]
[null,null,{"$f":"SUBSTITUTE(Reporte!D1099,\" \",\"\")","v":""},20,"Oaxaca",130,"San Dionisio del Mar"]
[null,null,{"$f":"SUBSTITUTE(Reporte!D1100,\" \",\"\")","v":""},20,"Oaxaca",131,"San Dionisio Ocotepec"]
[null,null,{"$f":"SUBSTITUTE(Reporte!D1101,\" \",\"\")","v":""},20,"Oaxaca",132,"San Dionisio Ocotlán"]
[null,null,{"$f":"SUBSTITUTE(Reporte!D1102,\" \",\"\")","v":""},20,"Oaxaca",133,"San Esteban Atatlahuca"]
[null,null,{"$f":"SUBSTITUTE(Reporte!D1103,\" \",\"\")","v":""},20,"Oaxaca",134,"San Felipe Jalapa de Díaz"]
[null,null,{"$f":"SUBSTITUTE(Reporte!D1104,\" \",\"\")","v":""},20,"Oaxaca",135,"San Felipe Tejalápam"]
[null,null,{"$f":"SUBSTITUTE(Reporte!D1105,\" \",\"\")","v":""},20,"Oaxaca",136,"San Felipe Usila"]
[null,null,{"$f":"SUBSTITUTE(Reporte!D1106,\" \",\"\")","v":""},20,"Oaxaca",137,"San Francisco Cahuacuá"]
[null,null,{"$f":"SUBSTITUTE(Reporte!D1107,\" \",\"\")","v":""},20,"Oaxaca",138,"San Francisco Cajonos"]
[null,null,{"$f":"SUBSTITUTE(Reporte!D1108,\" \",\"\")","v":""},20,"Oaxaca",139,"San Francisco Chapulapa"]
[null,null,{"$f":"SUBSTITUTE(Reporte!D1109,\" \",\"\")","v":""},20,"Oaxaca",140,"San Francisco Chindúa"]
[null,null,{"$f":"SUBSTITUTE(Reporte!D1110,\" \",\"\")","v":""},20,"Oaxaca",141,"San Francisco del Mar"]
[null,null,{"$f":"SUBSTITUTE(Reporte!D1111,\" \",\"\")","v":""},20,"Oaxaca",142,"San Francisco Huehuetlán"]
[null,null,{"$f":"SUBSTITUTE(Reporte!D1112,\" \",\"\")","v":""},20,"Oaxaca",143,"San Francisco Ixhuatán"]
[null,null,{"$f":"SUBSTITUTE(Reporte!D1113,\" \",\"\")","v":""},20,"Oaxaca",144,"San Francisco Jaltepetongo"]
[null,null,{"$f":"SUBSTITUTE(Reporte!D1114,\" \",\"\")","v":""},20,"Oaxaca",145,"San Francisco Lachigoló"]
[null,null,{"$f":"SUBSTITUTE(Reporte!D1115,\" \",\"\")","v":""},20,"Oaxaca",146,"San Francisco Logueche"]
[null,null,{"$f":"SUBSTITUTE(Reporte!D1116,\" \",\"\")","v":""},20,"Oaxaca",147,"San Francisco Nuxaño"]
[null,null,{"$f":"SUBSTITUTE(Reporte!D1117,\" \",\"\")","v":""},20,"Oaxaca",148,"San Francisco Ozolotepec"]
[null,null,{"$f":"SUBSTITUTE(Reporte!D1118,\" \",\"\")","v":""},20,"Oaxaca",149,"San Francisco Sola"]
[null,null,{"$f":"SUBSTITUTE(Reporte!D1119,\" \",\"\")","v":""},20,"Oaxaca",150,"San Francisco Telixtlahuaca"]
[null,null,{"$f":"SUBSTITUTE(Reporte!D1120,\" \",\"\")","v":""},20,"Oaxaca",151,"San Francisco Teopan"]
[null,null,{"$f":"SUBSTITUTE(Reporte!D1121,\" \",\"\")","v":""},20,"Oaxaca",152,"San Francisco Tlapancingo"]
[null,null,{"$f":"SUBSTITUTE(Reporte!D1122,\" \",\"\")","v":""},20,"Oaxaca",153,"San Gabriel Mixtepec"]
[null,null,{"$f":"SUBSTITUTE(Reporte!D1123,\" \",\"\")","v":""},20,"Oaxaca",154,"San Ildefonso Amatlán"]
[null,null,{"$f":"SUBSTITUTE(Reporte!D1124,\" \",\"\")","v":""},20,"Oaxaca",155,"San Ildefonso Sola"]
[null,null,{"$f":"SUBSTITUTE(Reporte!D1125,\" \",\"\")","v":""},20,"Oaxaca",156,"San Ildefonso Villa Alta"]
[null,null,{"$f":"SUBSTITUTE(Reporte!D1126,\" \",\"\")","v":""},20,"Oaxaca",157,"San Jacinto Amilpas"]
[null,null,{"$f":"SUBSTITUTE(Reporte!D1127,\" \",\"\")","v":""},20,"Oaxaca",158,"San Jacinto Tlacotepec"]
[null,null,{"$f":"SUBSTITUTE(Reporte!D1128,\" \",\"\")","v":""},20,"Oaxaca",159,"San Jerónimo Coatlán"]
[null,null,{"$f":"SUBSTITUTE(Reporte!D1129,\" \",\"\")","v":""},20,"Oaxaca",160,"San Jerónimo Silacayoapilla"]
[null,null,{"$f":"SUBSTITUTE(Reporte!D1130,\" \",\"\")","v":""},20,"Oaxaca",161,"San Jerónimo Sosola"]
[null,null,{"$f":"SUBSTITUTE(Reporte!D1131,\" \",\"\")","v":""},20,"Oaxaca",162,"San Jerónimo Taviche"]
[null,null,{"$f":"SUBSTITUTE(Reporte!D1132,\" \",\"\")","v":""},20,"Oaxaca",163,"San Jerónimo Tecóatl"]
[null,null,{"$f":"SUBSTITUTE(Reporte!D1133,\" \",\"\")","v":""},20,"Oaxaca",164,"San Jorge Nuchita"]
[null,null,{"$f":"SUBSTITUTE(Reporte!D1134,\" \",\"\")","v":""},20,"Oaxaca",165,"San José Ayuquila"]
[null,null,{"$f":"SUBSTITUTE(Reporte!D1135,\" \",\"\")","v":""},20,"Oaxaca",166,"San José Chiltepec"]
[null,null,{"$f":"SUBSTITUTE(Reporte!D1136,\" \",\"\")","v":""},20,"Oaxaca",167,"San José del Peñasco"]
[null,null,{"$f":"SUBSTITUTE(Reporte!D1137,\" \",\"\")","v":""},20,"Oaxaca",168,"San José Estancia Grande"]
[null,null,{"$f":"SUBSTITUTE(Reporte!D1138,\" \",\"\")","v":""},20,"Oaxaca",169,"San José Independencia"]
[null,null,{"$f":"SUBSTITUTE(Reporte!D1139,\" \",\"\")","v":""},20,"Oaxaca",170,"San José Lachiguiri"]
[null,null,{"$f":"SUBSTITUTE(Reporte!D1140,\" \",\"\")","v":""},20,"Oaxaca",171,"San José Tenango"]
[null,null,{"$f":"SUBSTITUTE(Reporte!D1141,\" \",\"\")","v":""},20,"Oaxaca",172,"San Juan Achiutla"]
[null,null,{"$f":"SUBSTITUTE(Reporte!D1142,\" \",\"\")","v":""},20,"Oaxaca",173,"San Juan Atepec"]
[null,null,{"$f":"SUBSTITUTE(Reporte!D1143,\" \",\"\")","v":""},20,"Oaxaca",174,"Ánimas Trujano"]
[null,null,{"$f":"SUBSTITUTE(Reporte!D1144,\" \",\"\")","v":""},20,"Oaxaca",175,"San Juan Bautista Atatlahuca"]
[null,null,{"$f":"SUBSTITUTE(Reporte!D1145,\" \",\"\")","v":""},20,"Oaxaca",176,"San Juan Bautista Coixtlahuaca"]
[null,null,{"$f":"SUBSTITUTE(Reporte!D1146,\" \",\"\")","v":""},20,"Oaxaca",177,"San Juan Bautista Cuicatlán"]
[null,null,{"$f":"SUBSTITUTE(Reporte!D1147,\" \",\"\")","v":""},20,"Oaxaca",178,"San Juan Bautista Guelache"]
[null,null,{"$f":"SUBSTITUTE(Reporte!D1148,\" \",\"\")","v":""},20,"Oaxaca",179,"San Juan Bautista Jayacatlán"]
[null,null,{"$f":"SUBSTITUTE(Reporte!D1149,\" \",\"\")","v":""},20,"Oaxaca",180,"San Juan Bautista Lo de Soto"]
[null,null,{"$f":"SUBSTITUTE(Reporte!D1150,\" \",\"\")","v":""},20,"Oaxaca",181,"San Juan Bautista Suchitepec"]
[null,null,{"$f":"SUBSTITUTE(Reporte!D1151,\" \",\"\")","v":""},20,"Oaxaca",182,"San Juan Bautista Tlacoatzintepec"]
[null,null,{"$f":"SUBSTITUTE(Reporte!D1152,\" \",\"\")","v":""},20,"Oaxaca",183,"San Juan Bautista Tlachichilco"]
[null,null,{"$f":"SUBSTITUTE(Reporte!D1153,\" \",\"\")","v":""},20,"Oaxaca",184,"San Juan Bautista Tuxtepec"]
[null,null,{"$f":"SUBSTITUTE(Reporte!D1154,\" \",\"\")","v":""},20,"Oaxaca",185,"San Juan Cacahuatepec"]
[null,null,{"$f":"SUBSTITUTE(Reporte!D1155,\" \",\"\")","v":""},20,"Oaxaca",186,"San Juan Cieneguilla"]
[null,null,{"$f":"SUBSTITUTE(Reporte!D1156,\" \",\"\")","v":""},20,"Oaxaca",187,"San Juan Coatzóspam"]
[null,null,{"$f":"SUBSTITUTE(Reporte!D1157,\" \",\"\")","v":""},20,"Oaxaca",188,"San Juan Colorado"]
[null,null,{"$f":"SUBSTITUTE(Reporte!D1158,\" \",\"\")","v":""},20,"Oaxaca",189,"San Juan Comaltepec"]
[null,null,{"$f":"SUBSTITUTE(Reporte!D1159,\" \",\"\")","v":""},20,"Oaxaca",190,"San Juan Cotzocón"]
[null,null,{"$f":"SUBSTITUTE(Reporte!D1160,\" \",\"\")","v":""},20,"Oaxaca",191,"San Juan Chicomezúchil"]
[null,null,{"$f":"SUBSTITUTE(Reporte!D1161,\" \",\"\")","v":""},20,"Oaxaca",192,"San Juan Chilateca"]
[null,null,{"$f":"SUBSTITUTE(Reporte!D1162,\" \",\"\")","v":""},20,"Oaxaca",193,"San Juan del Estado"]
[null,null,{"$f":"SUBSTITUTE(Reporte!D1163,\" \",\"\")","v":""},20,"Oaxaca",194,"San Juan del Río"]
[null,null,{"$f":"SUBSTITUTE(Reporte!D1164,\" \",\"\")","v":""},20,"Oaxaca",195,"San Juan Diuxi"]
[null,null,{"$f":"SUBSTITUTE(Reporte!D1165,\" \",\"\")","v":""},20,"Oaxaca",196,"San Juan Evangelista Analco"]
[null,null,{"$f":"SUBSTITUTE(Reporte!D1166,\" \",\"\")","v":""},20,"Oaxaca",197,"San Juan Guelavía"]
[null,null,{"$f":"SUBSTITUTE(Reporte!D1167,\" \",\"\")","v":""},20,"Oaxaca",198,"San Juan Guichicovi"]
[null,null,{"$f":"SUBSTITUTE(Reporte!D1168,\" \",\"\")","v":""},20,"Oaxaca",199,"San Juan Ihualtepec"]
[null,null,{"$f":"SUBSTITUTE(Reporte!D1169,\" \",\"\")","v":""},20,"Oaxaca",200,"San Juan Juquila Mixes"]
[null,null,{"$f":"SUBSTITUTE(Reporte!D1170,\" \",\"\")","v":""},20,"Oaxaca",201,"San Juan Juquila Vijanos"]
[null,null,{"$f":"SUBSTITUTE(Reporte!D1171,\" \",\"\")","v":""},20,"Oaxaca",202,"San Juan Lachao"]
[null,null,{"$f":"SUBSTITUTE(Reporte!D1172,\" \",\"\")","v":""},20,"Oaxaca",203,"San Juan Lachigalla"]
[null,null,{"$f":"SUBSTITUTE(Reporte!D1173,\" \",\"\")","v":""},20,"Oaxaca",204,"San Juan Lajarcia"]
[null,null,{"$f":"SUBSTITUTE(Reporte!D1174,\" \",\"\")","v":""},20,"Oaxaca",205,"San Juan Lalana"]
[null,null,{"$f":"SUBSTITUTE(Reporte!D1175,\" \",\"\")","v":""},20,"Oaxaca",206,"San Juan de los Cués"]
[null,null,{"$f":"SUBSTITUTE(Reporte!D1176,\" \",\"\")","v":""},20,"Oaxaca",207,"San Juan Mazatlán"]
[null,null,{"$f":"SUBSTITUTE(Reporte!D1177,\" \",\"\")","v":""},20,"Oaxaca",208,"San Juan Mixtepec"]
[null,null,{"$f":"SUBSTITUTE(Reporte!D1178,\" \",\"\")","v":""},20,"Oaxaca",209,"San Juan Mixtepec"]
[null,null,{"$f":"SUBSTITUTE(Reporte!D1179,\" \",\"\")","v":""},20,"Oaxaca",210,"San Juan Ñumí"]
[null,null,{"$f":"SUBSTITUTE(Reporte!D1180,\" \",\"\")","v":""},20,"Oaxaca",211,"San Juan Ozolotepec"]
[null,null,{"$f":"SUBSTITUTE(Reporte!D1181,\" \",\"\")","v":""},20,"Oaxaca",212,"San Juan Petlapa"]
[null,null,{"$f":"SUBSTITUTE(Reporte!D1182,\" \",\"\")","v":""},20,"Oaxaca",213,"San Juan Quiahije"]
[null,null,{"$f":"SUBSTITUTE(Reporte!D1183,\" \",\"\")","v":""},20,"Oaxaca",90,"San Andrés Huaxpaltepec"]
[null,null,{"$f":"SUBSTITUTE(Reporte!D1184,\" \",\"\")","v":""},20,"Oaxaca",91,"San Andrés Huayápam"]
[null,null,{"$f":"SUBSTITUTE(Reporte!D1185,\" \",\"\")","v":""},20,"Oaxaca",92,"San Andrés Ixtlahuaca"]
[null,null,{"$f":"SUBSTITUTE(Reporte!D1186,\" \",\"\")","v":""},20,"Oaxaca",93,"San Andrés Lagunas"]
[null,null,{"$f":"SUBSTITUTE(Reporte!D1187,\" \",\"\")","v":""},20,"Oaxaca",94,"San Andrés Nuxiño"]
[null,null,{"$f":"SUBSTITUTE(Reporte!D1188,\" \",\"\")","v":""},20,"Oaxaca",96,"San Andrés Sinaxtla"]
[null,null,{"$f":"SUBSTITUTE(Reporte!D1189,\" \",\"\")","v":""},20,"Oaxaca",97,"San Andrés Solaga"]
[null,null,{"$f":"SUBSTITUTE(Reporte!D1190,\" \",\"\")","v":""},20,"Oaxaca",98,"San Andrés Teotilálpam"]
[null,null,{"$f":"SUBSTITUTE(Reporte!D1191,\" \",\"\")","v":""},20,"Oaxaca",99,"San Andrés Tepetlapa"]
[null,null,{"$f":"SUBSTITUTE(Reporte!D1192,\" \",\"\")","v":""},20,"Oaxaca",100,"San Andrés Yaá"]
[null,null,{"$f":"SUBSTITUTE(Reporte!D1193,\" \",\"\")","v":""},20,"Oaxaca",101,"San Andrés Zabache"]
[null,null,{"$f":"SUBSTITUTE(Reporte!D1194,\" \",\"\")","v":""},20,"Oaxaca",102,"San Andrés Zautla"]
[null,null,{"$f":"SUBSTITUTE(Reporte!D1195,\" \",\"\")","v":""},20,"Oaxaca",103,"San Antonino Castillo Velasco"]
[null,null,{"$f":"SUBSTITUTE(Reporte!D1196,\" \",\"\")","v":""},20,"Oaxaca",104,"San Antonino el Alto"]
[null,null,{"$f":"SUBSTITUTE(Reporte!D1197,\" \",\"\")","v":""},20,"Oaxaca",105,"San Antonino Monte Verde"]
[null,null,{"$f":"SUBSTITUTE(Reporte!D1198,\" \",\"\")","v":""},20,"Oaxaca",106,"San Antonio Acutla"]
[null,null,{"$f":"SUBSTITUTE(Reporte!D1199,\" \",\"\")","v":""},20,"Oaxaca",74,"Santa Catarina Quioquitani"]
[null,null,{"$f":"SUBSTITUTE(Reporte!D1200,\" \",\"\")","v":""},20,"Oaxaca",75,"Reforma de Pineda"]
[null,null,{"$f":"SUBSTITUTE(Reporte!D1201,\" \",\"\")","v":""},20,"Oaxaca",76,"La Reforma"]
[null,null,{"$f":"SUBSTITUTE(Reporte!D1202,\" \",\"\")","v":""},20,"Oaxaca",77,"Reyes Etla"]
[null,null,{"$f":"SUBSTITUTE(Reporte!D1203,\" \",\"\")","v":""},20,"Oaxaca",78,"Rojas de Cuauhtémoc"]
[null,null,{"$f":"SUBSTITUTE(Reporte!D1204,\" \",\"\")","v":""},20,"Oaxaca",79,"Salina Cruz"]
[null,null,{"$f":"SUBSTITUTE(Reporte!D1205,\" \",\"\")","v":""},20,"Oaxaca",80,"San Agustín Amatengo"]
[null,null,{"$f":"SUBSTITUTE(Reporte!D1206,\" \",\"\")","v":""},20,"Oaxaca",81,"San Agustín Atenango"]
[null,null,{"$f":"SUBSTITUTE(Reporte!D1207,\" \",\"\")","v":""},20,"Oaxaca",86,"San Agustín Tlacotepec"]
[null,null,{"$f":"SUBSTITUTE(Reporte!D1208,\" \",\"\")","v":""},20,"Oaxaca",87,"San Agustín Yatareni"]
[null,null,{"$f":"SUBSTITUTE(Reporte!D1209,\" \",\"\")","v":""},20,"Oaxaca",88,"San Andrés Cabecera Nueva"]
[null,null,{"$f":"SUBSTITUTE(Reporte!D1210,\" \",\"\")","v":""},20,"Oaxaca",89,"San Andrés Dinicuiti"]
[null,null,{"$f":"SUBSTITUTE(Reporte!D1211,\" \",\"\")","v":""},20,"Oaxaca",85,"San Agustín Loxicha"]
[null,null,{"$f":"SUBSTITUTE(Reporte!D1212,\" \",\"\")","v":""},20,"Oaxaca",84,"San Agustín Etla"]
[null,null,{"$f":"SUBSTITUTE(Reporte!D1213,\" \",\"\")","v":""},20,"Oaxaca",83,"San Agustín de las Juntas"]
[null,null,{"$f":"SUBSTITUTE(Reporte!D1214,\" \",\"\")","v":""},20,"Oaxaca",82,"San Agustín Chayuco"]
[null,null,{"$f":"SUBSTITUTE(Reporte!D1215,\" \",\"\")","v":""},20,"Oaxaca",218,"San Juan Teita"]
[null,null,{"$f":"SUBSTITUTE(Reporte!D1216,\" \",\"\")","v":""},20,"Oaxaca",219,"San Juan Teitipac"]
[null,null,{"$f":"SUBSTITUTE(Reporte!D1217,\" \",\"\")","v":""},20,"Oaxaca",220,"San Juan Tepeuxila"]
[null,null,{"$f":"SUBSTITUTE(Reporte!D1218,\" \",\"\")","v":""},20,"Oaxaca",221,"San Juan Teposcolula"]
[null,null,{"$f":"SUBSTITUTE(Reporte!D1219,\" \",\"\")","v":""},20,"Oaxaca",222,"San Juan Yaeé"]
[null,null,{"$f":"SUBSTITUTE(Reporte!D1220,\" \",\"\")","v":""},20,"Oaxaca",223,"San Juan Yatzona"]
[null,null,{"$f":"SUBSTITUTE(Reporte!D1221,\" \",\"\")","v":""},20,"Oaxaca",224,"San Juan Yucuita"]
[null,null,{"$f":"SUBSTITUTE(Reporte!D1222,\" \",\"\")","v":""},20,"Oaxaca",225,"San Lorenzo"]
[null,null,{"$f":"SUBSTITUTE(Reporte!D1223,\" \",\"\")","v":""},20,"Oaxaca",226,"San Lorenzo Albarradas"]
[null,null,{"$f":"SUBSTITUTE(Reporte!D1224,\" \",\"\")","v":""},20,"Oaxaca",227,"San Lorenzo Cacaotepec"]
[null,null,{"$f":"SUBSTITUTE(Reporte!D1225,\" \",\"\")","v":""},20,"Oaxaca",228,"San Lorenzo Cuaunecuiltitla"]
[null,null,{"$f":"SUBSTITUTE(Reporte!D1226,\" \",\"\")","v":""},20,"Oaxaca",229,"San Lorenzo Texmelúcan"]
[null,null,{"$f":"SUBSTITUTE(Reporte!D1227,\" \",\"\")","v":""},20,"Oaxaca",230,"San Lorenzo Victoria"]
[null,null,{"$f":"SUBSTITUTE(Reporte!D1228,\" \",\"\")","v":""},20,"Oaxaca",231,"San Lucas Camotlán"]
[null,null,{"$f":"SUBSTITUTE(Reporte!D1229,\" \",\"\")","v":""},20,"Oaxaca",232,"San Lucas Ojitlán"]
[null,null,{"$f":"SUBSTITUTE(Reporte!D1230,\" \",\"\")","v":""},20,"Oaxaca",233,"San Lucas Quiaviní"]
[null,null,{"$f":"SUBSTITUTE(Reporte!D1231,\" \",\"\")","v":""},20,"Oaxaca",234,"San Lucas Zoquiápam"]
[null,null,{"$f":"SUBSTITUTE(Reporte!D1232,\" \",\"\")","v":""},20,"Oaxaca",235,"San Luis Amatlán"]
[null,null,{"$f":"SUBSTITUTE(Reporte!D1233,\" \",\"\")","v":""},20,"Oaxaca",236,"San Marcial Ozolotepec"]
[null,null,{"$f":"SUBSTITUTE(Reporte!D1234,\" \",\"\")","v":""},20,"Oaxaca",237,"San Marcos Arteaga"]
[null,null,{"$f":"SUBSTITUTE(Reporte!D1235,\" \",\"\")","v":""},20,"Oaxaca",238,"San Martín de los Cansecos"]
[null,null,{"$f":"SUBSTITUTE(Reporte!D1236,\" \",\"\")","v":""},20,"Oaxaca",239,"San Martín Huamelúlpam"]
[null,null,{"$f":"SUBSTITUTE(Reporte!D1237,\" \",\"\")","v":""},20,"Oaxaca",240,"San Martín Itunyoso"]
[null,null,{"$f":"SUBSTITUTE(Reporte!D1238,\" \",\"\")","v":""},20,"Oaxaca",241,"San Martín Lachilá"]
[null,null,{"$f":"SUBSTITUTE(Reporte!D1239,\" \",\"\")","v":""},20,"Oaxaca",242,"San Martín Peras"]
[null,null,{"$f":"SUBSTITUTE(Reporte!D1240,\" \",\"\")","v":""},20,"Oaxaca",243,"San Martín Tilcajete"]
[null,null,{"$f":"SUBSTITUTE(Reporte!D1241,\" \",\"\")","v":""},20,"Oaxaca",244,"San Martín Toxpalan"]
[null,null,{"$f":"SUBSTITUTE(Reporte!D1242,\" \",\"\")","v":""},20,"Oaxaca",245,"San Martín Zacatepec"]
[null,null,{"$f":"SUBSTITUTE(Reporte!D1243,\" \",\"\")","v":""},20,"Oaxaca",246,"San Mateo Cajonos"]
[null,null,{"$f":"SUBSTITUTE(Reporte!D1244,\" \",\"\")","v":""},20,"Oaxaca",247,"Capulálpam de Méndez"]
[null,null,{"$f":"SUBSTITUTE(Reporte!D1245,\" \",\"\")","v":""},20,"Oaxaca",248,"San Mateo del Mar"]
[null,null,{"$f":"SUBSTITUTE(Reporte!D1246,\" \",\"\")","v":""},20,"Oaxaca",249,"San Mateo Yoloxochitlán"]
[null,null,{"$f":"SUBSTITUTE(Reporte!D1247,\" \",\"\")","v":""},20,"Oaxaca",250,"San Mateo Etlatongo"]
[null,null,{"$f":"SUBSTITUTE(Reporte!D1248,\" \",\"\")","v":""},20,"Oaxaca",251,"San Mateo Nejápam"]
[null,null,{"$f":"SUBSTITUTE(Reporte!D1249,\" \",\"\")","v":""},20,"Oaxaca",252,"San Mateo Peñasco"]
[null,null,{"$f":"SUBSTITUTE(Reporte!D1250,\" \",\"\")","v":""},20,"Oaxaca",253,"San Mateo Piñas"]
[null,null,{"$f":"SUBSTITUTE(Reporte!D1251,\" \",\"\")","v":""},20,"Oaxaca",254,"San Mateo Río Hondo"]
[null,null,{"$f":"SUBSTITUTE(Reporte!D1252,\" \",\"\")","v":""},20,"Oaxaca",255,"San Mateo Sindihui"]
[null,null,{"$f":"SUBSTITUTE(Reporte!D1253,\" \",\"\")","v":""},20,"Oaxaca",256,"San Mateo Tlapiltepec"]
[null,null,{"$f":"SUBSTITUTE(Reporte!D1254,\" \",\"\")","v":""},20,"Oaxaca",257,"San Melchor Betaza"]
[null,null,{"$f":"SUBSTITUTE(Reporte!D1255,\" \",\"\")","v":""},20,"Oaxaca",258,"San Miguel Achiutla"]
[null,null,{"$f":"SUBSTITUTE(Reporte!D1256,\" \",\"\")","v":""},20,"Oaxaca",259,"San Miguel Ahuehuetitlán"]
[null,null,{"$f":"SUBSTITUTE(Reporte!D1257,\" \",\"\")","v":""},20,"Oaxaca",260,"San Miguel Aloápam"]
[null,null,{"$f":"SUBSTITUTE(Reporte!D1258,\" \",\"\")","v":""},20,"Oaxaca",261,"San Miguel Amatitlán"]
[null,null,{"$f":"SUBSTITUTE(Reporte!D1259,\" \",\"\")","v":""},20,"Oaxaca",262,"San Miguel Amatlán"]
[null,null,{"$f":"SUBSTITUTE(Reporte!D1260,\" \",\"\")","v":""},20,"Oaxaca",263,"San Miguel Coatlán"]
[null,null,{"$f":"SUBSTITUTE(Reporte!D1261,\" \",\"\")","v":""},20,"Oaxaca",264,"San Miguel Chicahua"]
[null,null,{"$f":"SUBSTITUTE(Reporte!D1262,\" \",\"\")","v":""},20,"Oaxaca",265,"San Miguel Chimalapa"]
[null,null,{"$f":"SUBSTITUTE(Reporte!D1263,\" \",\"\")","v":""},20,"Oaxaca",266,"San Miguel del Puerto"]
[null,null,{"$f":"SUBSTITUTE(Reporte!D1264,\" \",\"\")","v":""},20,"Oaxaca",267,"San Miguel del Río"]
[null,null,{"$f":"SUBSTITUTE(Reporte!D1265,\" \",\"\")","v":""},20,"Oaxaca",268,"San Miguel Ejutla"]
[null,null,{"$f":"SUBSTITUTE(Reporte!D1266,\" \",\"\")","v":""},20,"Oaxaca",269,"San Miguel el Grande"]
[null,null,{"$f":"SUBSTITUTE(Reporte!D1267,\" \",\"\")","v":""},20,"Oaxaca",270,"San Miguel Huautla"]
[null,null,{"$f":"SUBSTITUTE(Reporte!D1268,\" \",\"\")","v":""},20,"Oaxaca",271,"San Miguel Mixtepec"]
[null,null,{"$f":"SUBSTITUTE(Reporte!D1269,\" \",\"\")","v":""},20,"Oaxaca",272,"San Miguel Panixtlahuaca"]
[null,null,{"$f":"SUBSTITUTE(Reporte!D1270,\" \",\"\")","v":""},20,"Oaxaca",273,"San Miguel Peras"]
[null,null,{"$f":"SUBSTITUTE(Reporte!D1271,\" \",\"\")","v":""},20,"Oaxaca",274,"San Miguel Piedras"]
[null,null,{"$f":"SUBSTITUTE(Reporte!D1272,\" \",\"\")","v":""},20,"Oaxaca",275,"San Miguel Quetzaltepec"]
[null,null,{"$f":"SUBSTITUTE(Reporte!D1273,\" \",\"\")","v":""},20,"Oaxaca",276,"San Miguel Santa Flor"]
[null,null,{"$f":"SUBSTITUTE(Reporte!D1274,\" \",\"\")","v":""},20,"Oaxaca",277,"Villa Sola de Vega"]
[null,null,{"$f":"SUBSTITUTE(Reporte!D1275,\" \",\"\")","v":""},20,"Oaxaca",278,"San Miguel Soyaltepec"]
[null,null,{"$f":"SUBSTITUTE(Reporte!D1276,\" \",\"\")","v":""},20,"Oaxaca",279,"San Miguel Suchixtepec"]
[null,null,{"$f":"SUBSTITUTE(Reporte!D1277,\" \",\"\")","v":""},20,"Oaxaca",280,"Villa Talea de Castro"]
[null,null,{"$f":"SUBSTITUTE(Reporte!D1278,\" \",\"\")","v":""},20,"Oaxaca",281,"San Miguel Tecomatlán"]
[null,null,{"$f":"SUBSTITUTE(Reporte!D1279,\" \",\"\")","v":""},20,"Oaxaca",282,"San Miguel Tenango"]
[null,null,{"$f":"SUBSTITUTE(Reporte!D1280,\" \",\"\")","v":""},20,"Oaxaca",283,"San Miguel Tequixtepec"]
[null,null,{"$f":"SUBSTITUTE(Reporte!D1281,\" \",\"\")","v":""},20,"Oaxaca",284,"San Miguel Tilquiápam"]
[null,null,{"$f":"SUBSTITUTE(Reporte!D1282,\" \",\"\")","v":""},20,"Oaxaca",285,"San Miguel Tlacamama"]
[null,null,{"$f":"SUBSTITUTE(Reporte!D1283,\" \",\"\")","v":""},20,"Oaxaca",286,"San Miguel Tlacotepec"]
[null,null,{"$f":"SUBSTITUTE(Reporte!D1284,\" \",\"\")","v":""},20,"Oaxaca",287,"San Miguel Tulancingo"]
[null,null,{"$f":"SUBSTITUTE(Reporte!D1285,\" \",\"\")","v":""},20,"Oaxaca",288,"San Miguel Yotao"]
[null,null,{"$f":"SUBSTITUTE(Reporte!D1286,\" \",\"\")","v":""},20,"Oaxaca",289,"San Nicolás"]
[null,null,{"$f":"SUBSTITUTE(Reporte!D1287,\" \",\"\")","v":""},20,"Oaxaca",290,"San Nicolás Hidalgo"]
[null,null,{"$f":"SUBSTITUTE(Reporte!D1288,\" \",\"\")","v":""},20,"Oaxaca",291,"San Pablo Coatlán"]
[null,null,{"$f":"SUBSTITUTE(Reporte!D1289,\" \",\"\")","v":""},20,"Oaxaca",292,"San Pablo Cuatro Venados"]
[null,null,{"$f":"SUBSTITUTE(Reporte!D1290,\" \",\"\")","v":""},20,"Oaxaca",293,"San Pablo Etla"]
[null,null,{"$f":"SUBSTITUTE(Reporte!D1291,\" \",\"\")","v":""},20,"Oaxaca",294,"San Pablo Huitzo"]
[null,null,{"$f":"SUBSTITUTE(Reporte!D1292,\" \",\"\")","v":""},20,"Oaxaca",295,"San Pablo Huixtepec"]
[null,null,{"$f":"SUBSTITUTE(Reporte!D1293,\" \",\"\")","v":""},20,"Oaxaca",296,"San Pablo Macuiltianguis"]
[null,null,{"$f":"SUBSTITUTE(Reporte!D1294,\" \",\"\")","v":""},20,"Oaxaca",297,"San Pablo Tijaltepec"]
[null,null,{"$f":"SUBSTITUTE(Reporte!D1295,\" \",\"\")","v":""},20,"Oaxaca",298,"San Pablo Villa de Mitla"]
[null,null,{"$f":"SUBSTITUTE(Reporte!D1296,\" \",\"\")","v":""},20,"Oaxaca",299,"San Pablo Yaganiza"]
[null,null,{"$f":"SUBSTITUTE(Reporte!D1297,\" \",\"\")","v":""},20,"Oaxaca",300,"San Pedro Amuzgos"]
[null,null,{"$f":"SUBSTITUTE(Reporte!D1298,\" \",\"\")","v":""},20,"Oaxaca",301,"San Pedro Apóstol"]
[null,null,{"$f":"SUBSTITUTE(Reporte!D1299,\" \",\"\")","v":""},20,"Oaxaca",302,"San Pedro Atoyac"]
[null,null,{"$f":"SUBSTITUTE(Reporte!D1300,\" \",\"\")","v":""},20,"Oaxaca",303,"San Pedro Cajonos"]
[null,null,{"$f":"SUBSTITUTE(Reporte!D1301,\" \",\"\")","v":""},20,"Oaxaca",304,"San Pedro Coxcaltepec Cántaros"]
[null,null,{"$f":"SUBSTITUTE(Reporte!D1302,\" \",\"\")","v":""},20,"Oaxaca",305,"San Pedro Comitancillo"]
[null,null,{"$f":"SUBSTITUTE(Reporte!D1303,\" \",\"\")","v":""},20,"Oaxaca",306,"San Pedro el Alto"]
[null,null,{"$f":"SUBSTITUTE(Reporte!D1304,\" \",\"\")","v":""},20,"Oaxaca",307,"San Pedro Huamelula"]
[null,null,{"$f":"SUBSTITUTE(Reporte!D1305,\" \",\"\")","v":""},20,"Oaxaca",308,"San Pedro Huilotepec"]
[null,null,{"$f":"SUBSTITUTE(Reporte!D1306,\" \",\"\")","v":""},20,"Oaxaca",309,"San Pedro Ixcatlán"]
[null,null,{"$f":"SUBSTITUTE(Reporte!D1307,\" \",\"\")","v":""},20,"Oaxaca",310,"San Pedro Ixtlahuaca"]
[null,null,{"$f":"SUBSTITUTE(Reporte!D1308,\" \",\"\")","v":""},20,"Oaxaca",311,"San Pedro Jaltepetongo"]
[null,null,{"$f":"SUBSTITUTE(Reporte!D1309,\" \",\"\")","v":""},20,"Oaxaca",312,"San Pedro Jicayán"]
[null,null,{"$f":"SUBSTITUTE(Reporte!D1310,\" \",\"\")","v":""},20,"Oaxaca",313,"San Pedro Jocotipac"]
[null,null,{"$f":"SUBSTITUTE(Reporte!D1311,\" \",\"\")","v":""},20,"Oaxaca",314,"San Pedro Juchatengo"]
[null,null,{"$f":"SUBSTITUTE(Reporte!D1312,\" \",\"\")","v":""},20,"Oaxaca",315,"San Pedro Mártir"]
[null,null,{"$f":"SUBSTITUTE(Reporte!D1313,\" \",\"\")","v":""},20,"Oaxaca",316,"San Pedro Mártir Quiechapa"]
[null,null,{"$f":"SUBSTITUTE(Reporte!D1314,\" \",\"\")","v":""},20,"Oaxaca",317,"San Pedro Mártir Yucuxaco"]
[null,null,{"$f":"SUBSTITUTE(Reporte!D1315,\" \",\"\")","v":""},20,"Oaxaca",318,"San Pedro Mixtepec"]
[null,null,{"$f":"SUBSTITUTE(Reporte!D1316,\" \",\"\")","v":""},20,"Oaxaca",319,"San Pedro Mixtepec"]
[null,null,{"$f":"SUBSTITUTE(Reporte!D1317,\" \",\"\")","v":""},20,"Oaxaca",320,"San Pedro Molinos"]
[null,null,{"$f":"SUBSTITUTE(Reporte!D1318,\" \",\"\")","v":""},20,"Oaxaca",321,"San Pedro Nopala"]
[null,null,{"$f":"SUBSTITUTE(Reporte!D1319,\" \",\"\")","v":""},20,"Oaxaca",322,"San Pedro Ocopetatillo"]
[null,null,{"$f":"SUBSTITUTE(Reporte!D1320,\" \",\"\")","v":""},20,"Oaxaca",323,"San Pedro Ocotepec"]
[null,null,{"$f":"SUBSTITUTE(Reporte!D1321,\" \",\"\")","v":""},20,"Oaxaca",324,"San Pedro Pochutla"]
[null,null,{"$f":"SUBSTITUTE(Reporte!D1322,\" \",\"\")","v":""},20,"Oaxaca",325,"San Pedro Quiatoni"]
[null,null,{"$f":"SUBSTITUTE(Reporte!D1323,\" \",\"\")","v":""},20,"Oaxaca",326,"San Pedro Sochiápam"]
[null,null,{"$f":"SUBSTITUTE(Reporte!D1324,\" \",\"\")","v":""},20,"Oaxaca",327,"San Pedro Tapanatepec"]
[null,null,{"$f":"SUBSTITUTE(Reporte!D1325,\" \",\"\")","v":""},20,"Oaxaca",328,"San Pedro Taviche"]
[null,null,{"$f":"SUBSTITUTE(Reporte!D1326,\" \",\"\")","v":""},20,"Oaxaca",329,"San Pedro Teozacoalco"]
[null,null,{"$f":"SUBSTITUTE(Reporte!D1327,\" \",\"\")","v":""},20,"Oaxaca",330,"San Pedro Teutila"]
[null,null,{"$f":"SUBSTITUTE(Reporte!D1328,\" \",\"\")","v":""},20,"Oaxaca",331,"San Pedro Tidaá"]
[null,null,{"$f":"SUBSTITUTE(Reporte!D1329,\" \",\"\")","v":""},20,"Oaxaca",332,"San Pedro Topiltepec"]
[null,null,{"$f":"SUBSTITUTE(Reporte!D1330,\" \",\"\")","v":""},20,"Oaxaca",333,"San Pedro Totolápam"]
[null,null,{"$f":"SUBSTITUTE(Reporte!D1331,\" \",\"\")","v":""},20,"Oaxaca",334,"Villa de Tututepec"]
[null,null,{"$f":"SUBSTITUTE(Reporte!D1332,\" \",\"\")","v":""},20,"Oaxaca",335,"San Pedro Yaneri"]
[null,null,{"$f":"SUBSTITUTE(Reporte!D1333,\" \",\"\")","v":""},20,"Oaxaca",336,"San Pedro Yólox"]
[null,null,{"$f":"SUBSTITUTE(Reporte!D1334,\" \",\"\")","v":""},20,"Oaxaca",337,"San Pedro y San Pablo Ayutla"]
[null,null,{"$f":"SUBSTITUTE(Reporte!D1335,\" \",\"\")","v":""},20,"Oaxaca",338,"Villa de Etla"]
[null,null,{"$f":"SUBSTITUTE(Reporte!D1336,\" \",\"\")","v":""},20,"Oaxaca",339,"San Pedro y San Pablo Teposcolula"]
[null,null,{"$f":"SUBSTITUTE(Reporte!D1337,\" \",\"\")","v":""},20,"Oaxaca",340,"San Pedro y San Pablo Tequixtepec"]
[null,null,{"$f":"SUBSTITUTE(Reporte!D1338,\" \",\"\")","v":""},20,"Oaxaca",341,"San Pedro Yucunama"]
[null,null,{"$f":"SUBSTITUTE(Reporte!D1339,\" \",\"\")","v":""},20,"Oaxaca",342,"San Raymundo Jalpan"]
[null,null,{"$f":"SUBSTITUTE(Reporte!D1340,\" \",\"\")","v":""},20,"Oaxaca",343,"San Sebastián Abasolo"]
[null,null,{"$f":"SUBSTITUTE(Reporte!D1341,\" \",\"\")","v":""},20,"Oaxaca",344,"San Sebastián Coatlán"]
[null,null,{"$f":"SUBSTITUTE(Reporte!D1342,\" \",\"\")","v":""},20,"Oaxaca",345,"San Sebastián Ixcapa"]
[null,null,{"$f":"SUBSTITUTE(Reporte!D1343,\" \",\"\")","v":""},20,"Oaxaca",346,"San Sebastián Nicananduta"]
[null,null,{"$f":"SUBSTITUTE(Reporte!D1344,\" \",\"\")","v":""},20,"Oaxaca",347,"San Sebastián Río Hondo"]
[null,null,{"$f":"SUBSTITUTE(Reporte!D1345,\" \",\"\")","v":""},20,"Oaxaca",348,"San Sebastián Tecomaxtlahuaca"]
[null,null,{"$f":"SUBSTITUTE(Reporte!D1346,\" \",\"\")","v":""},20,"Oaxaca",349,"San Sebastián Teitipac"]
[null,null,{"$f":"SUBSTITUTE(Reporte!D1347,\" \",\"\")","v":""},20,"Oaxaca",350,"San Sebastián Tutla"]
[null,null,{"$f":"SUBSTITUTE(Reporte!D1348,\" \",\"\")","v":""},20,"Oaxaca",351,"San Simón Almolongas"]
[null,null,{"$f":"SUBSTITUTE(Reporte!D1349,\" \",\"\")","v":""},20,"Oaxaca",352,"San Simón Zahuatlán"]
[null,null,{"$f":"SUBSTITUTE(Reporte!D1350,\" \",\"\")","v":""},20,"Oaxaca",353,"Santa Ana"]
[null,null,{"$f":"SUBSTITUTE(Reporte!D1351,\" \",\"\")","v":""},20,"Oaxaca",354,"Santa Ana Ateixtlahuaca"]
[null,null,{"$f":"SUBSTITUTE(Reporte!D1352,\" \",\"\")","v":""},20,"Oaxaca",355,"Santa Ana Cuauhtémoc"]
[null,null,{"$f":"SUBSTITUTE(Reporte!D1353,\" \",\"\")","v":""},20,"Oaxaca",356,"Santa Ana del Valle"]
[null,null,{"$f":"SUBSTITUTE(Reporte!D1354,\" \",\"\")","v":""},20,"Oaxaca",357,"Santa Ana Tavela"]
[null,null,{"$f":"SUBSTITUTE(Reporte!D1355,\" \",\"\")","v":""},20,"Oaxaca",358,"Santa Ana Tlapacoyan"]
[null,null,{"$f":"SUBSTITUTE(Reporte!D1356,\" \",\"\")","v":""},20,"Oaxaca",359,"Santa Ana Yareni"]
[null,null,{"$f":"SUBSTITUTE(Reporte!D1357,\" \",\"\")","v":""},20,"Oaxaca",360,"Santa Ana Zegache"]
[null,null,{"$f":"SUBSTITUTE(Reporte!D1358,\" \",\"\")","v":""},20,"Oaxaca",361,"Santa Catalina Quierí"]
[null,null,{"$f":"SUBSTITUTE(Reporte!D1359,\" \",\"\")","v":""},20,"Oaxaca",362,"Santa Catarina Cuixtla"]
[null,null,{"$f":"SUBSTITUTE(Reporte!D1360,\" \",\"\")","v":""},20,"Oaxaca",363,"Santa Catarina Ixtepeji"]
[null,null,{"$f":"SUBSTITUTE(Reporte!D1361,\" \",\"\")","v":""},20,"Oaxaca",364,"Santa Catarina Juquila"]
[null,null,{"$f":"SUBSTITUTE(Reporte!D1362,\" \",\"\")","v":""},20,"Oaxaca",365,"Santa Catarina Lachatao"]
[null,null,{"$f":"SUBSTITUTE(Reporte!D1363,\" \",\"\")","v":""},20,"Oaxaca",366,"Santa Catarina Loxicha"]
[null,null,{"$f":"SUBSTITUTE(Reporte!D1364,\" \",\"\")","v":""},20,"Oaxaca",367,"Santa Catarina Mechoacán"]
[null,null,{"$f":"SUBSTITUTE(Reporte!D1365,\" \",\"\")","v":""},20,"Oaxaca",368,"Santa Catarina Minas"]
[null,null,{"$f":"SUBSTITUTE(Reporte!D1366,\" \",\"\")","v":""},20,"Oaxaca",369,"Santa Catarina Quiané"]
[null,null,{"$f":"SUBSTITUTE(Reporte!D1367,\" \",\"\")","v":""},20,"Oaxaca",370,"Santa Catarina Tayata"]
[null,null,{"$f":"SUBSTITUTE(Reporte!D1368,\" \",\"\")","v":""},20,"Oaxaca",371,"Santa Catarina Ticuá"]
[null,null,{"$f":"SUBSTITUTE(Reporte!D1369,\" \",\"\")","v":""},20,"Oaxaca",372,"Santa Catarina Yosonotú"]
[null,null,{"$f":"SUBSTITUTE(Reporte!D1370,\" \",\"\")","v":""},20,"Oaxaca",373,"Santa Catarina Zapoquila"]
[null,null,{"$f":"SUBSTITUTE(Reporte!D1371,\" \",\"\")","v":""},20,"Oaxaca",374,"Santa Cruz Acatepec"]
[null,null,{"$f":"SUBSTITUTE(Reporte!D1372,\" \",\"\")","v":""},20,"Oaxaca",375,"Santa Cruz Amilpas"]
[null,null,{"$f":"SUBSTITUTE(Reporte!D1373,\" \",\"\")","v":""},20,"Oaxaca",376,"Santa Cruz de Bravo"]
[null,null,{"$f":"SUBSTITUTE(Reporte!D1374,\" \",\"\")","v":""},20,"Oaxaca",377,"Santa Cruz Itundujia"]
[null,null,{"$f":"SUBSTITUTE(Reporte!D1375,\" \",\"\")","v":""},20,"Oaxaca",378,"Santa Cruz Mixtepec"]
[null,null,{"$f":"SUBSTITUTE(Reporte!D1376,\" \",\"\")","v":""},20,"Oaxaca",379,"Santa Cruz Nundaco"]
[null,null,{"$f":"SUBSTITUTE(Reporte!D1377,\" \",\"\")","v":""},20,"Oaxaca",380,"Santa Cruz Papalutla"]
[null,null,{"$f":"SUBSTITUTE(Reporte!D1378,\" \",\"\")","v":""},20,"Oaxaca",381,"Santa Cruz Tacache de Mina"]
[null,null,{"$f":"SUBSTITUTE(Reporte!D1379,\" \",\"\")","v":""},20,"Oaxaca",382,"Santa Cruz Tacahua"]
[null,null,{"$f":"SUBSTITUTE(Reporte!D1380,\" \",\"\")","v":""},20,"Oaxaca",383,"Santa Cruz Tayata"]
[null,null,{"$f":"SUBSTITUTE(Reporte!D1381,\" \",\"\")","v":""},20,"Oaxaca",384,"Santa Cruz Xitla"]
[null,null,{"$f":"SUBSTITUTE(Reporte!D1382,\" \",\"\")","v":""},20,"Oaxaca",385,"Santa Cruz Xoxocotlán"]
[null,null,{"$f":"SUBSTITUTE(Reporte!D1383,\" \",\"\")","v":""},20,"Oaxaca",386,"Santa Cruz Zenzontepec"]
[null,null,{"$f":"SUBSTITUTE(Reporte!D1384,\" \",\"\")","v":""},20,"Oaxaca",387,"Santa Gertrudis"]
[null,null,{"$f":"SUBSTITUTE(Reporte!D1385,\" \",\"\")","v":""},20,"Oaxaca",388,"Santa Inés del Monte"]
[null,null,{"$f":"SUBSTITUTE(Reporte!D1386,\" \",\"\")","v":""},20,"Oaxaca",389,"Santa Inés Yatzeche"]
[null,null,{"$f":"SUBSTITUTE(Reporte!D1387,\" \",\"\")","v":""},20,"Oaxaca",390,"Santa Lucía del Camino"]
[null,null,{"$f":"SUBSTITUTE(Reporte!D1388,\" \",\"\")","v":""},20,"Oaxaca",391,"Santa Lucía Miahuatlán"]
[null,null,{"$f":"SUBSTITUTE(Reporte!D1389,\" \",\"\")","v":""},20,"Oaxaca",392,"Santa Lucía Monteverde"]
[null,null,{"$f":"SUBSTITUTE(Reporte!D1390,\" \",\"\")","v":""},20,"Oaxaca",393,"Santa Lucía Ocotlán"]
[null,null,{"$f":"SUBSTITUTE(Reporte!D1391,\" \",\"\")","v":""},20,"Oaxaca",394,"Santa María Alotepec"]
[null,null,{"$f":"SUBSTITUTE(Reporte!D1392,\" \",\"\")","v":""},20,"Oaxaca",395,"Santa María Apazco"]
[null,null,{"$f":"SUBSTITUTE(Reporte!D1393,\" \",\"\")","v":""},20,"Oaxaca",396,"Santa María la Asunción"]
[null,null,{"$f":"SUBSTITUTE(Reporte!D1394,\" \",\"\")","v":""},20,"Oaxaca",397,"Heroica Ciudad de Tlaxiaco"]
[null,null,{"$f":"SUBSTITUTE(Reporte!D1395,\" \",\"\")","v":""},20,"Oaxaca",398,"Ayoquezco de Aldama"]
[null,null,{"$f":"SUBSTITUTE(Reporte!D1396,\" \",\"\")","v":""},20,"Oaxaca",399,"Santa María Atzompa"]
[null,null,{"$f":"SUBSTITUTE(Reporte!D1397,\" \",\"\")","v":""},20,"Oaxaca",400,"Santa María Camotlán"]
[null,null,{"$f":"SUBSTITUTE(Reporte!D1398,\" \",\"\")","v":""},20,"Oaxaca",401,"Santa María Colotepec"]
[null,null,{"$f":"SUBSTITUTE(Reporte!D1399,\" \",\"\")","v":""},20,"Oaxaca",402,"Santa María Cortijo"]
[null,null,{"$f":"SUBSTITUTE(Reporte!D1400,\" \",\"\")","v":""},20,"Oaxaca",403,"Santa María Coyotepec"]
[null,null,{"$f":"SUBSTITUTE(Reporte!D1401,\" \",\"\")","v":""},20,"Oaxaca",404,"Santa María Chachoápam"]
[null,null,{"$f":"SUBSTITUTE(Reporte!D1402,\" \",\"\")","v":""},20,"Oaxaca",405,"Villa de Chilapa de Díaz"]
[null,null,{"$f":"SUBSTITUTE(Reporte!D1403,\" \",\"\")","v":""},20,"Oaxaca",406,"Santa María Chilchotla"]
[null,null,{"$f":"SUBSTITUTE(Reporte!D1404,\" \",\"\")","v":""},20,"Oaxaca",407,"Santa María Chimalapa"]
[null,null,{"$f":"SUBSTITUTE(Reporte!D1405,\" \",\"\")","v":""},20,"Oaxaca",408,"Santa María del Rosario"]
[null,null,{"$f":"SUBSTITUTE(Reporte!D1406,\" \",\"\")","v":""},20,"Oaxaca",409,"Santa María del Tule"]
[null,null,{"$f":"SUBSTITUTE(Reporte!D1407,\" \",\"\")","v":""},20,"Oaxaca",410,"Santa María Ecatepec"]
[null,null,{"$f":"SUBSTITUTE(Reporte!D1408,\" \",\"\")","v":""},20,"Oaxaca",411,"Santa María Guelacé"]
[null,null,{"$f":"SUBSTITUTE(Reporte!D1409,\" \",\"\")","v":""},20,"Oaxaca",412,"Santa María Guienagati"]
[null,null,{"$f":"SUBSTITUTE(Reporte!D1410,\" \",\"\")","v":""},20,"Oaxaca",413,"Santa María Huatulco"]
[null,null,{"$f":"SUBSTITUTE(Reporte!D1411,\" \",\"\")","v":""},20,"Oaxaca",414,"Santa María Huazolotitlán"]
[null,null,{"$f":"SUBSTITUTE(Reporte!D1412,\" \",\"\")","v":""},20,"Oaxaca",415,"Santa María Ipalapa"]
[null,null,{"$f":"SUBSTITUTE(Reporte!D1413,\" \",\"\")","v":""},20,"Oaxaca",416,"Santa María Ixcatlán"]
[null,null,{"$f":"SUBSTITUTE(Reporte!D1414,\" \",\"\")","v":""},20,"Oaxaca",417,"Santa María Jacatepec"]
[null,null,{"$f":"SUBSTITUTE(Reporte!D1415,\" \",\"\")","v":""},20,"Oaxaca",418,"Santa María Jalapa del Marqués"]
[null,null,{"$f":"SUBSTITUTE(Reporte!D1416,\" \",\"\")","v":""},20,"Oaxaca",419,"Santa María Jaltianguis"]
[null,null,{"$f":"SUBSTITUTE(Reporte!D1417,\" \",\"\")","v":""},20,"Oaxaca",420,"Santa María Lachixío"]
[null,null,{"$f":"SUBSTITUTE(Reporte!D1418,\" \",\"\")","v":""},20,"Oaxaca",421,"Santa María Mixtequilla"]
[null,null,{"$f":"SUBSTITUTE(Reporte!D1419,\" \",\"\")","v":""},20,"Oaxaca",422,"Santa María Nativitas"]
[null,null,{"$f":"SUBSTITUTE(Reporte!D1420,\" \",\"\")","v":""},20,"Oaxaca",423,"Santa María Nduayaco"]
[null,null,{"$f":"SUBSTITUTE(Reporte!D1421,\" \",\"\")","v":""},20,"Oaxaca",424,"Santa María Ozolotepec"]
[null,null,{"$f":"SUBSTITUTE(Reporte!D1422,\" \",\"\")","v":""},20,"Oaxaca",425,"Santa María Pápalo"]
[null,null,{"$f":"SUBSTITUTE(Reporte!D1423,\" \",\"\")","v":""},20,"Oaxaca",426,"Santa María Peñoles"]
[null,null,{"$f":"SUBSTITUTE(Reporte!D1424,\" \",\"\")","v":""},20,"Oaxaca",427,"Santa María Petapa"]
[null,null,{"$f":"SUBSTITUTE(Reporte!D1425,\" \",\"\")","v":""},20,"Oaxaca",428,"Santa María Quiegolani"]
[null,null,{"$f":"SUBSTITUTE(Reporte!D1426,\" \",\"\")","v":""},20,"Oaxaca",429,"Santa María Sola"]
[null,null,{"$f":"SUBSTITUTE(Reporte!D1427,\" \",\"\")","v":""},20,"Oaxaca",430,"Santa María Tataltepec"]
[null,null,{"$f":"SUBSTITUTE(Reporte!D1428,\" \",\"\")","v":""},20,"Oaxaca",431,"Santa María Tecomavaca"]
[null,null,{"$f":"SUBSTITUTE(Reporte!D1429,\" \",\"\")","v":""},20,"Oaxaca",432,"Santa María Temaxcalapa"]
[null,null,{"$f":"SUBSTITUTE(Reporte!D1430,\" \",\"\")","v":""},20,"Oaxaca",433,"Santa María Temaxcaltepec"]
[null,null,{"$f":"SUBSTITUTE(Reporte!D1431,\" \",\"\")","v":""},20,"Oaxaca",434,"Santa María Teopoxco"]
[null,null,{"$f":"SUBSTITUTE(Reporte!D1432,\" \",\"\")","v":""},20,"Oaxaca",435,"Santa María Tepantlali"]
[null,null,{"$f":"SUBSTITUTE(Reporte!D1433,\" \",\"\")","v":""},20,"Oaxaca",436,"Santa María Texcatitlán"]
[null,null,{"$f":"SUBSTITUTE(Reporte!D1434,\" \",\"\")","v":""},20,"Oaxaca",437,"Santa María Tlahuitoltepec"]
[null,null,{"$f":"SUBSTITUTE(Reporte!D1435,\" \",\"\")","v":""},20,"Oaxaca",438,"Santa María Tlalixtac"]
[null,null,{"$f":"SUBSTITUTE(Reporte!D1436,\" \",\"\")","v":""},20,"Oaxaca",439,"Santa María Tonameca"]
[null,null,{"$f":"SUBSTITUTE(Reporte!D1437,\" \",\"\")","v":""},20,"Oaxaca",440,"Santa María Totolapilla"]
[null,null,{"$f":"SUBSTITUTE(Reporte!D1438,\" \",\"\")","v":""},20,"Oaxaca",441,"Santa María Xadani"]
[null,null,{"$f":"SUBSTITUTE(Reporte!D1439,\" \",\"\")","v":""},20,"Oaxaca",442,"Santa María Yalina"]
[null,null,{"$f":"SUBSTITUTE(Reporte!D1440,\" \",\"\")","v":""},20,"Oaxaca",443,"Santa María Yavesía"]
[null,null,{"$f":"SUBSTITUTE(Reporte!D1441,\" \",\"\")","v":""},20,"Oaxaca",444,"Santa María Yolotepec"]
[null,null,{"$f":"SUBSTITUTE(Reporte!D1442,\" \",\"\")","v":""},20,"Oaxaca",445,"Santa María Yosoyúa"]
[null,null,{"$f":"SUBSTITUTE(Reporte!D1443,\" \",\"\")","v":""},20,"Oaxaca",446,"Santa María Yucuhiti"]
[null,null,{"$f":"SUBSTITUTE(Reporte!D1444,\" \",\"\")","v":""},20,"Oaxaca",447,"Santa María Zacatepec"]
[null,null,{"$f":"SUBSTITUTE(Reporte!D1445,\" \",\"\")","v":""},20,"Oaxaca",448,"Santa María Zaniza"]
[null,null,{"$f":"SUBSTITUTE(Reporte!D1446,\" \",\"\")","v":""},20,"Oaxaca",449,"Santa María Zoquitlán"]
[null,null,{"$f":"SUBSTITUTE(Reporte!D1447,\" \",\"\")","v":""},20,"Oaxaca",450,"Santiago Amoltepec"]
[null,null,{"$f":"SUBSTITUTE(Reporte!D1448,\" \",\"\")","v":""},20,"Oaxaca",451,"Santiago Apoala"]
[null,null,{"$f":"SUBSTITUTE(Reporte!D1449,\" \",\"\")","v":""},20,"Oaxaca",452,"Santiago Apóstol"]
[null,null,{"$f":"SUBSTITUTE(Reporte!D1450,\" \",\"\")","v":""},20,"Oaxaca",453,"Santiago Astata"]
[null,null,{"$f":"SUBSTITUTE(Reporte!D1451,\" \",\"\")","v":""},20,"Oaxaca",454,"Santiago Atitlán"]
[null,null,{"$f":"SUBSTITUTE(Reporte!D1452,\" \",\"\")","v":""},20,"Oaxaca",455,"Santiago Ayuquililla"]
[null,null,{"$f":"SUBSTITUTE(Reporte!D1453,\" \",\"\")","v":""},20,"Oaxaca",456,"Santiago Cacaloxtepec"]
[null,null,{"$f":"SUBSTITUTE(Reporte!D1454,\" \",\"\")","v":""},20,"Oaxaca",457,"Santiago Camotlán"]
[null,null,{"$f":"SUBSTITUTE(Reporte!D1455,\" \",\"\")","v":""},20,"Oaxaca",458,"Santiago Comaltepec"]
[null,null,{"$f":"SUBSTITUTE(Reporte!D1456,\" \",\"\")","v":""},20,"Oaxaca",459,"Santiago Chazumba"]
[null,null,{"$f":"SUBSTITUTE(Reporte!D1457,\" \",\"\")","v":""},20,"Oaxaca",460,"Santiago Choápam"]
[null,null,{"$f":"SUBSTITUTE(Reporte!D1458,\" \",\"\")","v":""},20,"Oaxaca",461,"Santiago del Río"]
[null,null,{"$f":"SUBSTITUTE(Reporte!D1459,\" \",\"\")","v":""},20,"Oaxaca",462,"Santiago Huajolotitlán"]
[null,null,{"$f":"SUBSTITUTE(Reporte!D1460,\" \",\"\")","v":""},20,"Oaxaca",463,"Santiago Huauclilla"]
[null,null,{"$f":"SUBSTITUTE(Reporte!D1461,\" \",\"\")","v":""},20,"Oaxaca",464,"Santiago Ihuitlán Plumas"]
[null,null,{"$f":"SUBSTITUTE(Reporte!D1462,\" \",\"\")","v":""},20,"Oaxaca",465,"Santiago Ixcuintepec"]
[null,null,{"$f":"SUBSTITUTE(Reporte!D1463,\" \",\"\")","v":""},20,"Oaxaca",466,"Santiago Ixtayutla"]
[null,null,{"$f":"SUBSTITUTE(Reporte!D1464,\" \",\"\")","v":""},20,"Oaxaca",467,"Santiago Jamiltepec"]
[null,null,{"$f":"SUBSTITUTE(Reporte!D1465,\" \",\"\")","v":""},20,"Oaxaca",468,"Santiago Jocotepec"]
[null,null,{"$f":"SUBSTITUTE(Reporte!D1466,\" \",\"\")","v":""},20,"Oaxaca",469,"Santiago Juxtlahuaca"]
[null,null,{"$f":"SUBSTITUTE(Reporte!D1467,\" \",\"\")","v":""},20,"Oaxaca",470,"Santiago Lachiguiri"]
[null,null,{"$f":"SUBSTITUTE(Reporte!D1468,\" \",\"\")","v":""},20,"Oaxaca",471,"Santiago Lalopa"]
[null,null,{"$f":"SUBSTITUTE(Reporte!D1469,\" \",\"\")","v":""},20,"Oaxaca",472,"Santiago Laollaga"]
[null,null,{"$f":"SUBSTITUTE(Reporte!D1470,\" \",\"\")","v":""},20,"Oaxaca",473,"Santiago Laxopa"]
[null,null,{"$f":"SUBSTITUTE(Reporte!D1471,\" \",\"\")","v":""},20,"Oaxaca",474,"Santiago Llano Grande"]
[null,null,{"$f":"SUBSTITUTE(Reporte!D1472,\" \",\"\")","v":""},20,"Oaxaca",475,"Santiago Matatlán"]
[null,null,{"$f":"SUBSTITUTE(Reporte!D1473,\" \",\"\")","v":""},20,"Oaxaca",476,"Santiago Miltepec"]
[null,null,{"$f":"SUBSTITUTE(Reporte!D1474,\" \",\"\")","v":""},20,"Oaxaca",477,"Santiago Minas"]
[null,null,{"$f":"SUBSTITUTE(Reporte!D1475,\" \",\"\")","v":""},20,"Oaxaca",478,"Santiago Nacaltepec"]
[null,null,{"$f":"SUBSTITUTE(Reporte!D1476,\" \",\"\")","v":""},20,"Oaxaca",479,"Santiago Nejapilla"]
[null,null,{"$f":"SUBSTITUTE(Reporte!D1477,\" \",\"\")","v":""},20,"Oaxaca",480,"Santiago Nundiche"]
[null,null,{"$f":"SUBSTITUTE(Reporte!D1478,\" \",\"\")","v":""},20,"Oaxaca",481,"Santiago Nuyoó"]
[null,null,{"$f":"SUBSTITUTE(Reporte!D1479,\" \",\"\")","v":""},20,"Oaxaca",482,"Santiago Pinotepa Nacional"]
[null,null,{"$f":"SUBSTITUTE(Reporte!D1480,\" \",\"\")","v":""},20,"Oaxaca",483,"Santiago Suchilquitongo"]
[null,null,{"$f":"SUBSTITUTE(Reporte!D1481,\" \",\"\")","v":""},20,"Oaxaca",484,"Santiago Tamazola"]
[null,null,{"$f":"SUBSTITUTE(Reporte!D1482,\" \",\"\")","v":""},20,"Oaxaca",485,"Santiago Tapextla"]
[null,null,{"$f":"SUBSTITUTE(Reporte!D1483,\" \",\"\")","v":""},20,"Oaxaca",486,"Villa Tejúpam de la Unión"]
[null,null,{"$f":"SUBSTITUTE(Reporte!D1484,\" \",\"\")","v":""},20,"Oaxaca",487,"Santiago Tenango"]
[null,null,{"$f":"SUBSTITUTE(Reporte!D1485,\" \",\"\")","v":""},20,"Oaxaca",488,"Santiago Tepetlapa"]
[null,null,{"$f":"SUBSTITUTE(Reporte!D1486,\" \",\"\")","v":""},20,"Oaxaca",489,"Santiago Tetepec"]
[null,null,{"$f":"SUBSTITUTE(Reporte!D1487,\" \",\"\")","v":""},20,"Oaxaca",490,"Santiago Texcalcingo"]
[null,null,{"$f":"SUBSTITUTE(Reporte!D1488,\" \",\"\")","v":""},20,"Oaxaca",491,"Santiago Textitlán"]
[null,null,{"$f":"SUBSTITUTE(Reporte!D1489,\" \",\"\")","v":""},20,"Oaxaca",492,"Santiago Tilantongo"]
[null,null,{"$f":"SUBSTITUTE(Reporte!D1490,\" \",\"\")","v":""},20,"Oaxaca",493,"Santiago Tillo"]
[null,null,{"$f":"SUBSTITUTE(Reporte!D1491,\" \",\"\")","v":""},20,"Oaxaca",494,"Santiago Tlazoyaltepec"]
[null,null,{"$f":"SUBSTITUTE(Reporte!D1492,\" \",\"\")","v":""},20,"Oaxaca",495,"Santiago Xanica"]
[null,null,{"$f":"SUBSTITUTE(Reporte!D1493,\" \",\"\")","v":""},20,"Oaxaca",496,"Santiago Xiacuí"]
[null,null,{"$f":"SUBSTITUTE(Reporte!D1494,\" \",\"\")","v":""},20,"Oaxaca",497,"Santiago Yaitepec"]
[null,null,{"$f":"SUBSTITUTE(Reporte!D1495,\" \",\"\")","v":""},20,"Oaxaca",498,"Santiago Yaveo"]
[null,null,{"$f":"SUBSTITUTE(Reporte!D1496,\" \",\"\")","v":""},20,"Oaxaca",499,"Santiago Yolomécatl"]
[null,null,{"$f":"SUBSTITUTE(Reporte!D1497,\" \",\"\")","v":""},20,"Oaxaca",500,"Santiago Yosondúa"]
[null,null,{"$f":"SUBSTITUTE(Reporte!D1498,\" \",\"\")","v":""},20,"Oaxaca",501,"Santiago Yucuyachi"]
[null,null,{"$f":"SUBSTITUTE(Reporte!D1499,\" \",\"\")","v":""},20,"Oaxaca",502,"Santiago Zacatepec"]
[null,null,{"$f":"SUBSTITUTE(Reporte!D1500,\" \",\"\")","v":""},20,"Oaxaca",503,"Santiago Zoochila"]
[null,null,{"$f":"SUBSTITUTE(Reporte!D1501,\" \",\"\")","v":""},20,"Oaxaca",504,"Nuevo Zoquiápam"]
[null,null,{"$f":"SUBSTITUTE(Reporte!D1502,\" \",\"\")","v":""},20,"Oaxaca",505,"Santo Domingo Ingenio"]
[null,null,{"$f":"SUBSTITUTE(Reporte!D1503,\" \",\"\")","v":""},20,"Oaxaca",506,"Santo Domingo Albarradas"]
[null,null,{"$f":"SUBSTITUTE(Reporte!D1504,\" \",\"\")","v":""},20,"Oaxaca",507,"Santo Domingo Armenta"]
[null,null,{"$f":"SUBSTITUTE(Reporte!D1505,\" \",\"\")","v":""},20,"Oaxaca",508,"Santo Domingo Chihuitán"]
[null,null,{"$f":"SUBSTITUTE(Reporte!D1506,\" \",\"\")","v":""},20,"Oaxaca",509,"Santo Domingo de Morelos"]
[null,null,{"$f":"SUBSTITUTE(Reporte!D1507,\" \",\"\")","v":""},20,"Oaxaca",510,"Santo Domingo Ixcatlán"]
[null,null,{"$f":"SUBSTITUTE(Reporte!D1508,\" \",\"\")","v":""},20,"Oaxaca",511,"Santo Domingo Nuxaá"]
[null,null,{"$f":"SUBSTITUTE(Reporte!D1509,\" \",\"\")","v":""},20,"Oaxaca",512,"Santo Domingo Ozolotepec"]
[null,null,{"$f":"SUBSTITUTE(Reporte!D1510,\" \",\"\")","v":""},20,"Oaxaca",513,"Santo Domingo Petapa"]
[null,null,{"$f":"SUBSTITUTE(Reporte!D1511,\" \",\"\")","v":""},20,"Oaxaca",514,"Santo Domingo Roayaga"]
[null,null,{"$f":"SUBSTITUTE(Reporte!D1512,\" \",\"\")","v":""},20,"Oaxaca",515,"Santo Domingo Tehuantepec"]
[null,null,{"$f":"SUBSTITUTE(Reporte!D1513,\" \",\"\")","v":""},20,"Oaxaca",516,"Santo Domingo Teojomulco"]
[null,null,{"$f":"SUBSTITUTE(Reporte!D1514,\" \",\"\")","v":""},20,"Oaxaca",517,"Santo Domingo Tepuxtepec"]
[null,null,{"$f":"SUBSTITUTE(Reporte!D1515,\" \",\"\")","v":""},20,"Oaxaca",518,"Santo Domingo Tlatayápam"]
[null,null,{"$f":"SUBSTITUTE(Reporte!D1516,\" \",\"\")","v":""},20,"Oaxaca",519,"Santo Domingo Tomaltepec"]
[null,null,{"$f":"SUBSTITUTE(Reporte!D1517,\" \",\"\")","v":""},20,"Oaxaca",520,"Santo Domingo Tonalá"]
[null,null,{"$f":"SUBSTITUTE(Reporte!D1518,\" \",\"\")","v":""},20,"Oaxaca",521,"Santo Domingo Tonaltepec"]
[null,null,{"$f":"SUBSTITUTE(Reporte!D1519,\" \",\"\")","v":""},20,"Oaxaca",522,"Santo Domingo Xagacía"]
[null,null,{"$f":"SUBSTITUTE(Reporte!D1520,\" \",\"\")","v":""},20,"Oaxaca",523,"Santo Domingo Yanhuitlán"]
[null,null,{"$f":"SUBSTITUTE(Reporte!D1521,\" \",\"\")","v":""},20,"Oaxaca",524,"Santo Domingo Yodohino"]
[null,null,{"$f":"SUBSTITUTE(Reporte!D1522,\" \",\"\")","v":""},20,"Oaxaca",525,"Santo Domingo Zanatepec"]
[null,null,{"$f":"SUBSTITUTE(Reporte!D1523,\" \",\"\")","v":""},20,"Oaxaca",526,"Santos Reyes Nopala"]
[null,null,{"$f":"SUBSTITUTE(Reporte!D1524,\" \",\"\")","v":""},20,"Oaxaca",527,"Santos Reyes Pápalo"]
[null,null,{"$f":"SUBSTITUTE(Reporte!D1525,\" \",\"\")","v":""},20,"Oaxaca",528,"Santos Reyes Tepejillo"]
[null,null,{"$f":"SUBSTITUTE(Reporte!D1526,\" \",\"\")","v":""},20,"Oaxaca",529,"Santos Reyes Yucuná"]
[null,null,{"$f":"SUBSTITUTE(Reporte!D1527,\" \",\"\")","v":""},20,"Oaxaca",530,"Santo Tomás Jalieza"]
[null,null,{"$f":"SUBSTITUTE(Reporte!D1528,\" \",\"\")","v":""},20,"Oaxaca",531,"Santo Tomás Mazaltepec"]
[null,null,{"$f":"SUBSTITUTE(Reporte!D1529,\" \",\"\")","v":""},20,"Oaxaca",532,"Santo Tomás Ocotepec"]
[null,null,{"$f":"SUBSTITUTE(Reporte!D1530,\" \",\"\")","v":""},20,"Oaxaca",533,"Santo Tomás Tamazulapan"]
[null,null,{"$f":"SUBSTITUTE(Reporte!D1531,\" \",\"\")","v":""},20,"Oaxaca",534,"San Vicente Coatlán"]
[null,null,{"$f":"SUBSTITUTE(Reporte!D1532,\" \",\"\")","v":""},20,"Oaxaca",535,"San Vicente Lachixío"]
[null,null,{"$f":"SUBSTITUTE(Reporte!D1533,\" \",\"\")","v":""},20,"Oaxaca",536,"San Vicente Nuñú"]
[null,null,{"$f":"SUBSTITUTE(Reporte!D1534,\" \",\"\")","v":""},20,"Oaxaca",537,"Silacayoápam"]
[null,null,{"$f":"SUBSTITUTE(Reporte!D1535,\" \",\"\")","v":""},20,"Oaxaca",538,"Sitio de Xitlapehua"]
[null,null,{"$f":"SUBSTITUTE(Reporte!D1536,\" \",\"\")","v":""},20,"Oaxaca",539,"Soledad Etla"]
[null,null,{"$f":"SUBSTITUTE(Reporte!D1537,\" \",\"\")","v":""},20,"Oaxaca",540,"Villa de Tamazulápam del Progreso"]
[null,null,{"$f":"SUBSTITUTE(Reporte!D1538,\" \",\"\")","v":""},20,"Oaxaca",541,"Tanetze de Zaragoza"]
[null,null,{"$f":"SUBSTITUTE(Reporte!D1539,\" \",\"\")","v":""},20,"Oaxaca",542,"Taniche"]
[null,null,{"$f":"SUBSTITUTE(Reporte!D1540,\" \",\"\")","v":""},20,"Oaxaca",543,"Tataltepec de Valdés"]
[null,null,{"$f":"SUBSTITUTE(Reporte!D1541,\" \",\"\")","v":""},20,"Oaxaca",544,"Teococuilco de Marcos Pérez"]
[null,null,{"$f":"SUBSTITUTE(Reporte!D1542,\" \",\"\")","v":""},20,"Oaxaca",545,"Teotitlán de Flores Magón"]
[null,null,{"$f":"SUBSTITUTE(Reporte!D1543,\" \",\"\")","v":""},20,"Oaxaca",546,"Teotitlán del Valle"]
[null,null,{"$f":"SUBSTITUTE(Reporte!D1544,\" \",\"\")","v":""},20,"Oaxaca",547,"Teotongo"]
[null,null,{"$f":"SUBSTITUTE(Reporte!D1545,\" \",\"\")","v":""},20,"Oaxaca",548,"Tepelmeme Villa de Morelos"]
[null,null,{"$f":"SUBSTITUTE(Reporte!D1546,\" \",\"\")","v":""},20,"Oaxaca",549,"Heroica Villa Tezoatlán de Segura y Luna, Cuna de la Independencia de Oaxaca"]
[null,null,{"$f":"SUBSTITUTE(Reporte!D1547,\" \",\"\")","v":""},20,"Oaxaca",550,"San Jerónimo Tlacochahuaya"]
[null,null,{"$f":"SUBSTITUTE(Reporte!D1548,\" \",\"\")","v":""},20,"Oaxaca",551,"Tlacolula de Matamoros"]
[null,null,{"$f":"SUBSTITUTE(Reporte!D1549,\" \",\"\")","v":""},20,"Oaxaca",552,"Tlacotepec Plumas"]
[null,null,{"$f":"SUBSTITUTE(Reporte!D1550,\" \",\"\")","v":""},20,"Oaxaca",553,"Tlalixtac de Cabrera"]
[null,null,{"$f":"SUBSTITUTE(Reporte!D1551,\" \",\"\")","v":""},20,"Oaxaca",554,"Totontepec Villa de Morelos"]
[null,null,{"$f":"SUBSTITUTE(Reporte!D1552,\" \",\"\")","v":""},20,"Oaxaca",555,"Trinidad Zaachila"]
[null,null,{"$f":"SUBSTITUTE(Reporte!D1553,\" \",\"\")","v":""},20,"Oaxaca",556,"La Trinidad Vista Hermosa"]
[null,null,{"$f":"SUBSTITUTE(Reporte!D1554,\" \",\"\")","v":""},20,"Oaxaca",557,"Unión Hidalgo"]
[null,null,{"$f":"SUBSTITUTE(Reporte!D1555,\" \",\"\")","v":""},20,"Oaxaca",558,"Valerio Trujano"]
[null,null,{"$f":"SUBSTITUTE(Reporte!D1556,\" \",\"\")","v":""},20,"Oaxaca",559,"San Juan Bautista Valle Nacional"]
[null,null,{"$f":"SUBSTITUTE(Reporte!D1557,\" \",\"\")","v":""},20,"Oaxaca",560,"Villa Díaz Ordaz"]
[null,null,{"$f":"SUBSTITUTE(Reporte!D1558,\" \",\"\")","v":""},20,"Oaxaca",561,"Yaxe"]
[null,null,{"$f":"SUBSTITUTE(Reporte!D1559,\" \",\"\")","v":""},20,"Oaxaca",562,"Magdalena Yodocono de Porfirio Díaz"]
[null,null,{"$f":"SUBSTITUTE(Reporte!D1560,\" \",\"\")","v":""},20,"Oaxaca",563,"Yogana"]
[null,null,{"$f":"SUBSTITUTE(Reporte!D1561,\" \",\"\")","v":""},20,"Oaxaca",564,"Yutanduchi de Guerrero"]
[null,null,{"$f":"SUBSTITUTE(Reporte!D1562,\" \",\"\")","v":""},20,"Oaxaca",565,"Villa de Zaachila"]
[null,null,{"$f":"SUBSTITUTE(Reporte!D1563,\" \",\"\")","v":""},20,"Oaxaca",566,"San Mateo Yucutindoo"]
[null,null,{"$f":"SUBSTITUTE(Reporte!D1564,\" \",\"\")","v":""},20,"Oaxaca",567,"Zapotitlán Lagunas"]
[null,null,{"$f":"SUBSTITUTE(Reporte!D1565,\" \",\"\")","v":""},20,"Oaxaca",568,"Zapotitlán Palmas"]
[null,null,{"$f":"SUBSTITUTE(Reporte!D1566,\" \",\"\")","v":""},20,"Oaxaca",569,"Santa Inés de Zaragoza"]
[null,null,{"$f":"SUBSTITUTE(Reporte!D1567,\" \",\"\")","v":""},20,"Oaxaca",570,"Zimatlán de Álvarez"]
[null,null,{"$f":"SUBSTITUTE(Reporte!D1568,\" \",\"\")","v":""},20,"Oaxaca",214,"San Juan Quiotepec"]
[null,null,{"$f":"SUBSTITUTE(Reporte!D1569,\" \",\"\")","v":""},20,"Oaxaca",215,"San Juan Sayultepec"]
[null,null,{"$f":"SUBSTITUTE(Reporte!D1570,\" \",\"\")","v":""},20,"Oaxaca",216,"San Juan Tabaá"]
[null,null,{"$f":"SUBSTITUTE(Reporte!D1571,\" \",\"\")","v":""},20,"Oaxaca",217,"San Juan Tamazola"]
[null,null,{"$f":"SUBSTITUTE(Reporte!D1572,\" \",\"\")","v":""},21,"Puebla",217,"Zoquitlán"]
[null,null,{"$f":"SUBSTITUTE(Reporte!D1573,\" \",\"\")","v":""},21,"Puebla",216,"Zoquiapan"]
[null,null,{"$f":"SUBSTITUTE(Reporte!D1574,\" \",\"\")","v":""},21,"Puebla",215,"Zongozotla"]
[null,null,{"$f":"SUBSTITUTE(Reporte!D1575,\" \",\"\")","v":""},21,"Puebla",214,"Zinacatepec"]
[null,null,{"$f":"SUBSTITUTE(Reporte!D1576,\" \",\"\")","v":""},21,"Puebla",82,"Ixcaquixtla"]
[null,null,{"$f":"SUBSTITUTE(Reporte!D1577,\" \",\"\")","v":""},21,"Puebla",83,"Ixtacamaxtitlán"]
[null,null,{"$f":"SUBSTITUTE(Reporte!D1578,\" \",\"\")","v":""},21,"Puebla",84,"Ixtepec"]
[null,null,{"$f":"SUBSTITUTE(Reporte!D1579,\" \",\"\")","v":""},21,"Puebla",85,"Izúcar de Matamoros"]
[null,null,{"$f":"SUBSTITUTE(Reporte!D1580,\" \",\"\")","v":""},21,"Puebla",89,"Jopala"]
[null,null,{"$f":"SUBSTITUTE(Reporte!D1581,\" \",\"\")","v":""},21,"Puebla",88,"Jonotla"]
[null,null,{"$f":"SUBSTITUTE(Reporte!D1582,\" \",\"\")","v":""},21,"Puebla",87,"Jolalpan"]
[null,null,{"$f":"SUBSTITUTE(Reporte!D1583,\" \",\"\")","v":""},21,"Puebla",86,"Jalpan"]
[null,null,{"$f":"SUBSTITUTE(Reporte!D1584,\" \",\"\")","v":""},21,"Puebla",81,"Ixcamilpa de Guerrero"]
[null,null,{"$f":"SUBSTITUTE(Reporte!D1585,\" \",\"\")","v":""},21,"Puebla",80,"Atlequizayan"]
[null,null,{"$f":"SUBSTITUTE(Reporte!D1586,\" \",\"\")","v":""},21,"Puebla",79,"Huitziltepec"]
[null,null,{"$f":"SUBSTITUTE(Reporte!D1587,\" \",\"\")","v":""},21,"Puebla",78,"Huitzilan de Serdán"]
[null,null,{"$f":"SUBSTITUTE(Reporte!D1588,\" \",\"\")","v":""},21,"Puebla",77,"Hueytlalpan"]
[null,null,{"$f":"SUBSTITUTE(Reporte!D1589,\" \",\"\")","v":""},21,"Puebla",76,"Hueytamalco"]
[null,null,{"$f":"SUBSTITUTE(Reporte!D1590,\" \",\"\")","v":""},21,"Puebla",75,"Hueyapan"]
[null,null,{"$f":"SUBSTITUTE(Reporte!D1591,\" \",\"\")","v":""},21,"Puebla",74,"Huejotzingo"]
[null,null,{"$f":"SUBSTITUTE(Reporte!D1592,\" \",\"\")","v":""},21,"Puebla",106,"Ocoyucan"]
[null,null,{"$f":"SUBSTITUTE(Reporte!D1593,\" \",\"\")","v":""},21,"Puebla",105,"Ocotepec"]
[null,null,{"$f":"SUBSTITUTE(Reporte!D1594,\" \",\"\")","v":""},21,"Puebla",104,"Nopalucan"]
[null,null,{"$f":"SUBSTITUTE(Reporte!D1595,\" \",\"\")","v":""},21,"Puebla",103,"Nicolás Bravo"]
[null,null,{"$f":"SUBSTITUTE(Reporte!D1596,\" \",\"\")","v":""},21,"Puebla",102,"Nealtican"]
[null,null,{"$f":"SUBSTITUTE(Reporte!D1597,\" \",\"\")","v":""},21,"Puebla",101,"Nauzontla"]
[null,null,{"$f":"SUBSTITUTE(Reporte!D1598,\" \",\"\")","v":""},21,"Puebla",100,"Naupan"]
[null,null,{"$f":"SUBSTITUTE(Reporte!D1599,\" \",\"\")","v":""},21,"Puebla",99,"Cañada Morelos"]
[null,null,{"$f":"SUBSTITUTE(Reporte!D1600,\" \",\"\")","v":""},21,"Puebla",98,"Molcaxac"]
[null,null,{"$f":"SUBSTITUTE(Reporte!D1601,\" \",\"\")","v":""},21,"Puebla",97,"Mixtla"]
[null,null,{"$f":"SUBSTITUTE(Reporte!D1602,\" \",\"\")","v":""},21,"Puebla",96,"Mazapiltepec de Juárez"]
[null,null,{"$f":"SUBSTITUTE(Reporte!D1603,\" \",\"\")","v":""},21,"Puebla",94,"Libres"]
[null,null,{"$f":"SUBSTITUTE(Reporte!D1604,\" \",\"\")","v":""},21,"Puebla",93,"Lafragua"]
[null,null,{"$f":"SUBSTITUTE(Reporte!D1605,\" \",\"\")","v":""},21,"Puebla",92,"Juan N. Méndez"]
[null,null,{"$f":"SUBSTITUTE(Reporte!D1606,\" \",\"\")","v":""},21,"Puebla",91,"Juan Galindo"]
[null,null,{"$f":"SUBSTITUTE(Reporte!D1607,\" \",\"\")","v":""},21,"Puebla",90,"Juan C. Bonilla"]
[null,null,{"$f":"SUBSTITUTE(Reporte!D1608,\" \",\"\")","v":""},21,"Puebla",213,"Zihuateutla"]
[null,null,{"$f":"SUBSTITUTE(Reporte!D1609,\" \",\"\")","v":""},21,"Puebla",212,"Zautla"]
[null,null,{"$f":"SUBSTITUTE(Reporte!D1610,\" \",\"\")","v":""},21,"Puebla",211,"Zaragoza"]
[null,null,{"$f":"SUBSTITUTE(Reporte!D1611,\" \",\"\")","v":""},21,"Puebla",210,"Zapotitlán de Méndez"]
[null,null,{"$f":"SUBSTITUTE(Reporte!D1612,\" \",\"\")","v":""},21,"Puebla",209,"Zapotitlán"]
[null,null,{"$f":"SUBSTITUTE(Reporte!D1613,\" \",\"\")","v":""},21,"Puebla",208,"Zacatlán"]
[null,null,{"$f":"SUBSTITUTE(Reporte!D1614,\" \",\"\")","v":""},21,"Puebla",207,"Zacapoaxtla"]
[null,null,{"$f":"SUBSTITUTE(Reporte!D1615,\" \",\"\")","v":""},21,"Puebla",206,"Zacapala"]
[null,null,{"$f":"SUBSTITUTE(Reporte!D1616,\" \",\"\")","v":""},21,"Puebla",205,"Yehualtepec"]
[null,null,{"$f":"SUBSTITUTE(Reporte!D1617,\" \",\"\")","v":""},21,"Puebla",204,"Yaonáhuac"]
[null,null,{"$f":"SUBSTITUTE(Reporte!D1618,\" \",\"\")","v":""},21,"Puebla",203,"Xochitlán Todos Santos"]
[null,null,{"$f":"SUBSTITUTE(Reporte!D1619,\" \",\"\")","v":""},21,"Puebla",202,"Xochitlán de Vicente Suárez"]
[null,null,{"$f":"SUBSTITUTE(Reporte!D1620,\" \",\"\")","v":""},21,"Puebla",201,"Xochiltepec"]
[null,null,{"$f":"SUBSTITUTE(Reporte!D1621,\" \",\"\")","v":""},21,"Puebla",200,"Xochiapulco"]
[null,null,{"$f":"SUBSTITUTE(Reporte!D1622,\" \",\"\")","v":""},21,"Puebla",199,"Xiutetelco"]
[null,null,{"$f":"SUBSTITUTE(Reporte!D1623,\" \",\"\")","v":""},21,"Puebla",198,"Xicotlán"]
[null,null,{"$f":"SUBSTITUTE(Reporte!D1624,\" \",\"\")","v":""},21,"Puebla",197,"Xicotepec"]
[null,null,{"$f":"SUBSTITUTE(Reporte!D1625,\" \",\"\")","v":""},21,"Puebla",196,"Xayacatlán de Bravo"]
[null,null,{"$f":"SUBSTITUTE(Reporte!D1626,\" \",\"\")","v":""},21,"Puebla",195,"Vicente Guerrero"]
[null,null,{"$f":"SUBSTITUTE(Reporte!D1627,\" \",\"\")","v":""},21,"Puebla",194,"Venustiano Carranza"]
[null,null,{"$f":"SUBSTITUTE(Reporte!D1628,\" \",\"\")","v":""},21,"Puebla",193,"Tzicatlacoyan"]
[null,null,{"$f":"SUBSTITUTE(Reporte!D1629,\" \",\"\")","v":""},21,"Puebla",192,"Tuzamapan de Galeana"]
[null,null,{"$f":"SUBSTITUTE(Reporte!D1630,\" \",\"\")","v":""},21,"Puebla",191,"Tulcingo"]
[null,null,{"$f":"SUBSTITUTE(Reporte!D1631,\" \",\"\")","v":""},21,"Puebla",190,"Totoltepec de Guerrero"]
[null,null,{"$f":"SUBSTITUTE(Reporte!D1632,\" \",\"\")","v":""},21,"Puebla",189,"Tochtepec"]
[null,null,{"$f":"SUBSTITUTE(Reporte!D1633,\" \",\"\")","v":""},21,"Puebla",188,"Tochimilco"]
[null,null,{"$f":"SUBSTITUTE(Reporte!D1634,\" \",\"\")","v":""},21,"Puebla",187,"Tlaxco"]
[null,null,{"$f":"SUBSTITUTE(Reporte!D1635,\" \",\"\")","v":""},21,"Puebla",186,"Tlatlauquitepec"]
[null,null,{"$f":"SUBSTITUTE(Reporte!D1636,\" \",\"\")","v":""},21,"Puebla",185,"Tlapanalá"]
[null,null,{"$f":"SUBSTITUTE(Reporte!D1637,\" \",\"\")","v":""},21,"Puebla",184,"Tlapacoya"]
[null,null,{"$f":"SUBSTITUTE(Reporte!D1638,\" \",\"\")","v":""},21,"Puebla",183,"Tlaola"]
[null,null,{"$f":"SUBSTITUTE(Reporte!D1639,\" \",\"\")","v":""},21,"Puebla",182,"Tlanepantla"]
[null,null,{"$f":"SUBSTITUTE(Reporte!D1640,\" \",\"\")","v":""},21,"Puebla",181,"Tlaltenango"]
[null,null,{"$f":"SUBSTITUTE(Reporte!D1641,\" \",\"\")","v":""},21,"Puebla",180,"Tlahuapan"]
[null,null,{"$f":"SUBSTITUTE(Reporte!D1642,\" \",\"\")","v":""},21,"Puebla",179,"Tlachichuca"]
[null,null,{"$f":"SUBSTITUTE(Reporte!D1643,\" \",\"\")","v":""},21,"Puebla",178,"Tlacuilotepec"]
[null,null,{"$f":"SUBSTITUTE(Reporte!D1644,\" \",\"\")","v":""},21,"Puebla",177,"Tlacotepec de Benito Juárez"]
[null,null,{"$f":"SUBSTITUTE(Reporte!D1645,\" \",\"\")","v":""},21,"Puebla",176,"Tilapa"]
[null,null,{"$f":"SUBSTITUTE(Reporte!D1646,\" \",\"\")","v":""},21,"Puebla",175,"Tianguismanalco"]
[null,null,{"$f":"SUBSTITUTE(Reporte!D1647,\" \",\"\")","v":""},21,"Puebla",174,"Teziutlán"]
[null,null,{"$f":"SUBSTITUTE(Reporte!D1648,\" \",\"\")","v":""},21,"Puebla",173,"Teteles de Avila Castillo"]
[null,null,{"$f":"SUBSTITUTE(Reporte!D1649,\" \",\"\")","v":""},21,"Puebla",172,"Tetela de Ocampo"]
[null,null,{"$f":"SUBSTITUTE(Reporte!D1650,\" \",\"\")","v":""},21,"Puebla",171,"Tepeyahualco de Cuauhtémoc"]
[null,null,{"$f":"SUBSTITUTE(Reporte!D1651,\" \",\"\")","v":""},21,"Puebla",170,"Tepeyahualco"]
[null,null,{"$f":"SUBSTITUTE(Reporte!D1652,\" \",\"\")","v":""},21,"Puebla",169,"Tepexi de Rodríguez"]
[null,null,{"$f":"SUBSTITUTE(Reporte!D1653,\" \",\"\")","v":""},21,"Puebla",168,"Tepexco"]
[null,null,{"$f":"SUBSTITUTE(Reporte!D1654,\" \",\"\")","v":""},21,"Puebla",167,"Tepetzintla"]
[null,null,{"$f":"SUBSTITUTE(Reporte!D1655,\" \",\"\")","v":""},21,"Puebla",166,"Tepeojuma"]
[null,null,{"$f":"SUBSTITUTE(Reporte!D1656,\" \",\"\")","v":""},21,"Puebla",165,"Tepemaxalco"]
[null,null,{"$f":"SUBSTITUTE(Reporte!D1657,\" \",\"\")","v":""},21,"Puebla",164,"Tepeaca"]
[null,null,{"$f":"SUBSTITUTE(Reporte!D1658,\" \",\"\")","v":""},21,"Puebla",163,"Tepatlaxco de Hidalgo"]
[null,null,{"$f":"SUBSTITUTE(Reporte!D1659,\" \",\"\")","v":""},21,"Puebla",162,"Tepango de Rodríguez"]
[null,null,{"$f":"SUBSTITUTE(Reporte!D1660,\" \",\"\")","v":""},21,"Puebla",161,"Tepanco de López"]
[null,null,{"$f":"SUBSTITUTE(Reporte!D1661,\" \",\"\")","v":""},21,"Puebla",160,"Teotlalco"]
[null,null,{"$f":"SUBSTITUTE(Reporte!D1662,\" \",\"\")","v":""},21,"Puebla",159,"Teopantlán"]
[null,null,{"$f":"SUBSTITUTE(Reporte!D1663,\" \",\"\")","v":""},21,"Puebla",158,"Tenampulco"]
[null,null,{"$f":"SUBSTITUTE(Reporte!D1664,\" \",\"\")","v":""},21,"Puebla",157,"Tehuitzingo"]
[null,null,{"$f":"SUBSTITUTE(Reporte!D1665,\" \",\"\")","v":""},21,"Puebla",156,"Tehuacán"]
[null,null,{"$f":"SUBSTITUTE(Reporte!D1666,\" \",\"\")","v":""},21,"Puebla",155,"Tecomatlán"]
[null,null,{"$f":"SUBSTITUTE(Reporte!D1667,\" \",\"\")","v":""},21,"Puebla",154,"Tecamachalco"]
[null,null,{"$f":"SUBSTITUTE(Reporte!D1668,\" \",\"\")","v":""},21,"Puebla",153,"Tecali de Herrera"]
[null,null,{"$f":"SUBSTITUTE(Reporte!D1669,\" \",\"\")","v":""},21,"Puebla",152,"Soltepec"]
[null,null,{"$f":"SUBSTITUTE(Reporte!D1670,\" \",\"\")","v":""},21,"Puebla",151,"Santo Tomás Hueyotlipan"]
[null,null,{"$f":"SUBSTITUTE(Reporte!D1671,\" \",\"\")","v":""},21,"Puebla",150,"Huehuetlán el Grande"]
[null,null,{"$f":"SUBSTITUTE(Reporte!D1672,\" \",\"\")","v":""},21,"Puebla",149,"Santiago Miahuatlán"]
[null,null,{"$f":"SUBSTITUTE(Reporte!D1673,\" \",\"\")","v":""},21,"Puebla",148,"Santa Isabel Cholula"]
[null,null,{"$f":"SUBSTITUTE(Reporte!D1674,\" \",\"\")","v":""},21,"Puebla",147,"Santa Inés Ahuatempan"]
[null,null,{"$f":"SUBSTITUTE(Reporte!D1675,\" \",\"\")","v":""},21,"Puebla",146,"Santa Catarina Tlaltempan"]
[null,null,{"$f":"SUBSTITUTE(Reporte!D1676,\" \",\"\")","v":""},21,"Puebla",145,"San Sebastián Tlacotepec"]
[null,null,{"$f":"SUBSTITUTE(Reporte!D1677,\" \",\"\")","v":""},21,"Puebla",144,"San Salvador Huixcolotla"]
[null,null,{"$f":"SUBSTITUTE(Reporte!D1678,\" \",\"\")","v":""},21,"Puebla",143,"San Salvador el Verde"]
[null,null,{"$f":"SUBSTITUTE(Reporte!D1679,\" \",\"\")","v":""},21,"Puebla",142,"San Salvador el Seco"]
[null,null,{"$f":"SUBSTITUTE(Reporte!D1680,\" \",\"\")","v":""},21,"Puebla",141,"San Pedro Yeloixtlahuaca"]
[null,null,{"$f":"SUBSTITUTE(Reporte!D1681,\" \",\"\")","v":""},21,"Puebla",140,"San Pedro Cholula"]
[null,null,{"$f":"SUBSTITUTE(Reporte!D1682,\" \",\"\")","v":""},21,"Puebla",139,"San Pablo Anicano"]
[null,null,{"$f":"SUBSTITUTE(Reporte!D1683,\" \",\"\")","v":""},21,"Puebla",138,"San Nicolás de los Ranchos"]
[null,null,{"$f":"SUBSTITUTE(Reporte!D1684,\" \",\"\")","v":""},21,"Puebla",137,"San Nicolás Buenos Aires"]
[null,null,{"$f":"SUBSTITUTE(Reporte!D1685,\" \",\"\")","v":""},21,"Puebla",136,"San Miguel Xoxtla"]
[null,null,{"$f":"SUBSTITUTE(Reporte!D1686,\" \",\"\")","v":""},21,"Puebla",135,"San Miguel Ixitlán"]
[null,null,{"$f":"SUBSTITUTE(Reporte!D1687,\" \",\"\")","v":""},21,"Puebla",134,"San Matías Tlalancaleca"]
[null,null,{"$f":"SUBSTITUTE(Reporte!D1688,\" \",\"\")","v":""},21,"Puebla",133,"San Martín Totoltepec"]
[null,null,{"$f":"SUBSTITUTE(Reporte!D1689,\" \",\"\")","v":""},21,"Puebla",132,"San Martín Texmelucan"]
[null,null,{"$f":"SUBSTITUTE(Reporte!D1690,\" \",\"\")","v":""},21,"Puebla",131,"San Juan Atzompa"]
[null,null,{"$f":"SUBSTITUTE(Reporte!D1691,\" \",\"\")","v":""},21,"Puebla",130,"San Juan Atenco"]
[null,null,{"$f":"SUBSTITUTE(Reporte!D1692,\" \",\"\")","v":""},21,"Puebla",129,"San José Miahuatlán"]
[null,null,{"$f":"SUBSTITUTE(Reporte!D1693,\" \",\"\")","v":""},21,"Puebla",128,"San José Chiapa"]
[null,null,{"$f":"SUBSTITUTE(Reporte!D1694,\" \",\"\")","v":""},21,"Puebla",127,"San Jerónimo Xayacatlán"]
[null,null,{"$f":"SUBSTITUTE(Reporte!D1695,\" \",\"\")","v":""},21,"Puebla",126,"San Jerónimo Tecuanipan"]
[null,null,{"$f":"SUBSTITUTE(Reporte!D1696,\" \",\"\")","v":""},21,"Puebla",125,"San Gregorio Atzompa"]
[null,null,{"$f":"SUBSTITUTE(Reporte!D1697,\" \",\"\")","v":""},21,"Puebla",124,"San Gabriel Chilac"]
[null,null,{"$f":"SUBSTITUTE(Reporte!D1698,\" \",\"\")","v":""},21,"Puebla",123,"San Felipe Tepatlán"]
[null,null,{"$f":"SUBSTITUTE(Reporte!D1699,\" \",\"\")","v":""},21,"Puebla",122,"San Felipe Teotlalcingo"]
[null,null,{"$f":"SUBSTITUTE(Reporte!D1700,\" \",\"\")","v":""},21,"Puebla",114,"Puebla"]
[null,null,{"$f":"SUBSTITUTE(Reporte!D1701,\" \",\"\")","v":""},21,"Puebla",115,"Quecholac"]
[null,null,{"$f":"SUBSTITUTE(Reporte!D1702,\" \",\"\")","v":""},21,"Puebla",116,"Quimixtlán"]
[null,null,{"$f":"SUBSTITUTE(Reporte!D1703,\" \",\"\")","v":""},21,"Puebla",117,"Rafael Lara Grajales"]
[null,null,{"$f":"SUBSTITUTE(Reporte!D1704,\" \",\"\")","v":""},21,"Puebla",118,"Los Reyes de Juárez"]
[null,null,{"$f":"SUBSTITUTE(Reporte!D1705,\" \",\"\")","v":""},21,"Puebla",119,"San Andrés Cholula"]
[null,null,{"$f":"SUBSTITUTE(Reporte!D1706,\" \",\"\")","v":""},21,"Puebla",120,"San Antonio Cañada"]
[null,null,{"$f":"SUBSTITUTE(Reporte!D1707,\" \",\"\")","v":""},21,"Puebla",121,"San Diego la Mesa Tochimiltzingo"]
[null,null,{"$f":"SUBSTITUTE(Reporte!D1708,\" \",\"\")","v":""},21,"Puebla",113,"Piaxtla"]
[null,null,{"$f":"SUBSTITUTE(Reporte!D1709,\" \",\"\")","v":""},21,"Puebla",112,"Petlalcingo"]
[null,null,{"$f":"SUBSTITUTE(Reporte!D1710,\" \",\"\")","v":""},21,"Puebla",111,"Pantepec"]
[null,null,{"$f":"SUBSTITUTE(Reporte!D1711,\" \",\"\")","v":""},21,"Puebla",110,"Palmar de Bravo"]
[null,null,{"$f":"SUBSTITUTE(Reporte!D1712,\" \",\"\")","v":""},21,"Puebla",109,"Pahuatlán"]
[null,null,{"$f":"SUBSTITUTE(Reporte!D1713,\" \",\"\")","v":""},21,"Puebla",108,"Oriental"]
[null,null,{"$f":"SUBSTITUTE(Reporte!D1714,\" \",\"\")","v":""},21,"Puebla",107,"Olintla"]
[null,null,{"$f":"SUBSTITUTE(Reporte!D1715,\" \",\"\")","v":""},21,"Puebla",95,"La Magdalena Tlatlauquitepec"]
[null,null,{"$f":"SUBSTITUTE(Reporte!D1716,\" \",\"\")","v":""},21,"Puebla",2,"Acateno"]
[null,null,{"$f":"SUBSTITUTE(Reporte!D1717,\" \",\"\")","v":""},21,"Puebla",3,"Acatlán"]
[null,null,{"$f":"SUBSTITUTE(Reporte!D1718,\" \",\"\")","v":""},21,"Puebla",6,"Ahuacatlán"]
[null,null,{"$f":"SUBSTITUTE(Reporte!D1719,\" \",\"\")","v":""},21,"Puebla",5,"Acteopan"]
[null,null,{"$f":"SUBSTITUTE(Reporte!D1720,\" \",\"\")","v":""},21,"Puebla",1,"Acajete"]
[null,null,{"$f":"SUBSTITUTE(Reporte!D1721,\" \",\"\")","v":""},21,"Puebla",4,"Acatzingo"]
[null,null,{"$f":"SUBSTITUTE(Reporte!D1722,\" \",\"\")","v":""},21,"Puebla",10,"Ajalpan"]
[null,null,{"$f":"SUBSTITUTE(Reporte!D1723,\" \",\"\")","v":""},21,"Puebla",9,"Ahuehuetitla"]
[null,null,{"$f":"SUBSTITUTE(Reporte!D1724,\" \",\"\")","v":""},21,"Puebla",7,"Ahuatlán"]
[null,null,{"$f":"SUBSTITUTE(Reporte!D1725,\" \",\"\")","v":""},21,"Puebla",8,"Ahuazotepec"]
[null,null,{"$f":"SUBSTITUTE(Reporte!D1726,\" \",\"\")","v":""},21,"Puebla",14,"Amixtlán"]
[null,null,{"$f":"SUBSTITUTE(Reporte!D1727,\" \",\"\")","v":""},21,"Puebla",13,"Altepexi"]
[null,null,{"$f":"SUBSTITUTE(Reporte!D1728,\" \",\"\")","v":""},21,"Puebla",12,"Aljojuca"]
[null,null,{"$f":"SUBSTITUTE(Reporte!D1729,\" \",\"\")","v":""},21,"Puebla",11,"Albino Zertuche"]
[null,null,{"$f":"SUBSTITUTE(Reporte!D1730,\" \",\"\")","v":""},21,"Puebla",19,"Atlixco"]
[null,null,{"$f":"SUBSTITUTE(Reporte!D1731,\" \",\"\")","v":""},21,"Puebla",20,"Atoyatempan"]
[null,null,{"$f":"SUBSTITUTE(Reporte!D1732,\" \",\"\")","v":""},21,"Puebla",22,"Atzitzihuacán"]
[null,null,{"$f":"SUBSTITUTE(Reporte!D1733,\" \",\"\")","v":""},21,"Puebla",21,"Atzala"]
[null,null,{"$f":"SUBSTITUTE(Reporte!D1734,\" \",\"\")","v":""},21,"Puebla",18,"Atexcal"]
[null,null,{"$f":"SUBSTITUTE(Reporte!D1735,\" \",\"\")","v":""},21,"Puebla",17,"Atempan"]
[null,null,{"$f":"SUBSTITUTE(Reporte!D1736,\" \",\"\")","v":""},21,"Puebla",16,"Aquixtla"]
[null,null,{"$f":"SUBSTITUTE(Reporte!D1737,\" \",\"\")","v":""},21,"Puebla",15,"Amozoc"]
[null,null,{"$f":"SUBSTITUTE(Reporte!D1738,\" \",\"\")","v":""},21,"Puebla",30,"Coatepec"]
[null,null,{"$f":"SUBSTITUTE(Reporte!D1739,\" \",\"\")","v":""},21,"Puebla",29,"Caxhuacan"]
[null,null,{"$f":"SUBSTITUTE(Reporte!D1740,\" \",\"\")","v":""},21,"Puebla",28,"Camocuautla"]
[null,null,{"$f":"SUBSTITUTE(Reporte!D1741,\" \",\"\")","v":""},21,"Puebla",27,"Caltepec"]
[null,null,{"$f":"SUBSTITUTE(Reporte!D1742,\" \",\"\")","v":""},21,"Puebla",26,"Calpan"]
[null,null,{"$f":"SUBSTITUTE(Reporte!D1743,\" \",\"\")","v":""},21,"Puebla",25,"Ayotoxco de Guerrero"]
[null,null,{"$f":"SUBSTITUTE(Reporte!D1744,\" \",\"\")","v":""},21,"Puebla",24,"Axutla"]
[null,null,{"$f":"SUBSTITUTE(Reporte!D1745,\" \",\"\")","v":""},21,"Puebla",23,"Atzitzintla"]
[null,null,{"$f":"SUBSTITUTE(Reporte!D1746,\" \",\"\")","v":""},21,"Puebla",33,"Cohuecan"]
[null,null,{"$f":"SUBSTITUTE(Reporte!D1747,\" \",\"\")","v":""},21,"Puebla",34,"Coronango"]
[null,null,{"$f":"SUBSTITUTE(Reporte!D1748,\" \",\"\")","v":""},21,"Puebla",32,"Cohetzala"]
[null,null,{"$f":"SUBSTITUTE(Reporte!D1749,\" \",\"\")","v":""},21,"Puebla",31,"Coatzingo"]
[null,null,{"$f":"SUBSTITUTE(Reporte!D1750,\" \",\"\")","v":""},21,"Puebla",35,"Coxcatlán"]
[null,null,{"$f":"SUBSTITUTE(Reporte!D1751,\" \",\"\")","v":""},21,"Puebla",36,"Coyomeapan"]
[null,null,{"$f":"SUBSTITUTE(Reporte!D1752,\" \",\"\")","v":""},21,"Puebla",37,"Coyotepec"]
[null,null,{"$f":"SUBSTITUTE(Reporte!D1753,\" \",\"\")","v":""},21,"Puebla",38,"Cuapiaxtla de Madero"]
[null,null,{"$f":"SUBSTITUTE(Reporte!D1754,\" \",\"\")","v":""},21,"Puebla",39,"Cuautempan"]
[null,null,{"$f":"SUBSTITUTE(Reporte!D1755,\" \",\"\")","v":""},21,"Puebla",40,"Cuautinchán"]
[null,null,{"$f":"SUBSTITUTE(Reporte!D1756,\" \",\"\")","v":""},21,"Puebla",41,"Cuautlancingo"]
[null,null,{"$f":"SUBSTITUTE(Reporte!D1757,\" \",\"\")","v":""},21,"Puebla",42,"Cuayuca de Andrade"]
[null,null,{"$f":"SUBSTITUTE(Reporte!D1758,\" \",\"\")","v":""},21,"Puebla",43,"Cuetzalan del Progreso"]
[null,null,{"$f":"SUBSTITUTE(Reporte!D1759,\" \",\"\")","v":""},21,"Puebla",44,"Cuyoaco"]
[null,null,{"$f":"SUBSTITUTE(Reporte!D1760,\" \",\"\")","v":""},21,"Puebla",45,"Chalchicomula de Sesma"]
[null,null,{"$f":"SUBSTITUTE(Reporte!D1761,\" \",\"\")","v":""},21,"Puebla",46,"Chapulco"]
[null,null,{"$f":"SUBSTITUTE(Reporte!D1762,\" \",\"\")","v":""},21,"Puebla",58,"Chilchotla"]
[null,null,{"$f":"SUBSTITUTE(Reporte!D1763,\" \",\"\")","v":""},21,"Puebla",59,"Chinantla"]
[null,null,{"$f":"SUBSTITUTE(Reporte!D1764,\" \",\"\")","v":""},21,"Puebla",60,"Domingo Arenas"]
[null,null,{"$f":"SUBSTITUTE(Reporte!D1765,\" \",\"\")","v":""},21,"Puebla",61,"Eloxochitlán"]
[null,null,{"$f":"SUBSTITUTE(Reporte!D1766,\" \",\"\")","v":""},21,"Puebla",62,"Epatlán"]
[null,null,{"$f":"SUBSTITUTE(Reporte!D1767,\" \",\"\")","v":""},21,"Puebla",63,"Esperanza"]
[null,null,{"$f":"SUBSTITUTE(Reporte!D1768,\" \",\"\")","v":""},21,"Puebla",64,"Francisco Z. Mena"]
[null,null,{"$f":"SUBSTITUTE(Reporte!D1769,\" \",\"\")","v":""},21,"Puebla",65,"General Felipe Ángeles"]
[null,null,{"$f":"SUBSTITUTE(Reporte!D1770,\" \",\"\")","v":""},21,"Puebla",66,"Guadalupe"]
[null,null,{"$f":"SUBSTITUTE(Reporte!D1771,\" \",\"\")","v":""},21,"Puebla",67,"Guadalupe Victoria"]
[null,null,{"$f":"SUBSTITUTE(Reporte!D1772,\" \",\"\")","v":""},21,"Puebla",69,"Huaquechula"]
[null,null,{"$f":"SUBSTITUTE(Reporte!D1773,\" \",\"\")","v":""},21,"Puebla",68,"Hermenegildo Galeana"]
[null,null,{"$f":"SUBSTITUTE(Reporte!D1774,\" \",\"\")","v":""},21,"Puebla",73,"Huehuetlán el Chico"]
[null,null,{"$f":"SUBSTITUTE(Reporte!D1775,\" \",\"\")","v":""},21,"Puebla",72,"Huehuetla"]
[null,null,{"$f":"SUBSTITUTE(Reporte!D1776,\" \",\"\")","v":""},21,"Puebla",71,"Huauchinango"]
[null,null,{"$f":"SUBSTITUTE(Reporte!D1777,\" \",\"\")","v":""},21,"Puebla",70,"Huatlatlauca"]
[null,null,{"$f":"SUBSTITUTE(Reporte!D1778,\" \",\"\")","v":""},21,"Puebla",54,"Chignautla"]
[null,null,{"$f":"SUBSTITUTE(Reporte!D1779,\" \",\"\")","v":""},21,"Puebla",55,"Chila"]
[null,null,{"$f":"SUBSTITUTE(Reporte!D1780,\" \",\"\")","v":""},21,"Puebla",56,"Chila de la Sal"]
[null,null,{"$f":"SUBSTITUTE(Reporte!D1781,\" \",\"\")","v":""},21,"Puebla",57,"Honey"]
[null,null,{"$f":"SUBSTITUTE(Reporte!D1782,\" \",\"\")","v":""},21,"Puebla",52,"Chigmecatitlán"]
[null,null,{"$f":"SUBSTITUTE(Reporte!D1783,\" \",\"\")","v":""},21,"Puebla",53,"Chignahuapan"]
[null,null,{"$f":"SUBSTITUTE(Reporte!D1784,\" \",\"\")","v":""},21,"Puebla",51,"Chietla"]
[null,null,{"$f":"SUBSTITUTE(Reporte!D1785,\" \",\"\")","v":""},21,"Puebla",50,"Chichiquila"]
[null,null,{"$f":"SUBSTITUTE(Reporte!D1786,\" \",\"\")","v":""},21,"Puebla",49,"Chiconcuautla"]
[null,null,{"$f":"SUBSTITUTE(Reporte!D1787,\" \",\"\")","v":""},21,"Puebla",48,"Chiautzingo"]
[null,null,{"$f":"SUBSTITUTE(Reporte!D1788,\" \",\"\")","v":""},21,"Puebla",47,"Chiautla"]
[null,null,{"$f":"SUBSTITUTE(Reporte!D1789,\" \",\"\")","v":""},22,"Querétaro",15,"San Joaquín"]
[null,null,{"$f":"SUBSTITUTE(Reporte!D1790,\" \",\"\")","v":""},22,"Querétaro",16,"San Juan del Río"]
[null,null,{"$f":"SUBSTITUTE(Reporte!D1791,\" \",\"\")","v":""},22,"Querétaro",17,"Tequisquiapan"]
[null,null,{"$f":"SUBSTITUTE(Reporte!D1792,\" \",\"\")","v":""},22,"Querétaro",18,"Tolimán"]
[null,null,{"$f":"SUBSTITUTE(Reporte!D1793,\" \",\"\")","v":""},22,"Querétaro",11,"El Marqués"]
[null,null,{"$f":"SUBSTITUTE(Reporte!D1794,\" \",\"\")","v":""},22,"Querétaro",12,"Pedro Escobedo"]
[null,null,{"$f":"SUBSTITUTE(Reporte!D1795,\" \",\"\")","v":""},22,"Querétaro",13,"Peñamiller"]
[null,null,{"$f":"SUBSTITUTE(Reporte!D1796,\" \",\"\")","v":""},22,"Querétaro",14,"Querétaro"]
[null,null,{"$f":"SUBSTITUTE(Reporte!D1797,\" \",\"\")","v":""},22,"Querétaro",8,"Huimilpan"]
[null,null,{"$f":"SUBSTITUTE(Reporte!D1798,\" \",\"\")","v":""},22,"Querétaro",7,"Ezequiel Montes"]
[null,null,{"$f":"SUBSTITUTE(Reporte!D1799,\" \",\"\")","v":""},22,"Querétaro",9,"Jalpan de Serra"]
[null,null,{"$f":"SUBSTITUTE(Reporte!D1800,\" \",\"\")","v":""},22,"Querétaro",10,"Landa de Matamoros"]
[null,null,{"$f":"SUBSTITUTE(Reporte!D1801,\" \",\"\")","v":""},22,"Querétaro",4,"Cadereyta de Montes"]
[null,null,{"$f":"SUBSTITUTE(Reporte!D1802,\" \",\"\")","v":""},22,"Querétaro",1,"Amealco de Bonfil"]
[null,null,{"$f":"SUBSTITUTE(Reporte!D1803,\" \",\"\")","v":""},22,"Querétaro",5,"Colón"]
[null,null,{"$f":"SUBSTITUTE(Reporte!D1804,\" \",\"\")","v":""},22,"Querétaro",6,"Corregidora"]
[null,null,{"$f":"SUBSTITUTE(Reporte!D1805,\" \",\"\")","v":""},22,"Querétaro",3,"Arroyo Seco"]
[null,null,{"$f":"SUBSTITUTE(Reporte!D1806,\" \",\"\")","v":""},22,"Querétaro",2,"Pinal de Amoles"]
[null,null,{"$f":"SUBSTITUTE(Reporte!D1807,\" \",\"\")","v":""},23,"Quintana Roo",2,"Felipe Carrillo Puerto"]
[null,null,{"$f":"SUBSTITUTE(Reporte!D1808,\" \",\"\")","v":""},23,"Quintana Roo",3,"Isla Mujeres"]
[null,null,{"$f":"SUBSTITUTE(Reporte!D1809,\" \",\"\")","v":""},23,"Quintana Roo",6,"José María Morelos"]
[null,null,{"$f":"SUBSTITUTE(Reporte!D1810,\" \",\"\")","v":""},23,"Quintana Roo",5,"Benito Juárez"]
[null,null,{"$f":"SUBSTITUTE(Reporte!D1811,\" \",\"\")","v":""},23,"Quintana Roo",1,"Cozumel"]
[null,null,{"$f":"SUBSTITUTE(Reporte!D1812,\" \",\"\")","v":""},23,"Quintana Roo",4,"Othón P. Blanco"]
[null,null,{"$f":"SUBSTITUTE(Reporte!D1813,\" \",\"\")","v":""},23,"Quintana Roo",10,"Bacalar"]
[null,null,{"$f":"SUBSTITUTE(Reporte!D1814,\" \",\"\")","v":""},23,"Quintana Roo",9,"Tulum"]
[null,null,{"$f":"SUBSTITUTE(Reporte!D1815,\" \",\"\")","v":""},23,"Quintana Roo",7,"Lázaro Cárdenas"]
[null,null,{"$f":"SUBSTITUTE(Reporte!D1816,\" \",\"\")","v":""},23,"Quintana Roo",8,"Solidaridad"]
[null,null,{"$f":"SUBSTITUTE(Reporte!D1817,\" \",\"\")","v":""},23,"Quintana Roo",11,"Puerto Morelos"]
[null,null,{"$f":"SUBSTITUTE(Reporte!D1818,\" \",\"\")","v":""},24,"San Luis Potosí",11,"Ciudad Fernández"]
[null,null,{"$f":"SUBSTITUTE(Reporte!D1819,\" \",\"\")","v":""},24,"San Luis Potosí",12,"Tancanhuitz"]
[null,null,{"$f":"SUBSTITUTE(Reporte!D1820,\" \",\"\")","v":""},24,"San Luis Potosí",14,"Coxcatlán"]
[null,null,{"$f":"SUBSTITUTE(Reporte!D1821,\" \",\"\")","v":""},24,"San Luis Potosí",13,"Ciudad Valles"]
[null,null,{"$f":"SUBSTITUTE(Reporte!D1822,\" \",\"\")","v":""},24,"San Luis Potosí",8,"Cerritos"]
[null,null,{"$f":"SUBSTITUTE(Reporte!D1823,\" \",\"\")","v":""},24,"San Luis Potosí",7,"Cedral"]
[null,null,{"$f":"SUBSTITUTE(Reporte!D1824,\" \",\"\")","v":""},24,"San Luis Potosí",9,"Cerro de San Pedro"]
[null,null,{"$f":"SUBSTITUTE(Reporte!D1825,\" \",\"\")","v":""},24,"San Luis Potosí",10,"Ciudad del Maíz"]
[null,null,{"$f":"SUBSTITUTE(Reporte!D1826,\" \",\"\")","v":""},24,"San Luis Potosí",4,"Armadillo de los Infante"]
[null,null,{"$f":"SUBSTITUTE(Reporte!D1827,\" \",\"\")","v":""},24,"San Luis Potosí",1,"Ahualulco"]
[null,null,{"$f":"SUBSTITUTE(Reporte!D1828,\" \",\"\")","v":""},24,"San Luis Potosí",5,"Cárdenas"]
[null,null,{"$f":"SUBSTITUTE(Reporte!D1829,\" \",\"\")","v":""},24,"San Luis Potosí",6,"Catorce"]
[null,null,{"$f":"SUBSTITUTE(Reporte!D1830,\" \",\"\")","v":""},24,"San Luis Potosí",3,"Aquismón"]
[null,null,{"$f":"SUBSTITUTE(Reporte!D1831,\" \",\"\")","v":""},24,"San Luis Potosí",2,"Alaquines"]
[null,null,{"$f":"SUBSTITUTE(Reporte!D1832,\" \",\"\")","v":""},24,"San Luis Potosí",18,"Huehuetlán"]
[null,null,{"$f":"SUBSTITUTE(Reporte!D1833,\" \",\"\")","v":""},24,"San Luis Potosí",17,"Guadalcázar"]
[null,null,{"$f":"SUBSTITUTE(Reporte!D1834,\" \",\"\")","v":""},24,"San Luis Potosí",16,"Ebano"]
[null,null,{"$f":"SUBSTITUTE(Reporte!D1835,\" \",\"\")","v":""},24,"San Luis Potosí",15,"Charcas"]
[null,null,{"$f":"SUBSTITUTE(Reporte!D1836,\" \",\"\")","v":""},24,"San Luis Potosí",21,"Mexquitic de Carmona"]
[null,null,{"$f":"SUBSTITUTE(Reporte!D1837,\" \",\"\")","v":""},24,"San Luis Potosí",22,"Moctezuma"]
[null,null,{"$f":"SUBSTITUTE(Reporte!D1838,\" \",\"\")","v":""},24,"San Luis Potosí",20,"Matehuala"]
[null,null,{"$f":"SUBSTITUTE(Reporte!D1839,\" \",\"\")","v":""},24,"San Luis Potosí",19,"Lagunillas"]
[null,null,{"$f":"SUBSTITUTE(Reporte!D1840,\" \",\"\")","v":""},24,"San Luis Potosí",23,"Rayón"]
[null,null,{"$f":"SUBSTITUTE(Reporte!D1841,\" \",\"\")","v":""},24,"San Luis Potosí",24,"Rioverde"]
[null,null,{"$f":"SUBSTITUTE(Reporte!D1842,\" \",\"\")","v":""},24,"San Luis Potosí",25,"Salinas"]
[null,null,{"$f":"SUBSTITUTE(Reporte!D1843,\" \",\"\")","v":""},24,"San Luis Potosí",26,"San Antonio"]
[null,null,{"$f":"SUBSTITUTE(Reporte!D1844,\" \",\"\")","v":""},24,"San Luis Potosí",27,"San Ciro de Acosta"]
[null,null,{"$f":"SUBSTITUTE(Reporte!D1845,\" \",\"\")","v":""},24,"San Luis Potosí",28,"San Luis Potosí"]
[null,null,{"$f":"SUBSTITUTE(Reporte!D1846,\" \",\"\")","v":""},24,"San Luis Potosí",29,"San Martín Chalchicuautla"]
[null,null,{"$f":"SUBSTITUTE(Reporte!D1847,\" \",\"\")","v":""},24,"San Luis Potosí",30,"San Nicolás Tolentino"]
[null,null,{"$f":"SUBSTITUTE(Reporte!D1848,\" \",\"\")","v":""},24,"San Luis Potosí",47,"Villa de Guadalupe"]
[null,null,{"$f":"SUBSTITUTE(Reporte!D1849,\" \",\"\")","v":""},24,"San Luis Potosí",48,"Villa de la Paz"]
[null,null,{"$f":"SUBSTITUTE(Reporte!D1850,\" \",\"\")","v":""},24,"San Luis Potosí",49,"Villa de Ramos"]
[null,null,{"$f":"SUBSTITUTE(Reporte!D1851,\" \",\"\")","v":""},24,"San Luis Potosí",50,"Villa de Reyes"]
[null,null,{"$f":"SUBSTITUTE(Reporte!D1852,\" \",\"\")","v":""},24,"San Luis Potosí",51,"Villa Hidalgo"]
[null,null,{"$f":"SUBSTITUTE(Reporte!D1853,\" \",\"\")","v":""},24,"San Luis Potosí",53,"Axtla de Terrazas"]
[null,null,{"$f":"SUBSTITUTE(Reporte!D1854,\" \",\"\")","v":""},24,"San Luis Potosí",52,"Villa Juárez"]
[null,null,{"$f":"SUBSTITUTE(Reporte!D1855,\" \",\"\")","v":""},24,"San Luis Potosí",57,"Matlapa"]
[null,null,{"$f":"SUBSTITUTE(Reporte!D1856,\" \",\"\")","v":""},24,"San Luis Potosí",56,"Villa de Arista"]
[null,null,{"$f":"SUBSTITUTE(Reporte!D1857,\" \",\"\")","v":""},24,"San Luis Potosí",55,"Zaragoza"]
[null,null,{"$f":"SUBSTITUTE(Reporte!D1858,\" \",\"\")","v":""},24,"San Luis Potosí",54,"Xilitla"]
[null,null,{"$f":"SUBSTITUTE(Reporte!D1859,\" \",\"\")","v":""},24,"San Luis Potosí",58,"El Naranjo"]
[null,null,{"$f":"SUBSTITUTE(Reporte!D1860,\" \",\"\")","v":""},24,"San Luis Potosí",46,"Villa de Arriaga"]
[null,null,{"$f":"SUBSTITUTE(Reporte!D1861,\" \",\"\")","v":""},24,"San Luis Potosí",45,"Venado"]
[null,null,{"$f":"SUBSTITUTE(Reporte!D1862,\" \",\"\")","v":""},24,"San Luis Potosí",44,"Vanegas"]
[null,null,{"$f":"SUBSTITUTE(Reporte!D1863,\" \",\"\")","v":""},24,"San Luis Potosí",43,"Tierra Nueva"]
[null,null,{"$f":"SUBSTITUTE(Reporte!D1864,\" \",\"\")","v":""},24,"San Luis Potosí",42,"Tanquián de Escobedo"]
[null,null,{"$f":"SUBSTITUTE(Reporte!D1865,\" \",\"\")","v":""},24,"San Luis Potosí",41,"Tanlajás"]
[null,null,{"$f":"SUBSTITUTE(Reporte!D1866,\" \",\"\")","v":""},24,"San Luis Potosí",40,"Tamuín"]
[null,null,{"$f":"SUBSTITUTE(Reporte!D1867,\" \",\"\")","v":""},24,"San Luis Potosí",39,"Tampamolón Corona"]
[null,null,{"$f":"SUBSTITUTE(Reporte!D1868,\" \",\"\")","v":""},24,"San Luis Potosí",38,"Tampacán"]
[null,null,{"$f":"SUBSTITUTE(Reporte!D1869,\" \",\"\")","v":""},24,"San Luis Potosí",37,"Tamazunchale"]
[null,null,{"$f":"SUBSTITUTE(Reporte!D1870,\" \",\"\")","v":""},24,"San Luis Potosí",36,"Tamasopo"]
[null,null,{"$f":"SUBSTITUTE(Reporte!D1871,\" \",\"\")","v":""},24,"San Luis Potosí",35,"Soledad de Graciano Sánchez"]
[null,null,{"$f":"SUBSTITUTE(Reporte!D1872,\" \",\"\")","v":""},24,"San Luis Potosí",31,"Santa Catarina"]
[null,null,{"$f":"SUBSTITUTE(Reporte!D1873,\" \",\"\")","v":""},24,"San Luis Potosí",32,"Santa María del Río"]
[null,null,{"$f":"SUBSTITUTE(Reporte!D1874,\" \",\"\")","v":""},24,"San Luis Potosí",34,"San Vicente Tancuayalab"]
[null,null,{"$f":"SUBSTITUTE(Reporte!D1875,\" \",\"\")","v":""},24,"San Luis Potosí",33,"Santo Domingo"]
[null,null,{"$f":"SUBSTITUTE(Reporte!D1876,\" \",\"\")","v":""},25,"Sinaloa",15,"Salvador Alvarado"]
[null,null,{"$f":"SUBSTITUTE(Reporte!D1877,\" \",\"\")","v":""},25,"Sinaloa",16,"San Ignacio"]
[null,null,{"$f":"SUBSTITUTE(Reporte!D1878,\" \",\"\")","v":""},25,"Sinaloa",17,"Sinaloa"]
[null,null,{"$f":"SUBSTITUTE(Reporte!D1879,\" \",\"\")","v":""},25,"Sinaloa",18,"Navolato"]
[null,null,{"$f":"SUBSTITUTE(Reporte!D1880,\" \",\"\")","v":""},25,"Sinaloa",2,"Angostura"]
[null,null,{"$f":"SUBSTITUTE(Reporte!D1881,\" \",\"\")","v":""},25,"Sinaloa",3,"Badiraguato"]
[null,null,{"$f":"SUBSTITUTE(Reporte!D1882,\" \",\"\")","v":""},25,"Sinaloa",6,"Culiacán"]
[null,null,{"$f":"SUBSTITUTE(Reporte!D1883,\" \",\"\")","v":""},25,"Sinaloa",5,"Cosalá"]
[null,null,{"$f":"SUBSTITUTE(Reporte!D1884,\" \",\"\")","v":""},25,"Sinaloa",1,"Ahome"]
[null,null,{"$f":"SUBSTITUTE(Reporte!D1885,\" \",\"\")","v":""},25,"Sinaloa",4,"Concordia"]
[null,null,{"$f":"SUBSTITUTE(Reporte!D1886,\" \",\"\")","v":""},25,"Sinaloa",10,"El Fuerte"]
[null,null,{"$f":"SUBSTITUTE(Reporte!D1887,\" \",\"\")","v":""},25,"Sinaloa",9,"Escuinapa"]
[null,null,{"$f":"SUBSTITUTE(Reporte!D1888,\" \",\"\")","v":""},25,"Sinaloa",7,"Choix"]
[null,null,{"$f":"SUBSTITUTE(Reporte!D1889,\" \",\"\")","v":""},25,"Sinaloa",8,"Elota"]
[null,null,{"$f":"SUBSTITUTE(Reporte!D1890,\" \",\"\")","v":""},25,"Sinaloa",13,"Mocorito"]
[null,null,{"$f":"SUBSTITUTE(Reporte!D1891,\" \",\"\")","v":""},25,"Sinaloa",14,"Rosario"]
[null,null,{"$f":"SUBSTITUTE(Reporte!D1892,\" \",\"\")","v":""},25,"Sinaloa",12,"Mazatlán"]
[null,null,{"$f":"SUBSTITUTE(Reporte!D1893,\" \",\"\")","v":""},25,"Sinaloa",11,"Guasave"]
[null,null,{"$f":"SUBSTITUTE(Reporte!D1894,\" \",\"\")","v":""},26,"Sonora",11,"Bacoachi"]
[null,null,{"$f":"SUBSTITUTE(Reporte!D1895,\" \",\"\")","v":""},26,"Sonora",12,"Bácum"]
[null,null,{"$f":"SUBSTITUTE(Reporte!D1896,\" \",\"\")","v":""},26,"Sonora",14,"Baviácora"]
[null,null,{"$f":"SUBSTITUTE(Reporte!D1897,\" \",\"\")","v":""},26,"Sonora",13,"Banámichi"]
[null,null,{"$f":"SUBSTITUTE(Reporte!D1898,\" \",\"\")","v":""},26,"Sonora",8,"Bacadéhuachi"]
[null,null,{"$f":"SUBSTITUTE(Reporte!D1899,\" \",\"\")","v":""},26,"Sonora",7,"Atil"]
[null,null,{"$f":"SUBSTITUTE(Reporte!D1900,\" \",\"\")","v":""},26,"Sonora",9,"Bacanora"]
[null,null,{"$f":"SUBSTITUTE(Reporte!D1901,\" \",\"\")","v":""},26,"Sonora",10,"Bacerac"]
[null,null,{"$f":"SUBSTITUTE(Reporte!D1902,\" \",\"\")","v":""},26,"Sonora",4,"Altar"]
[null,null,{"$f":"SUBSTITUTE(Reporte!D1903,\" \",\"\")","v":""},26,"Sonora",1,"Aconchi"]
[null,null,{"$f":"SUBSTITUTE(Reporte!D1904,\" \",\"\")","v":""},26,"Sonora",5,"Arivechi"]
[null,null,{"$f":"SUBSTITUTE(Reporte!D1905,\" \",\"\")","v":""},26,"Sonora",6,"Arizpe"]
[null,null,{"$f":"SUBSTITUTE(Reporte!D1906,\" \",\"\")","v":""},26,"Sonora",3,"Alamos"]
[null,null,{"$f":"SUBSTITUTE(Reporte!D1907,\" \",\"\")","v":""},26,"Sonora",2,"Agua Prieta"]
[null,null,{"$f":"SUBSTITUTE(Reporte!D1908,\" \",\"\")","v":""},26,"Sonora",18,"Cajeme"]
[null,null,{"$f":"SUBSTITUTE(Reporte!D1909,\" \",\"\")","v":""},26,"Sonora",17,"Caborca"]
[null,null,{"$f":"SUBSTITUTE(Reporte!D1910,\" \",\"\")","v":""},26,"Sonora",16,"Benjamín Hill"]
[null,null,{"$f":"SUBSTITUTE(Reporte!D1911,\" \",\"\")","v":""},26,"Sonora",15,"Bavispe"]
[null,null,{"$f":"SUBSTITUTE(Reporte!D1912,\" \",\"\")","v":""},26,"Sonora",19,"Cananea"]
[null,null,{"$f":"SUBSTITUTE(Reporte!D1913,\" \",\"\")","v":""},26,"Sonora",20,"Carbó"]
[null,null,{"$f":"SUBSTITUTE(Reporte!D1914,\" \",\"\")","v":""},26,"Sonora",22,"Cucurpe"]
[null,null,{"$f":"SUBSTITUTE(Reporte!D1915,\" \",\"\")","v":""},26,"Sonora",21,"La Colorada"]
[null,null,{"$f":"SUBSTITUTE(Reporte!D1916,\" \",\"\")","v":""},26,"Sonora",30,"Hermosillo"]
[null,null,{"$f":"SUBSTITUTE(Reporte!D1917,\" \",\"\")","v":""},26,"Sonora",29,"Guaymas"]
[null,null,{"$f":"SUBSTITUTE(Reporte!D1918,\" \",\"\")","v":""},26,"Sonora",28,"Granados"]
[null,null,{"$f":"SUBSTITUTE(Reporte!D1919,\" \",\"\")","v":""},26,"Sonora",27,"Fronteras"]
[null,null,{"$f":"SUBSTITUTE(Reporte!D1920,\" \",\"\")","v":""},26,"Sonora",26,"Etchojoa"]
[null,null,{"$f":"SUBSTITUTE(Reporte!D1921,\" \",\"\")","v":""},26,"Sonora",25,"Empalme"]
[null,null,{"$f":"SUBSTITUTE(Reporte!D1922,\" \",\"\")","v":""},26,"Sonora",24,"Divisaderos"]
[null,null,{"$f":"SUBSTITUTE(Reporte!D1923,\" \",\"\")","v":""},26,"Sonora",23,"Cumpas"]
[null,null,{"$f":"SUBSTITUTE(Reporte!D1924,\" \",\"\")","v":""},26,"Sonora",33,"Huatabampo"]
[null,null,{"$f":"SUBSTITUTE(Reporte!D1925,\" \",\"\")","v":""},26,"Sonora",34,"Huépac"]
[null,null,{"$f":"SUBSTITUTE(Reporte!D1926,\" \",\"\")","v":""},26,"Sonora",32,"Huásabas"]
[null,null,{"$f":"SUBSTITUTE(Reporte!D1927,\" \",\"\")","v":""},26,"Sonora",31,"Huachinera"]
[null,null,{"$f":"SUBSTITUTE(Reporte!D1928,\" \",\"\")","v":""},26,"Sonora",35,"Imuris"]
[null,null,{"$f":"SUBSTITUTE(Reporte!D1929,\" \",\"\")","v":""},26,"Sonora",36,"Magdalena"]
[null,null,{"$f":"SUBSTITUTE(Reporte!D1930,\" \",\"\")","v":""},26,"Sonora",37,"Mazatán"]
[null,null,{"$f":"SUBSTITUTE(Reporte!D1931,\" \",\"\")","v":""},26,"Sonora",38,"Moctezuma"]
[null,null,{"$f":"SUBSTITUTE(Reporte!D1932,\" \",\"\")","v":""},26,"Sonora",39,"Naco"]
[null,null,{"$f":"SUBSTITUTE(Reporte!D1933,\" \",\"\")","v":""},26,"Sonora",40,"Nácori Chico"]
[null,null,{"$f":"SUBSTITUTE(Reporte!D1934,\" \",\"\")","v":""},26,"Sonora",41,"Nacozari de García"]
[null,null,{"$f":"SUBSTITUTE(Reporte!D1935,\" \",\"\")","v":""},26,"Sonora",42,"Navojoa"]
[null,null,{"$f":"SUBSTITUTE(Reporte!D1936,\" \",\"\")","v":""},26,"Sonora",43,"Nogales"]
[null,null,{"$f":"SUBSTITUTE(Reporte!D1937,\" \",\"\")","v":""},26,"Sonora",44,"Onavas"]
[null,null,{"$f":"SUBSTITUTE(Reporte!D1938,\" \",\"\")","v":""},26,"Sonora",45,"Opodepe"]
[null,null,{"$f":"SUBSTITUTE(Reporte!D1939,\" \",\"\")","v":""},26,"Sonora",46,"Oquitoa"]
[null,null,{"$f":"SUBSTITUTE(Reporte!D1940,\" \",\"\")","v":""},26,"Sonora",58,"Santa Ana"]
[null,null,{"$f":"SUBSTITUTE(Reporte!D1941,\" \",\"\")","v":""},26,"Sonora",59,"Santa Cruz"]
[null,null,{"$f":"SUBSTITUTE(Reporte!D1942,\" \",\"\")","v":""},26,"Sonora",61,"Soyopa"]
[null,null,{"$f":"SUBSTITUTE(Reporte!D1943,\" \",\"\")","v":""},26,"Sonora",60,"Sáric"]
[null,null,{"$f":"SUBSTITUTE(Reporte!D1944,\" \",\"\")","v":""},26,"Sonora",65,"Tubutama"]
[null,null,{"$f":"SUBSTITUTE(Reporte!D1945,\" \",\"\")","v":""},26,"Sonora",64,"Trincheras"]
[null,null,{"$f":"SUBSTITUTE(Reporte!D1946,\" \",\"\")","v":""},26,"Sonora",63,"Tepache"]
[null,null,{"$f":"SUBSTITUTE(Reporte!D1947,\" \",\"\")","v":""},26,"Sonora",62,"Suaqui Grande"]
[null,null,{"$f":"SUBSTITUTE(Reporte!D1948,\" \",\"\")","v":""},26,"Sonora",70,"General Plutarco Elías Calles"]
[null,null,{"$f":"SUBSTITUTE(Reporte!D1949,\" \",\"\")","v":""},26,"Sonora",71,"Benito Juárez"]
[null,null,{"$f":"SUBSTITUTE(Reporte!D1950,\" \",\"\")","v":""},26,"Sonora",72,"San Ignacio Río Muerto"]
[null,null,{"$f":"SUBSTITUTE(Reporte!D1951,\" \",\"\")","v":""},26,"Sonora",68,"Villa Pesqueira"]
[null,null,{"$f":"SUBSTITUTE(Reporte!D1952,\" \",\"\")","v":""},26,"Sonora",69,"Yécora"]
[null,null,{"$f":"SUBSTITUTE(Reporte!D1953,\" \",\"\")","v":""},26,"Sonora",67,"Villa Hidalgo"]
[null,null,{"$f":"SUBSTITUTE(Reporte!D1954,\" \",\"\")","v":""},26,"Sonora",66,"Ures"]
[null,null,{"$f":"SUBSTITUTE(Reporte!D1955,\" \",\"\")","v":""},26,"Sonora",54,"San Javier"]
[null,null,{"$f":"SUBSTITUTE(Reporte!D1956,\" \",\"\")","v":""},26,"Sonora",55,"San Luis Río Colorado"]
[null,null,{"$f":"SUBSTITUTE(Reporte!D1957,\" \",\"\")","v":""},26,"Sonora",56,"San Miguel de Horcasitas"]
[null,null,{"$f":"SUBSTITUTE(Reporte!D1958,\" \",\"\")","v":""},26,"Sonora",57,"San Pedro de la Cueva"]
[null,null,{"$f":"SUBSTITUTE(Reporte!D1959,\" \",\"\")","v":""},26,"Sonora",52,"Sahuaripa"]
[null,null,{"$f":"SUBSTITUTE(Reporte!D1960,\" \",\"\")","v":""},26,"Sonora",53,"San Felipe de Jesús"]
[null,null,{"$f":"SUBSTITUTE(Reporte!D1961,\" \",\"\")","v":""},26,"Sonora",51,"Rosario"]
[null,null,{"$f":"SUBSTITUTE(Reporte!D1962,\" \",\"\")","v":""},26,"Sonora",50,"Rayón"]
[null,null,{"$f":"SUBSTITUTE(Reporte!D1963,\" \",\"\")","v":""},26,"Sonora",49,"Quiriego"]
[null,null,{"$f":"SUBSTITUTE(Reporte!D1964,\" \",\"\")","v":""},26,"Sonora",48,"Puerto Peñasco"]
[null,null,{"$f":"SUBSTITUTE(Reporte!D1965,\" \",\"\")","v":""},26,"Sonora",47,"Pitiquito"]
[null,null,{"$f":"SUBSTITUTE(Reporte!D1966,\" \",\"\")","v":""},27,"Tabasco",15,"Tacotalpa"]
[null,null,{"$f":"SUBSTITUTE(Reporte!D1967,\" \",\"\")","v":""},27,"Tabasco",16,"Teapa"]
[null,null,{"$f":"SUBSTITUTE(Reporte!D1968,\" \",\"\")","v":""},27,"Tabasco",17,"Tenosique"]
[null,null,{"$f":"SUBSTITUTE(Reporte!D1969,\" \",\"\")","v":""},27,"Tabasco",2,"Cárdenas"]
[null,null,{"$f":"SUBSTITUTE(Reporte!D1970,\" \",\"\")","v":""},27,"Tabasco",3,"Centla"]
[null,null,{"$f":"SUBSTITUTE(Reporte!D1971,\" \",\"\")","v":""},27,"Tabasco",6,"Cunduacán"]
[null,null,{"$f":"SUBSTITUTE(Reporte!D1972,\" \",\"\")","v":""},27,"Tabasco",5,"Comalcalco"]
[null,null,{"$f":"SUBSTITUTE(Reporte!D1973,\" \",\"\")","v":""},27,"Tabasco",1,"Balancán"]
[null,null,{"$f":"SUBSTITUTE(Reporte!D1974,\" \",\"\")","v":""},27,"Tabasco",4,"Centro"]
[null,null,{"$f":"SUBSTITUTE(Reporte!D1975,\" \",\"\")","v":""},27,"Tabasco",10,"Jalpa de Méndez"]
[null,null,{"$f":"SUBSTITUTE(Reporte!D1976,\" \",\"\")","v":""},27,"Tabasco",9,"Jalapa"]
[null,null,{"$f":"SUBSTITUTE(Reporte!D1977,\" \",\"\")","v":""},27,"Tabasco",7,"Emiliano Zapata"]
[null,null,{"$f":"SUBSTITUTE(Reporte!D1978,\" \",\"\")","v":""},27,"Tabasco",8,"Huimanguillo"]
[null,null,{"$f":"SUBSTITUTE(Reporte!D1979,\" \",\"\")","v":""},27,"Tabasco",13,"Nacajuca"]
[null,null,{"$f":"SUBSTITUTE(Reporte!D1980,\" \",\"\")","v":""},27,"Tabasco",14,"Paraíso"]
[null,null,{"$f":"SUBSTITUTE(Reporte!D1981,\" \",\"\")","v":""},27,"Tabasco",12,"Macuspana"]
[null,null,{"$f":"SUBSTITUTE(Reporte!D1982,\" \",\"\")","v":""},27,"Tabasco",11,"Jonuta"]
[null,null,{"$f":"SUBSTITUTE(Reporte!D1983,\" \",\"\")","v":""},28,"Tamaulipas",11,"Gómez Farías"]
[null,null,{"$f":"SUBSTITUTE(Reporte!D1984,\" \",\"\")","v":""},28,"Tamaulipas",12,"González"]
[null,null,{"$f":"SUBSTITUTE(Reporte!D1985,\" \",\"\")","v":""},28,"Tamaulipas",14,"Guerrero"]
[null,null,{"$f":"SUBSTITUTE(Reporte!D1986,\" \",\"\")","v":""},28,"Tamaulipas",13,"Güémez"]
[null,null,{"$f":"SUBSTITUTE(Reporte!D1987,\" \",\"\")","v":""},28,"Tamaulipas",8,"Casas"]
[null,null,{"$f":"SUBSTITUTE(Reporte!D1988,\" \",\"\")","v":""},28,"Tamaulipas",7,"Camargo"]
[null,null,{"$f":"SUBSTITUTE(Reporte!D1989,\" \",\"\")","v":""},28,"Tamaulipas",9,"Ciudad Madero"]
[null,null,{"$f":"SUBSTITUTE(Reporte!D1990,\" \",\"\")","v":""},28,"Tamaulipas",10,"Cruillas"]
[null,null,{"$f":"SUBSTITUTE(Reporte!D1991,\" \",\"\")","v":""},28,"Tamaulipas",4,"Antiguo Morelos"]
[null,null,{"$f":"SUBSTITUTE(Reporte!D1992,\" \",\"\")","v":""},28,"Tamaulipas",1,"Abasolo"]
[null,null,{"$f":"SUBSTITUTE(Reporte!D1993,\" \",\"\")","v":""},28,"Tamaulipas",5,"Burgos"]
[null,null,{"$f":"SUBSTITUTE(Reporte!D1994,\" \",\"\")","v":""},28,"Tamaulipas",6,"Bustamante"]
[null,null,{"$f":"SUBSTITUTE(Reporte!D1995,\" \",\"\")","v":""},28,"Tamaulipas",3,"Altamira"]
[null,null,{"$f":"SUBSTITUTE(Reporte!D1996,\" \",\"\")","v":""},28,"Tamaulipas",2,"Aldama"]
[null,null,{"$f":"SUBSTITUTE(Reporte!D1997,\" \",\"\")","v":""},28,"Tamaulipas",17,"Jaumave"]
[null,null,{"$f":"SUBSTITUTE(Reporte!D1998,\" \",\"\")","v":""},28,"Tamaulipas",18,"Jiménez"]
[null,null,{"$f":"SUBSTITUTE(Reporte!D1999,\" \",\"\")","v":""},28,"Tamaulipas",16,"Hidalgo"]
[null,null,{"$f":"SUBSTITUTE(Reporte!D2000,\" \",\"\")","v":""},28,"Tamaulipas",15,"Gustavo Díaz Ordaz"]
[null,null,{"$f":"SUBSTITUTE(Reporte!D2317,\" \",\"\")","v":""},31,"Yucatán",103,"Xocchel"]
[null,null,{"$f":"SUBSTITUTE(Reporte!D2832,\" \",\"\")","v":""}]
[null,null,{"$f":"SUBSTITUTE(Reporte!D3053,\" \",\"\")","v":""}]
[null,null,{"$f":"SUBSTITUTE(Reporte!D4091,\" \",\"\")","v":""}]
[null,null,{"$f":"SUBSTITUTE(Reporte!D4312,\" \",\"\")","v":""}]
[null,null,{"$f":"SUBSTITUTE(Reporte!D5056,\" \",\"\")","v":""}]
[null,null,{"$f":"SUBSTITUTE(Reporte!D5571,\" \",\"\")","v":""}]
[null,null,{"$f":"SUBSTITUTE(Reporte!D5792,\" \",\"\")","v":""}]
[null,null,{"$f":"SUBSTITUTE(Reporte!D6307,\" \",\"\")","v":""}]
[null,null,{"$f":"SUBSTITUTE(Reporte!D7051,\" \",\"\")","v":""}]
[null,null,{"$f":"SUBSTITUTE(Reporte!D7272,\" \",\"\")","v":""}]
[null,null,{"$f":"SUBSTITUTE(Reporte!D7787,\" \",\"\")","v":""}]
[null,null,{"$f":"SUBSTITUTE(Reporte!D8531,\" \",\"\")","v":""}]
[null,null,{"$f":"SUBSTITUTE(Reporte!D9275,\" \",\"\")","v":""}]
[null,null,{"$f":"SUBSTITUTE(Reporte!D9790,\" \",\"\")","v":""}]
[null,null,{"$f":"SUBSTITUTE(Reporte!D10011,\" \",\"\")","v":""}]
[null,null,{"$f":"SUBSTITUTE(Reporte!D10526,\" \",\"\")","v":""}]
[null,null,{"$f":"SUBSTITUTE(Reporte!D11270,\" \",\"\")","v":""}]
[null,null,{"$f":"SUBSTITUTE(Reporte!D11491,\" \",\"\")","v":""}]
[null,null,{"$f":"SUBSTITUTE(Reporte!D12006,\" \",\"\")","v":""}]
[null,null,{"$f":"SUBSTITUTE(Reporte!D12750,\" \",\"\")","v":""}]
[null,null,{"$f":"SUBSTITUTE(Reporte!D13265,\" \",\"\")","v":""}]
[null,null,{"$f":"SUBSTITUTE(Reporte!D14009,\" \",\"\")","v":""}]
[null,null,{"$f":"SUBSTITUTE(Reporte!D14230,\" \",\"\")","v":""}]
[null,null,{"$f":"SUBSTITUTE(Reporte!D14745,\" \",\"\")","v":""}]
[null,null,{"$f":"SUBSTITUTE(Reporte!D15489,\" \",\"\")","v":""}]
[null,null,{"$f":"SUBSTITUTE(Reporte!D15922,\" \",\"\")","v":""}]
[null,null,{"$f":"SUBSTITUTE(Reporte!D16226,\" \",\"\")","v":""}]
[null,null,{"$f":"SUBSTITUTE(Reporte!D16970,\" \",\"\")","v":""}]
[null,null,{"$f":"SUBSTITUTE(Reporte!D17485,\" \",\"\")","v":""}]
[null,null,{"$f":"SUBSTITUTE(Reporte!D17706,\" \",\"\")","v":""}]
[null,null,{"$f":"SUBSTITUTE(Reporte!D18450,\" \",\"\")","v":""}]
[null,null,{"$f":"SUBSTITUTE(Reporte!D18965,\" \",\"\")","v":""}]
[null,null,{"$f":"SUBSTITUTE(Reporte!D19709,\" \",\"\")","v":""}]
[null,null,{"$f":"SUBSTITUTE(Reporte!D19930,\" \",\"\")","v":""}]
[null,null,{"$f":"SUBSTITUTE(Reporte!D20445,\" \",\"\")","v":""}]
[null,null,{"$f":"SUBSTITUTE(Reporte!D21189,\" \",\"\")","v":""}]
[null,null,{"$f":"SUBSTITUTE(Reporte!D21704,\" \",\"\")","v":""}]
[null,null,{"$f":"SUBSTITUTE(Reporte!D21925,\" \",\"\")","v":""}]
[null,null,{"$f":"SUBSTITUTE(Reporte!D22669,\" \",\"\")","v":""}]
[null,null,{"$f":"SUBSTITUTE(Reporte!D23184,\" \",\"\")","v":""}]
[null,null,{"$f":"SUBSTITUTE(Reporte!D23928,\" \",\"\")","v":""}]
[null,null,{"$f":"SUBSTITUTE(Reporte!D24443,\" \",\"\")","v":""}]
[null,null,{"$f":"SUBSTITUTE(Reporte!D24664,\" \",\"\")","v":""}]
[null,null,{"$f":"SUBSTITUTE(Reporte!D25408,\" \",\"\")","v":""}]
[null,null,{"$f":"SUBSTITUTE(Reporte!D25923,\" \",\"\")","v":""}]
[null,null,{"$f":"SUBSTITUTE(Reporte!D26144,\" \",\"\")","v":""}]
[null,null,{"$f":"SUBSTITUTE(Reporte!D26888,\" \",\"\")","v":""}]
[null,null,{"$f":"SUBSTITUTE(Reporte!D27403,\" \",\"\")","v":""}]
[null,null,{"$f":"SUBSTITUTE(Reporte!D28147,\" \",\"\")","v":""}]
[null,null,{"$f":"SUBSTITUTE(Reporte!D28662,\" \",\"\")","v":""}]
[null,null,{"$f":"SUBSTITUTE(Reporte!D28883,\" \",\"\")","v":""}]
[null,null,{"$f":"SUBSTITUTE(Reporte!D29551,\" \",\"\")","v":""}]
[null,null,{"$f":"SUBSTITUTE(Reporte!D30143,\" \",\"\")","v":""}]
[null,null,{"$f":"SUBSTITUTE(Reporte!D30364,\" \",\"\")","v":""}]
[null,null,{"$f":"SUBSTITUTE(Reporte!D30879,\" \",\"\")","v":""}]
[null,null,{"$f":"SUBSTITUTE(Reporte!D31623,\" \",\"\")","v":""}]
[null,null,{"$f":"SUBSTITUTE(Reporte!D31844,\" \",\"\")","v":""}]
[null,null,{"$f":"SUBSTITUTE(Reporte!D32359,\" \",\"\")","v":""}]
[null,null,{"$f":"SUBSTITUTE(Reporte!D33103,\" \",\"\")","v":""}]
[null,null,{"$f":"SUBSTITUTE(Reporte!D33847,\" \",\"\")","v":""}]
[null,null,{"$f":"SUBSTITUTE(Reporte!D34362,\" \",\"\")","v":""}]
[null,null,{"$f":"SUBSTITUTE(Reporte!D34583,\" \",\"\")","v":""}]
[null,null,{"$f":"SUBSTITUTE(Reporte!D35098,\" \",\"\")","v":""}]
[null,null,{"$f":"SUBSTITUTE(Reporte!D35842,\" \",\"\")","v":""}]
[null,null,{"$f":"SUBSTITUTE(Reporte!D36063,\" \",\"\")","v":""}]
[null,null,{"$f":"SUBSTITUTE(Reporte!D36578,\" \",\"\")","v":""}]
[null,null,{"$f":"SUBSTITUTE(Reporte!D37322,\" \",\"\")","v":""}]
[null,null,{"$f":"SUBSTITUTE(Reporte!D38066,\" \",\"\")","v":""}]
[null,null,{"$f":"SUBSTITUTE(Reporte!D38581,\" \",\"\")","v":""}]
[null,null,{"$f":"SUBSTITUTE(Reporte!D38802,\" \",\"\")","v":""}]
[null,null,{"$f":"SUBSTITUTE(Reporte!D39317,\" \",\"\")","v":""}]
[null,null,{"$f":"SUBSTITUTE(Reporte!D40061,\" \",\"\")","v":""}]
[null,null,{"$f":"SUBSTITUTE(Reporte!D40282,\" \",\"\")","v":""}]
[null,null,{"$f":"SUBSTITUTE(Reporte!D40797,\" \",\"\")","v":""}]
[null,null,{"$f":"SUBSTITUTE(Reporte!D41541,\" \",\"\")","v":""}]
[null,null,{"$f":"SUBSTITUTE(Reporte!D42056,\" \",\"\")","v":""}]
[null,null,{"$f":"SUBSTITUTE(Reporte!D42277,\" \",\"\")","v":""}]
[null,null,{"$f":"SUBSTITUTE(Reporte!D43180,\" \",\"\")","v":""}]
[null,null,{"$f":"SUBSTITUTE(Reporte!D43537,\" \",\"\")","v":""}]
[null,null,{"$f":"SUBSTITUTE(Reporte!D44281,\" \",\"\")","v":""}]
[null,null,{"$f":"SUBSTITUTE(Reporte!D44502,\" \",\"\")","v":""}]
[null,null,{"$f":"SUBSTITUTE(Reporte!D45017,\" \",\"\")","v":""}]
[null,null,{"$f":"SUBSTITUTE(Reporte!D45761,\" \",\"\")","v":""}]
[null,null,{"$f":"SUBSTITUTE(Reporte!D46276,\" \",\"\")","v":""}]
[null,null,{"$f":"SUBSTITUTE(Reporte!D46497,\" \",\"\")","v":""}]
[null,null,{"$f":"SUBSTITUTE(Reporte!D47241,\" \",\"\")","v":""}]
[null,null,{"$f":"SUBSTITUTE(Reporte!D47756,\" \",\"\")","v":""}]
[null,null,{"$f":"SUBSTITUTE(Reporte!D48500,\" \",\"\")","v":""}]
[null,null,{"$f":"SUBSTITUTE(Reporte!D48721,\" \",\"\")","v":""}]
[null,null,{"$f":"SUBSTITUTE(Reporte!D49236,\" \",\"\")","v":""}]
[null,null,{"$f":"SUBSTITUTE(Reporte!D49980,\" \",\"\")","v":""}]
[null,null,{"$f":"SUBSTITUTE(Reporte!D50495,\" \",\"\")","v":""}]
[null,null,{"$f":"SUBSTITUTE(Reporte!D50716,\" \",\"\")","v":""}]
[null,null,{"$f":"SUBSTITUTE(Reporte!D51460,\" \",\"\")","v":""}]
[null,null,{"$f":"SUBSTITUTE(Reporte!D51975,\" \",\"\")","v":""}]
[null,null,{"$f":"SUBSTITUTE(Reporte!D52719,\" \",\"\")","v":""}]
[null,null,{"$f":"SUBSTITUTE(Reporte!D53234,\" \",\"\")","v":""}]
[null,null,{"$f":"SUBSTITUTE(Reporte!D53455,\" \",\"\")","v":""}]
[null,null,{"$f":"SUBSTITUTE(Reporte!D54199,\" \",\"\")","v":""}]
[null,null,{"$f":"SUBSTITUTE(Reporte!D54714,\" \",\"\")","v":""}]
[null,null,{"$f":"SUBSTITUTE(Reporte!D54935,\" \",\"\")","v":""}]
[null,null,{"$f":"SUBSTITUTE(Reporte!D55679,\" \",\"\")","v":""}]
[null,null,{"$f":"SUBSTITUTE(Reporte!D56194,\" \",\"\")","v":""}]
[null,null,{"$f":"SUBSTITUTE(Reporte!D56415,\" \",\"\")","v":""}]
[null,null,{"$f":"SUBSTITUTE(Reporte!D57385,\" \",\"\")","v":""}]
[null,null,{"$f":"SUBSTITUTE(Reporte!D57675,\" \",\"\")","v":""}]
[null,null,{"$f":"SUBSTITUTE(Reporte!D58419,\" \",\"\")","v":""}]
[null,null,{"$f":"SUBSTITUTE(Reporte!D58934,\" \",\"\")","v":""}]
[null,null,{"$f":"SUBSTITUTE(Reporte!D59155,\" \",\"\")","v":""}]
[null,null,{"$f":"SUBSTITUTE(Reporte!D59670,\" \",\"\")","v":""}]
[null,null,{"$f":"SUBSTITUTE(Reporte!D60414,\" \",\"\")","v":""}]
[null,null,{"$f":"SUBSTITUTE(Reporte!D60635,\" \",\"\")","v":""}]
[null,null,{"$f":"SUBSTITUTE(Reporte!D61150,\" \",\"\")","v":""}]
[null,null,{"$f":"SUBSTITUTE(Reporte!D61894,\" \",\"\")","v":""}]
[null,null,{"$f":"SUBSTITUTE(Reporte!D62638,\" \",\"\")","v":""}]
[null,null,{"$f":"SUBSTITUTE(Reporte!D63153,\" \",\"\")","v":""}]
[null,null,{"$f":"SUBSTITUTE(Reporte!D63374,\" \",\"\")","v":""}]
[null,null,{"$f":"SUBSTITUTE(Reporte!D63889,\" \",\"\")","v":""}]
[null,null,{"$f":"SUBSTITUTE(Reporte!D64633,\" \",\"\")","v":""}]
[null,null,{"$f":"SUBSTITUTE(Reporte!D64854,\" \",\"\")","v":""}]
[null,null,{"$f":"SUBSTITUTE(Reporte!D65369,\" \",\"\")","v":""}]
[null,null,{"$f":"SUBSTITUTE(Reporte!D66113,\" \",\"\")","v":""}]
[null,null,{"$f":"SUBSTITUTE(Reporte!D66334,\" \",\"\")","v":""}]
[null,null,{"$f":"SUBSTITUTE(Reporte!D67372,\" \",\"\")","v":""}]
[null,null,{"$f":"SUBSTITUTE(Reporte!D67593,\" \",\"\")","v":""}]
[null,null,{"$f":"SUBSTITUTE(Reporte!D68108,\" \",\"\")","v":""}]
[null,null,{"$f":"SUBSTITUTE(Reporte!D68852,\" \",\"\")","v":""}]
[null,null,{"$f":"SUBSTITUTE(Reporte!D69073,\" \",\"\")","v":""}]
[null,null,{"$f":"SUBSTITUTE(Reporte!D69588,\" \",\"\")","v":""}]
[null,null,{"$f":"SUBSTITUTE(Reporte!D70332,\" \",\"\")","v":""}]
[null,null,{"$f":"SUBSTITUTE(Reporte!D71014,\" \",\"\")","v":""}]
[null,null,{"$f":"SUBSTITUTE(Reporte!D71069,\" \",\"\")","v":""}]
[null,null,{"$f":"SUBSTITUTE(Reporte!D71813,\" \",\"\")","v":""}]
[null,null,{"$f":"SUBSTITUTE(Reporte!D72328,\" \",\"\")","v":""}]
[null,null,{"$f":"SUBSTITUTE(Reporte!D73072,\" \",\"\")","v":""}]
[null,null,{"$f":"SUBSTITUTE(Reporte!D73293,\" \",\"\")","v":""}]
[null,null,{"$f":"SUBSTITUTE(Reporte!D73808,\" \",\"\")","v":""}]
[null,null,{"$f":"SUBSTITUTE(Reporte!D74552,\" \",\"\")","v":""}]
[null,null,{"$f":"SUBSTITUTE(Reporte!D75067,\" \",\"\")","v":""}]
[null,null,{"$f":"SUBSTITUTE(Reporte!D75288,\" \",\"\")","v":""}]
[null,null,{"$f":"SUBSTITUTE(Reporte!D76032,\" \",\"\")","v":""}]
[null,null,{"$f":"SUBSTITUTE(Reporte!D76547,\" \",\"\")","v":""}]
[null,null,{"$f":"SUBSTITUTE(Reporte!D77291,\" \",\"\")","v":""}]
[null,null,{"$f":"SUBSTITUTE(Reporte!D77806,\" \",\"\")","v":""}]
[null,null,{"$f":"SUBSTITUTE(Reporte!D78027,\" \",\"\")","v":""}]
[null,null,{"$f":"SUBSTITUTE(Reporte!D78771,\" \",\"\")","v":""}]
[null,null,{"$f":"SUBSTITUTE(Reporte!D79286,\" \",\"\")","v":""}]
[null,null,{"$f":"SUBSTITUTE(Reporte!D79507,\" \",\"\")","v":""}]
[null,null,{"$f":"SUBSTITUTE(Reporte!D80251,\" \",\"\")","v":""}]
[null,null,{"$f":"SUBSTITUTE(Reporte!D80766,\" \",\"\")","v":""}]
[null,null,{"$f":"SUBSTITUTE(Reporte!D80987,\" \",\"\")","v":""}]
[null,null,{"$f":"SUBSTITUTE(Reporte!D81502,\" \",\"\")","v":""}]
[null,null,{"$f":"SUBSTITUTE(Reporte!D82246,\" \",\"\")","v":""}]
[null,null,{"$f":"SUBSTITUTE(Reporte!D82990,\" \",\"\")","v":""}]
[null,null,{"$f":"SUBSTITUTE(Reporte!D83505,\" \",\"\")","v":""}]
[null,null,{"$f":"SUBSTITUTE(Reporte!D83726,\" \",\"\")","v":""}]
[null,null,{"$f":"SUBSTITUTE(Reporte!D84395,\" \",\"\")","v":""}]
[null,null,{"$f":"SUBSTITUTE(Reporte!D84986,\" \",\"\")","v":""}]
[null,null,{"$f":"SUBSTITUTE(Reporte!D85207,\" \",\"\")","v":""}]
[null,null,{"$f":"SUBSTITUTE(Reporte!D85722,\" \",\"\")","v":""}]
[null,null,{"$f":"SUBSTITUTE(Reporte!D86466,\" \",\"\")","v":""}]
[null,null,{"$f":"SUBSTITUTE(Reporte!D87210,\" \",\"\")","v":""}]
[null,null,{"$f":"SUBSTITUTE(Reporte!D87725,\" \",\"\")","v":""}]
[null,null,{"$f":"SUBSTITUTE(Reporte!D87946,\" \",\"\")","v":""}]
[null,null,{"$f":"SUBSTITUTE(Reporte!D88461,\" \",\"\")","v":""}]
[null,null,{"$f":"SUBSTITUTE(Reporte!D89205,\" \",\"\")","v":""}]
[null,null,{"$f":"SUBSTITUTE(Reporte!D89426,\" \",\"\")","v":""}]
[null,null,{"$f":"SUBSTITUTE(Reporte!D89941,\" \",\"\")","v":""}]
[null,null,{"$f":"SUBSTITUTE(Reporte!D90685,\" \",\"\")","v":""}]
[null,null,{"$f":"SUBSTITUTE(Reporte!D91429,\" \",\"\")","v":""}]
[null,null,{"$f":"SUBSTITUTE(Reporte!D91944,\" \",\"\")","v":""}]
[null,null,{"$f":"SUBSTITUTE(Reporte!D92165,\" \",\"\")","v":""}]
[null,null,{"$f":"SUBSTITUTE(Reporte!D92680,\" \",\"\")","v":""}]
[null,null,{"$f":"SUBSTITUTE(Reporte!D93424,\" \",\"\")","v":""}]
[null,null,{"$f":"SUBSTITUTE(Reporte!D93645,\" \",\"\")","v":""}]
[null,null,{"$f":"SUBSTITUTE(Reporte!D94160,\" \",\"\")","v":""}]
[null,null,{"$f":"SUBSTITUTE(Reporte!D94904,\" \",\"\")","v":""}]
[null,null,{"$f":"SUBSTITUTE(Reporte!D95125,\" \",\"\")","v":""}]
[null,null,{"$f":"SUBSTITUTE(Reporte!D95640,\" \",\"\")","v":""}]
[null,null,{"$f":"SUBSTITUTE(Reporte!D96384,\" \",\"\")","v":""}]
[null,null,{"$f":"SUBSTITUTE(Reporte!D96899,\" \",\"\")","v":""}]
[null,null,{"$f":"SUBSTITUTE(Reporte!D97643,\" \",\"\")","v":""}]
[null,null,{"$f":"SUBSTITUTE(Reporte!D97864,\" \",\"\")","v":""}]
[null,null,{"$f":"SUBSTITUTE(Reporte!D98600,\" \",\"\")","v":""}]
[null,null,{"$f":"SUBSTITUTE(Reporte!D99124,\" \",\"\")","v":""}]
[null,null,{"$f":"SUBSTITUTE(Reporte!D99639,\" \",\"\")","v":""}]
[null,null,{"$f":"SUBSTITUTE(Reporte!D99860,\" \",\"\")","v":""}]
[null,null,{"$f":"SUBSTITUTE(Reporte!D100604,\" \",\"\")","v":""}]
[null,null,{"$f":"SUBSTITUTE(Reporte!D101119,\" \",\"\")","v":""}]
[null,null,{"$f":"SUBSTITUTE(Reporte!D101863,\" \",\"\")","v":""}]
[null,null,{"$f":"SUBSTITUTE(Reporte!D102084,\" \",\"\")","v":""}]
[null,null,{"$f":"SUBSTITUTE(Reporte!D102599,\" \",\"\")","v":""}]
[null,null,{"$f":"SUBSTITUTE(Reporte!D103343,\" \",\"\")","v":""}]
[null,null,{"$f":"SUBSTITUTE(Reporte!D103858,\" \",\"\")","v":""}]
[null,null,{"$f":"SUBSTITUTE(Reporte!D104079,\" \",\"\")","v":""}]
[null,null,{"$f":"SUBSTITUTE(Reporte!D104823,\" \",\"\")","v":""}]
[null,null,{"$f":"SUBSTITUTE(Reporte!D105338,\" \",\"\")","v":""}]
[null,null,{"$f":"SUBSTITUTE(Reporte!D106082,\" \",\"\")","v":""}]
[null,null,{"$f":"SUBSTITUTE(Reporte!D106597,\" \",\"\")","v":""}]
[null,null,{"$f":"SUBSTITUTE(Reporte!D106818,\" \",\"\")","v":""}]
[null,null,{"$f":"SUBSTITUTE(Reporte!D107562,\" \",\"\")","v":""}]
[null,null,{"$f":"SUBSTITUTE(Reporte!D108077,\" \",\"\")","v":""}]
[null,null,{"$f":"SUBSTITUTE(Reporte!D108298,\" \",\"\")","v":""}]
[null,null,{"$f":"SUBSTITUTE(Reporte!D109042,\" \",\"\")","v":""}]
[null,null,{"$f":"SUBSTITUTE(Reporte!D109557,\" \",\"\")","v":""}]
[null,null,{"$f":"SUBSTITUTE(Reporte!D109778,\" \",\"\")","v":""}]
[null,null,{"$f":"SUBSTITUTE(Reporte!D110293,\" \",\"\")","v":""}]
[null,null,{"$f":"SUBSTITUTE(Reporte!D111037,\" \",\"\")","v":""}]
[null,null,{"$f":"SUBSTITUTE(Reporte!D111781,\" \",\"\")","v":""}]
[null,null,{"$f":"SUBSTITUTE(Reporte!D112229,\" \",\"\")","v":""}]
[null,null,{"$f":"SUBSTITUTE(Reporte!D112518,\" \",\"\")","v":""}]
[null,null,{"$f":"SUBSTITUTE(Reporte!D113262,\" \",\"\")","v":""}]
[null,null,{"$f":"SUBSTITUTE(Reporte!D113777,\" \",\"\")","v":""}]
[null,null,{"$f":"SUBSTITUTE(Reporte!D113998,\" \",\"\")","v":""}]
[null,null,{"$f":"SUBSTITUTE(Reporte!D114513,\" \",\"\")","v":""}]
[null,null,{"$f":"SUBSTITUTE(Reporte!D115257,\" \",\"\")","v":""}]
[null,null,{"$f":"SUBSTITUTE(Reporte!D116001,\" \",\"\")","v":""}]
[null,null,{"$f":"SUBSTITUTE(Reporte!D116516,\" \",\"\")","v":""}]
[null,null,{"$f":"SUBSTITUTE(Reporte!D116737,\" \",\"\")","v":""}]
[null,null,{"$f":"SUBSTITUTE(Reporte!D117252,\" \",\"\")","v":""}]
[null,null,{"$f":"SUBSTITUTE(Reporte!D117996,\" \",\"\")","v":""}]
[null,null,{"$f":"SUBSTITUTE(Reporte!D118217,\" \",\"\")","v":""}]
[null,null,{"$f":"SUBSTITUTE(Reporte!D118732,\" \",\"\")","v":""}]
[null,null,{"$f":"SUBSTITUTE(Reporte!D119476,\" \",\"\")","v":""}]
[null,null,{"$f":"SUBSTITUTE(Reporte!D119697,\" \",\"\")","v":""}]
[null,null,{"$f":"SUBSTITUTE(Reporte!D120212,\" \",\"\")","v":""}]
[null,null,{"$f":"SUBSTITUTE(Reporte!D120956,\" \",\"\")","v":""}]
[null,null,{"$f":"SUBSTITUTE(Reporte!D121471,\" \",\"\")","v":""}]
[null,null,{"$f":"SUBSTITUTE(Reporte!D122215,\" \",\"\")","v":""}]
[null,null,{"$f":"SUBSTITUTE(Reporte!D122436,\" \",\"\")","v":""}]
[null,null,{"$f":"SUBSTITUTE(Reporte!D122951,\" \",\"\")","v":""}]
[null,null,{"$f":"SUBSTITUTE(Reporte!D123695,\" \",\"\")","v":""}]
[null,null,{"$f":"SUBSTITUTE(Reporte!D123916,\" \",\"\")","v":""}]
[null,null,{"$f":"SUBSTITUTE(Reporte!D124431,\" \",\"\")","v":""}]
[null,null,{"$f":"SUBSTITUTE(Reporte!D125175,\" \",\"\")","v":""}]
[null,null,{"$f":"SUBSTITUTE(Reporte!D125858,\" \",\"\")","v":""}]
[null,null,{"$f":"SUBSTITUTE(Reporte!D126435,\" \",\"\")","v":""}]
[null,null,{"$f":"SUBSTITUTE(Reporte!D126656,\" \",\"\")","v":""}]
[null,null,{"$f":"SUBSTITUTE(Reporte!D127171,\" \",\"\")","v":""}]
[null,null,{"$f":"SUBSTITUTE(Reporte!D127915,\" \",\"\")","v":""}]
[null,null,{"$f":"SUBSTITUTE(Reporte!D128430,\" \",\"\")","v":""}]
[null,null,{"$f":"SUBSTITUTE(Reporte!D128651,\" \",\"\")","v":""}]
[null,null,{"$f":"SUBSTITUTE(Reporte!D129395,\" \",\"\")","v":""}]
[null,null,{"$f":"SUBSTITUTE(Reporte!D129910,\" \",\"\")","v":""}]
[null,null,{"$f":"SUBSTITUTE(Reporte!D130654,\" \",\"\")","v":""}]
[null,null,{"$f":"SUBSTITUTE(Reporte!D130875,\" \",\"\")","v":""}]
[null,null,{"$f":"SUBSTITUTE(Reporte!D131390,\" \",\"\")","v":""}]
[null,null,{"$f":"SUBSTITUTE(Reporte!D132134,\" \",\"\")","v":""}]
[null,null,{"$f":"SUBSTITUTE(Reporte!D132649,\" \",\"\")","v":""}]
[null,null,{"$f":"SUBSTITUTE(Reporte!D132870,\" \",\"\")","v":""}]
[null,null,{"$f":"SUBSTITUTE(Reporte!D133614,\" \",\"\")","v":""}]
[null,null,{"$f":"SUBSTITUTE(Reporte!D134129,\" \",\"\")","v":""}]
[null,null,{"$f":"SUBSTITUTE(Reporte!D134350,\" \",\"\")","v":""}]
[null,null,{"$f":"SUBSTITUTE(Reporte!D134865,\" \",\"\")","v":""}]
[null,null,{"$f":"SUBSTITUTE(Reporte!D135609,\" \",\"\")","v":""}]
[null,null,{"$f":"SUBSTITUTE(Reporte!D136353,\" \",\"\")","v":""}]
[null,null,{"$f":"SUBSTITUTE(Reporte!D136868,\" \",\"\")","v":""}]
[null,null,{"$f":"SUBSTITUTE(Reporte!D137089,\" \",\"\")","v":""}]
[null,null,{"$f":"SUBSTITUTE(Reporte!D137833,\" \",\"\")","v":""}]
[null,null,{"$f":"SUBSTITUTE(Reporte!D138348,\" \",\"\")","v":""}]
[null,null,{"$f":"SUBSTITUTE(Reporte!D138569,\" \",\"\")","v":""}]
[null,null,{"$f":"SUBSTITUTE(Reporte!D139084,\" \",\"\")","v":""}]
[null,null,{"$f":"SUBSTITUTE(Reporte!D139815,\" \",\"\")","v":""}]
[null,null,{"$f":"SUBSTITUTE(Reporte!D140573,\" \",\"\")","v":""}]
[null,null,{"$f":"SUBSTITUTE(Reporte!D141088,\" \",\"\")","v":""}]
[null,null,{"$f":"SUBSTITUTE(Reporte!D141309,\" \",\"\")","v":""}]
[null,null,{"$f":"SUBSTITUTE(Reporte!D142053,\" \",\"\")","v":""}]
[null,null,{"$f":"SUBSTITUTE(Reporte!D142568,\" \",\"\")","v":""}]
[null,null,{"$f":"SUBSTITUTE(Reporte!D142789,\" \",\"\")","v":""}]
[null,null,{"$f":"SUBSTITUTE(Reporte!D143304,\" \",\"\")","v":""}]
[null,null,{"$f":"SUBSTITUTE(Reporte!D144048,\" \",\"\")","v":""}]
[null,null,{"$f":"SUBSTITUTE(Reporte!D144269,\" \",\"\")","v":""}]
[null,null,{"$f":"SUBSTITUTE(Reporte!D145307,\" \",\"\")","v":""}]
[null,null,{"$f":"SUBSTITUTE(Reporte!D145528,\" \",\"\")","v":""}]
[null,null,{"$f":"SUBSTITUTE(Reporte!D146043,\" \",\"\")","v":""}]
[null,null,{"$f":"SUBSTITUTE(Reporte!D146787,\" \",\"\")","v":""}]
[null,null,{"$f":"SUBSTITUTE(Reporte!D147008,\" \",\"\")","v":""}]
[null,null,{"$f":"SUBSTITUTE(Reporte!D147523,\" \",\"\")","v":""}]
[null,null,{"$f":"SUBSTITUTE(Reporte!D148267,\" \",\"\")","v":""}]
[null,null,{"$f":"SUBSTITUTE(Reporte!D148488,\" \",\"\")","v":""}]
[null,null,{"$f":"SUBSTITUTE(Reporte!D149003,\" \",\"\")","v":""}]
[null,null,{"$f":"SUBSTITUTE(Reporte!D149747,\" \",\"\")","v":""}]
[null,null,{"$f":"SUBSTITUTE(Reporte!D150262,\" \",\"\")","v":""}]
[null,null,{"$f":"SUBSTITUTE(Reporte!D151006,\" \",\"\")","v":""}]
[null,null,{"$f":"SUBSTITUTE(Reporte!D151227,\" \",\"\")","v":""}]
[null,null,{"$f":"SUBSTITUTE(Reporte!D151742,\" \",\"\")","v":""}]
[null,null,{"$f":"SUBSTITUTE(Reporte!D152486,\" \",\"\")","v":""}]
[null,null,{"$f":"SUBSTITUTE(Reporte!D153001,\" \",\"\")","v":""}]
[null,null,{"$f":"SUBSTITUTE(Reporte!D153444,\" \",\"\")","v":""}]
[null,null,{"$f":"SUBSTITUTE(Reporte!D153967,\" \",\"\")","v":""}]
[null,null,{"$f":"SUBSTITUTE(Reporte!D154482,\" \",\"\")","v":""}]
[null,null,{"$f":"SUBSTITUTE(Reporte!D155226,\" \",\"\")","v":""}]
[null,null,{"$f":"SUBSTITUTE(Reporte!D155447,\" \",\"\")","v":""}]
[null,null,{"$f":"SUBSTITUTE(Reporte!D155962,\" \",\"\")","v":""}]
[null,null,{"$f":"SUBSTITUTE(Reporte!D156706,\" \",\"\")","v":""}]
[null,null,{"$f":"SUBSTITUTE(Reporte!D157221,\" \",\"\")","v":""}]
[null,null,{"$f":"SUBSTITUTE(Reporte!D157442,\" \",\"\")","v":""}]
[null,null,{"$f":"SUBSTITUTE(Reporte!D158186,\" \",\"\")","v":""}]
[null,null,{"$f":"SUBSTITUTE(Reporte!D158701,\" \",\"\")","v":""}]
[null,null,{"$f":"SUBSTITUTE(Reporte!D158922,\" \",\"\")","v":""}]
[null,null,{"$f":"SUBSTITUTE(Reporte!D159666,\" \",\"\")","v":""}]
[null,null,{"$f":"SUBSTITUTE(Reporte!D160181,\" \",\"\")","v":""}]
[null,null,{"$f":"SUBSTITUTE(Reporte!D160925,\" \",\"\")","v":""}]
[null,null,{"$f":"SUBSTITUTE(Reporte!D161440,\" \",\"\")","v":""}]
[null,null,{"$f":"SUBSTITUTE(Reporte!D161661,\" \",\"\")","v":""}]
[null,null,{"$f":"SUBSTITUTE(Reporte!D162405,\" \",\"\")","v":""}]
[null,null,{"$f":"SUBSTITUTE(Reporte!D162920,\" \",\"\")","v":""}]
[null,null,{"$f":"SUBSTITUTE(Reporte!D163141,\" \",\"\")","v":""}]
[null,null,{"$f":"SUBSTITUTE(Reporte!D163656,\" \",\"\")","v":""}]
[null,null,{"$f":"SUBSTITUTE(Reporte!D164400,\" \",\"\")","v":""}]
[null,null,{"$f":"SUBSTITUTE(Reporte!D165144,\" \",\"\")","v":""}]
[null,null,{"$f":"SUBSTITUTE(Reporte!D165659,\" \",\"\")","v":""}]
[null,null,{"$f":"SUBSTITUTE(Reporte!D165880,\" \",\"\")","v":""}]
[null,null,{"$f":"SUBSTITUTE(Reporte!D166624,\" \",\"\")","v":""}]
[null,null,{"$f":"SUBSTITUTE(Reporte!D167073,\" \",\"\")","v":""}]
[null,null,{"$f":"SUBSTITUTE(Reporte!D167361,\" \",\"\")","v":""}]
[null,null,{"$f":"SUBSTITUTE(Reporte!D167876,\" \",\"\")","v":""}]
[null,null,{"$f":"SUBSTITUTE(Reporte!D168620,\" \",\"\")","v":""}]
[null,null,{"$f":"SUBSTITUTE(Reporte!D169364,\" \",\"\")","v":""}]
[null,null,{"$f":"SUBSTITUTE(Reporte!D169879,\" \",\"\")","v":""}]
[null,null,{"$f":"SUBSTITUTE(Reporte!D170100,\" \",\"\")","v":""}]
[null,null,{"$f":"SUBSTITUTE(Reporte!D170844,\" \",\"\")","v":""}]
[null,null,{"$f":"SUBSTITUTE(Reporte!D171359,\" \",\"\")","v":""}]
[null,null,{"$f":"SUBSTITUTE(Reporte!D171580,\" \",\"\")","v":""}]
[null,null,{"$f":"SUBSTITUTE(Reporte!D172095,\" \",\"\")","v":""}]
[null,null,{"$f":"SUBSTITUTE(Reporte!D172839,\" \",\"\")","v":""}]
[null,null,{"$f":"SUBSTITUTE(Reporte!D173060,\" \",\"\")","v":""}]
[null,null,{"$f":"SUBSTITUTE(Reporte!D173575,\" \",\"\")","v":""}]
[null,null,{"$f":"SUBSTITUTE(Reporte!D174319,\" \",\"\")","v":""}]
[null,null,{"$f":"SUBSTITUTE(Reporte!D174834,\" \",\"\")","v":""}]
[null,null,{"$f":"SUBSTITUTE(Reporte!D175578,\" \",\"\")","v":""}]
[null,null,{"$f":"SUBSTITUTE(Reporte!D175799,\" \",\"\")","v":""}]
[null,null,{"$f":"SUBSTITUTE(Reporte!D176314,\" \",\"\")","v":""}]
[null,null,{"$f":"SUBSTITUTE(Reporte!D177058,\" \",\"\")","v":""}]
[null,null,{"$f":"SUBSTITUTE(Reporte!D177279,\" \",\"\")","v":""}]
[null,null,{"$f":"SUBSTITUTE(Reporte!D177794,\" \",\"\")","v":""}]
[null,null,{"$f":"SUBSTITUTE(Reporte!D178538,\" \",\"\")","v":""}]
[null,null,{"$f":"SUBSTITUTE(Reporte!D179053,\" \",\"\")","v":""}]
[null,null,{"$f":"SUBSTITUTE(Reporte!D179797,\" \",\"\")","v":""}]
[null,null,{"$f":"SUBSTITUTE(Reporte!D180018,\" \",\"\")","v":""}]
[null,null,{"$f":"SUBSTITUTE(Reporte!D180533,\" \",\"\")","v":""}]
[null,null,{"$f":"SUBSTITUTE(Reporte!D181030,\" \",\"\")","v":""}]
[null,null,{"$f":"SUBSTITUTE(Reporte!D181793,\" \",\"\")","v":""}]
[null,null,{"$f":"SUBSTITUTE(Reporte!D182014,\" \",\"\")","v":""}]
[null,null,{"$f":"SUBSTITUTE(Reporte!D182758,\" \",\"\")","v":""}]
[null,null,{"$f":"SUBSTITUTE(Reporte!D183273,\" \",\"\")","v":""}]
[null,null,{"$f":"SUBSTITUTE(Reporte!D184017,\" \",\"\")","v":""}]
[null,null,{"$f":"SUBSTITUTE(Reporte!D184238,\" \",\"\")","v":""}]
[null,null,{"$f":"SUBSTITUTE(Reporte!D184753,\" \",\"\")","v":""}]
[null,null,{"$f":"SUBSTITUTE(Reporte!D185497,\" \",\"\")","v":""}]
[null,null,{"$f":"SUBSTITUTE(Reporte!D186012,\" \",\"\")","v":""}]
[null,null,{"$f":"SUBSTITUTE(Reporte!D186233,\" \",\"\")","v":""}]
[null,null,{"$f":"SUBSTITUTE(Reporte!D186977,\" \",\"\")","v":""}]
[null,null,{"$f":"SUBSTITUTE(Reporte!D187492,\" \",\"\")","v":""}]
[null,null,{"$f":"SUBSTITUTE(Reporte!D187713,\" \",\"\")","v":""}]
[null,null,{"$f":"SUBSTITUTE(Reporte!D188457,\" \",\"\")","v":""}]
[null,null,{"$f":"SUBSTITUTE(Reporte!D188972,\" \",\"\")","v":""}]
[null,null,{"$f":"SUBSTITUTE(Reporte!D189716,\" \",\"\")","v":""}]
[null,null,{"$f":"SUBSTITUTE(Reporte!D190231,\" \",\"\")","v":""}]
[null,null,{"$f":"SUBSTITUTE(Reporte!D190452,\" \",\"\")","v":""}]
[null,null,{"$f":"SUBSTITUTE(Reporte!D191196,\" \",\"\")","v":""}]
[null,null,{"$f":"SUBSTITUTE(Reporte!D191711,\" \",\"\")","v":""}]
[null,null,{"$f":"SUBSTITUTE(Reporte!D191932,\" \",\"\")","v":""}]
[null,null,{"$f":"SUBSTITUTE(Reporte!D192447,\" \",\"\")","v":""}]
[null,null,{"$f":"SUBSTITUTE(Reporte!D193191,\" \",\"\")","v":""}]
[null,null,{"$f":"SUBSTITUTE(Reporte!D193935,\" \",\"\")","v":""}]
[null,null,{"$f":"SUBSTITUTE(Reporte!D194450,\" \",\"\")","v":""}]
[null,null,{"$f":"SUBSTITUTE(Reporte!D194659,\" \",\"\")","v":""}]
[null,null,{"$f":"SUBSTITUTE(Reporte!D195416,\" \",\"\")","v":""}]
[null,null,{"$f":"SUBSTITUTE(Reporte!D195931,\" \",\"\")","v":""}]
[null,null,{"$f":"SUBSTITUTE(Reporte!D196152,\" \",\"\")","v":""}]
[null,null,{"$f":"SUBSTITUTE(Reporte!D196667,\" \",\"\")","v":""}]
[null,null,{"$f":"SUBSTITUTE(Reporte!D197411,\" \",\"\")","v":""}]
[null,null,{"$f":"SUBSTITUTE(Reporte!D197632,\" \",\"\")","v":""}]
[null,null,{"$f":"SUBSTITUTE(Reporte!D198147,\" \",\"\")","v":""}]
[null,null,{"$f":"SUBSTITUTE(Reporte!D198891,\" \",\"\")","v":""}]
[null,null,{"$f":"SUBSTITUTE(Reporte!D199406,\" \",\"\")","v":""}]
[null,null,{"$f":"SUBSTITUTE(Reporte!D200150,\" \",\"\")","v":""}]
[null,null,{"$f":"SUBSTITUTE(Reporte!D200371,\" \",\"\")","v":""}]
[null,null,{"$f":"SUBSTITUTE(Reporte!D200886,\" \",\"\")","v":""}]
[null,null,{"$f":"SUBSTITUTE(Reporte!D201630,\" \",\"\")","v":""}]
[null,null,{"$f":"SUBSTITUTE(Reporte!D201851,\" \",\"\")","v":""}]
[null,null,{"$f":"SUBSTITUTE(Reporte!D202366,\" \",\"\")","v":""}]
[null,null,{"$f":"SUBSTITUTE(Reporte!D203110,\" \",\"\")","v":""}]
[null,null,{"$f":"SUBSTITUTE(Reporte!D203625,\" \",\"\")","v":""}]
[null,null,{"$f":"SUBSTITUTE(Reporte!D204369,\" \",\"\")","v":""}]
[null,null,{"$f":"SUBSTITUTE(Reporte!D204590,\" \",\"\")","v":""}]
[null,null,{"$f":"SUBSTITUTE(Reporte!D205105,\" \",\"\")","v":""}]
[null,null,{"$f":"SUBSTITUTE(Reporte!D205849,\" \",\"\")","v":""}]
[null,null,{"$f":"SUBSTITUTE(Reporte!D206070,\" \",\"\")","v":""}]
[null,null,{"$f":"SUBSTITUTE(Reporte!D206585,\" \",\"\")","v":""}]
[null,null,{"$f":"SUBSTITUTE(Reporte!D207329,\" \",\"\")","v":""}]
[null,null,{"$f":"SUBSTITUTE(Reporte!D207844,\" \",\"\")","v":""}]
[null,null,{"$f":"SUBSTITUTE(Reporte!D208288,\" \",\"\")","v":""}]
[null,null,{"$f":"SUBSTITUTE(Reporte!D208810,\" \",\"\")","v":""}]
[null,null,{"$f":"SUBSTITUTE(Reporte!D209325,\" \",\"\")","v":""}]
[null,null,{"$f":"SUBSTITUTE(Reporte!D210069,\" \",\"\")","v":""}]
[null,null,{"$f":"SUBSTITUTE(Reporte!D210584,\" \",\"\")","v":""}]
[null,null,{"$f":"SUBSTITUTE(Reporte!D210805,\" \",\"\")","v":""}]
[null,null,{"$f":"SUBSTITUTE(Reporte!D211549,\" \",\"\")","v":""}]
[null,null,{"$f":"SUBSTITUTE(Reporte!D212064,\" \",\"\")","v":""}]
[null,null,{"$f":"SUBSTITUTE(Reporte!D212285,\" \",\"\")","v":""}]
[null,null,{"$f":"SUBSTITUTE(Reporte!D213029,\" \",\"\")","v":""}]
[null,null,{"$f":"SUBSTITUTE(Reporte!D213544,\" \",\"\")","v":""}]
[null,null,{"$f":"SUBSTITUTE(Reporte!D214288,\" \",\"\")","v":""}]
[null,null,{"$f":"SUBSTITUTE(Reporte!D214803,\" \",\"\")","v":""}]
[null,null,{"$f":"SUBSTITUTE(Reporte!D215024,\" \",\"\")","v":""}]
[null,null,{"$f":"SUBSTITUTE(Reporte!D215768,\" \",\"\")","v":""}]
[null,null,{"$f":"SUBSTITUTE(Reporte!D216283,\" \",\"\")","v":""}]
[null,null,{"$f":"SUBSTITUTE(Reporte!D216504,\" \",\"\")","v":""}]
[null,null,{"$f":"SUBSTITUTE(Reporte!D217248,\" \",\"\")","v":""}]
[null,null,{"$f":"SUBSTITUTE(Reporte!D217763,\" \",\"\")","v":""}]
[null,null,{"$f":"SUBSTITUTE(Reporte!D218507,\" \",\"\")","v":""}]
[null,null,{"$f":"SUBSTITUTE(Reporte!D219022,\" \",\"\")","v":""}]
[null,null,{"$f":"SUBSTITUTE(Reporte!D219243,\" \",\"\")","v":""}]
[null,null,{"$f":"SUBSTITUTE(Reporte!D219987,\" \",\"\")","v":""}]
[null,null,{"$f":"SUBSTITUTE(Reporte!D220502,\" \",\"\")","v":""}]
[null,null,{"$f":"SUBSTITUTE(Reporte!D220723,\" \",\"\")","v":""}]
[null,null,{"$f":"SUBSTITUTE(Reporte!D221238,\" \",\"\")","v":""}]
[null,null,{"$f":"SUBSTITUTE(Reporte!D221982,\" \",\"\")","v":""}]
[null,null,{"$f":"SUBSTITUTE(Reporte!D222245,\" \",\"\")","v":""}]
[null,null,{"$f":"SUBSTITUTE(Reporte!D223242,\" \",\"\")","v":""}]
[null,null,{"$f":"SUBSTITUTE(Reporte!D223463,\" \",\"\")","v":""}]
[null,null,{"$f":"SUBSTITUTE(Reporte!D224207,\" \",\"\")","v":""}]
[null,null,{"$f":"SUBSTITUTE(Reporte!D224722,\" \",\"\")","v":""}]
[null,null,{"$f":"SUBSTITUTE(Reporte!D224943,\" \",\"\")","v":""}]
[null,null,{"$f":"SUBSTITUTE(Reporte!D225458,\" \",\"\")","v":""}]
[null,null,{"$f":"SUBSTITUTE(Reporte!D226202,\" \",\"\")","v":""}]
[null,null,{"$f":"SUBSTITUTE(Reporte!D226423,\" \",\"\")","v":""}]
[null,null,{"$f":"SUBSTITUTE(Reporte!D226938,\" \",\"\")","v":""}]
[null,null,{"$f":"SUBSTITUTE(Reporte!D227682,\" \",\"\")","v":""}]
[null,null,{"$f":"SUBSTITUTE(Reporte!D228197,\" \",\"\")","v":""}]
[null,null,{"$f":"SUBSTITUTE(Reporte!D228941,\" \",\"\")","v":""}]
[null,null,{"$f":"SUBSTITUTE(Reporte!D229162,\" \",\"\")","v":""}]
[null,null,{"$f":"SUBSTITUTE(Reporte!D229677,\" \",\"\")","v":""}]
[null,null,{"$f":"SUBSTITUTE(Reporte!D230421,\" \",\"\")","v":""}]
[null,null,{"$f":"SUBSTITUTE(Reporte!D230642,\" \",\"\")","v":""}]
[null,null,{"$f":"SUBSTITUTE(Reporte!D231157,\" \",\"\")","v":""}]
[null,null,{"$f":"SUBSTITUTE(Reporte!D231901,\" \",\"\")","v":""}]
[null,null,{"$f":"SUBSTITUTE(Reporte!D232416,\" \",\"\")","v":""}]
[null,null,{"$f":"SUBSTITUTE(Reporte!D233160,\" \",\"\")","v":""}]
[null,null,{"$f":"SUBSTITUTE(Reporte!D233381,\" \",\"\")","v":""}]
[null,null,{"$f":"SUBSTITUTE(Reporte!D233896,\" \",\"\")","v":""}]
[null,null,{"$f":"SUBSTITUTE(Reporte!D234640,\" \",\"\")","v":""}]
[null,null,{"$f":"SUBSTITUTE(Reporte!D234861,\" \",\"\")","v":""}]
[null,null,{"$f":"SUBSTITUTE(Reporte!D235376,\" \",\"\")","v":""}]
[null,null,{"$f":"SUBSTITUTE(Reporte!D235874,\" \",\"\")","v":""}]
[null,null,{"$f":"SUBSTITUTE(Reporte!D236636,\" \",\"\")","v":""}]
[null,null,{"$f":"SUBSTITUTE(Reporte!D236857,\" \",\"\")","v":""}]
[null,null,{"$f":"SUBSTITUTE(Reporte!D237601,\" \",\"\")","v":""}]
[null,null,{"$f":"SUBSTITUTE(Reporte!D238116,\" \",\"\")","v":""}]
[null,null,{"$f":"SUBSTITUTE(Reporte!D238860,\" \",\"\")","v":""}]
[null,null,{"$f":"SUBSTITUTE(Reporte!D239375,\" \",\"\")","v":""}]
[null,null,{"$f":"SUBSTITUTE(Reporte!D239596,\" \",\"\")","v":""}]
[null,null,{"$f":"SUBSTITUTE(Reporte!D240340,\" \",\"\")","v":""}]
[null,null,{"$f":"SUBSTITUTE(Reporte!D240855,\" \",\"\")","v":""}]
[null,null,{"$f":"SUBSTITUTE(Reporte!D241076,\" \",\"\")","v":""}]
[null,null,{"$f":"SUBSTITUTE(Reporte!D241820,\" \",\"\")","v":""}]
[null,null,{"$f":"SUBSTITUTE(Reporte!D242335,\" \",\"\")","v":""}]
[null,null,{"$f":"SUBSTITUTE(Reporte!D243079,\" \",\"\")","v":""}]
[null,null,{"$f":"SUBSTITUTE(Reporte!D243594,\" \",\"\")","v":""}]
[null,null,{"$f":"SUBSTITUTE(Reporte!D243815,\" \",\"\")","v":""}]
[null,null,{"$f":"SUBSTITUTE(Reporte!D244559,\" \",\"\")","v":""}]
[null,null,{"$f":"SUBSTITUTE(Reporte!D245074,\" \",\"\")","v":""}]
[null,null,{"$f":"SUBSTITUTE(Reporte!D245295,\" \",\"\")","v":""}]
[null,null,{"$f":"SUBSTITUTE(Reporte!D246039,\" \",\"\")","v":""}]
[null,null,{"$f":"SUBSTITUTE(Reporte!D246554,\" \",\"\")","v":""}]
[null,null,{"$f":"SUBSTITUTE(Reporte!D247298,\" \",\"\")","v":""}]
[null,null,{"$f":"SUBSTITUTE(Reporte!D247813,\" \",\"\")","v":""}]
[null,null,{"$f":"SUBSTITUTE(Reporte!D248034,\" \",\"\")","v":""}]
[null,null,{"$f":"SUBSTITUTE(Reporte!D248778,\" \",\"\")","v":""}]
[null,null,{"$f":"SUBSTITUTE(Reporte!D249293,\" \",\"\")","v":""}]
[null,null,{"$f":"SUBSTITUTE(Reporte!D249503,\" \",\"\")","v":""}]
[null,null,{"$f":"SUBSTITUTE(Reporte!D250030,\" \",\"\")","v":""}]
[null,null,{"$f":"SUBSTITUTE(Reporte!D250774,\" \",\"\")","v":""}]
[null,null,{"$f":"SUBSTITUTE(Reporte!D250995,\" \",\"\")","v":""}]
[null,null,{"$f":"SUBSTITUTE(Reporte!D251510,\" \",\"\")","v":""}]
[null,null,{"$f":"SUBSTITUTE(Reporte!D252254,\" \",\"\")","v":""}]
[null,null,{"$f":"SUBSTITUTE(Reporte!D252998,\" \",\"\")","v":""}]
[null,null,{"$f":"SUBSTITUTE(Reporte!D253513,\" \",\"\")","v":""}]
[null,null,{"$f":"SUBSTITUTE(Reporte!D253734,\" \",\"\")","v":""}]
[null,null,{"$f":"SUBSTITUTE(Reporte!D254249,\" \",\"\")","v":""}]
[null,null,{"$f":"SUBSTITUTE(Reporte!D254993,\" \",\"\")","v":""}]
[null,null,{"$f":"SUBSTITUTE(Reporte!D255214,\" \",\"\")","v":""}]
[null,null,{"$f":"SUBSTITUTE(Reporte!D255729,\" \",\"\")","v":""}]
[null,null,{"$f":"SUBSTITUTE(Reporte!D256473,\" \",\"\")","v":""}]
[null,null,{"$f":"SUBSTITUTE(Reporte!D256988,\" \",\"\")","v":""}]
[null,null,{"$f":"SUBSTITUTE(Reporte!D257732,\" \",\"\")","v":""}]
[null,null,{"$f":"SUBSTITUTE(Reporte!D257953,\" \",\"\")","v":""}]
[null,null,{"$f":"SUBSTITUTE(Reporte!D258468,\" \",\"\")","v":""}]
[null,null,{"$f":"SUBSTITUTE(Reporte!D259212,\" \",\"\")","v":""}]
[null,null,{"$f":"SUBSTITUTE(Reporte!D259433,\" \",\"\")","v":""}]
[null,null,{"$f":"SUBSTITUTE(Reporte!D259948,\" \",\"\")","v":""}]
[null,null,{"$f":"SUBSTITUTE(Reporte!D260692,\" \",\"\")","v":""}]
[null,null,{"$f":"SUBSTITUTE(Reporte!D261207,\" \",\"\")","v":""}]
[null,null,{"$f":"SUBSTITUTE(Reporte!D261428,\" \",\"\")","v":""}]
[null,null,{"$f":"SUBSTITUTE(Reporte!D262172,\" \",\"\")","v":""}]
[null,null,{"$f":"SUBSTITUTE(Reporte!D262687,\" \",\"\")","v":""}]
[null,null,{"$f":"SUBSTITUTE(Reporte!D263132,\" \",\"\")","v":""}]
[null,null,{"$f":"SUBSTITUTE(Reporte!D263653,\" \",\"\")","v":""}]
[null,null,{"$f":"SUBSTITUTE(Reporte!D264168,\" \",\"\")","v":""}]
[null,null,{"$f":"SUBSTITUTE(Reporte!D264912,\" \",\"\")","v":""}]
[null,null,{"$f":"SUBSTITUTE(Reporte!D265427,\" \",\"\")","v":""}]
[null,null,{"$f":"SUBSTITUTE(Reporte!D265648,\" \",\"\")","v":""}]
[null,null,{"$f":"SUBSTITUTE(Reporte!D266392,\" \",\"\")","v":""}]
[null,null,{"$f":"SUBSTITUTE(Reporte!D266907,\" \",\"\")","v":""}]
[null,null,{"$f":"SUBSTITUTE(Reporte!D267651,\" \",\"\")","v":""}]
[null,null,{"$f":"SUBSTITUTE(Reporte!D268166,\" \",\"\")","v":""}]
[null,null,{"$f":"SUBSTITUTE(Reporte!D268387,\" \",\"\")","v":""}]
[null,null,{"$f":"SUBSTITUTE(Reporte!D269131,\" \",\"\")","v":""}]
[null,null,{"$f":"SUBSTITUTE(Reporte!D269646,\" \",\"\")","v":""}]
[null,null,{"$f":"SUBSTITUTE(Reporte!D269867,\" \",\"\")","v":""}]
[null,null,{"$f":"SUBSTITUTE(Reporte!D270611,\" \",\"\")","v":""}]
[null,null,{"$f":"SUBSTITUTE(Reporte!D271126,\" \",\"\")","v":""}]
[null,null,{"$f":"SUBSTITUTE(Reporte!D271870,\" \",\"\")","v":""}]
[null,null,{"$f":"SUBSTITUTE(Reporte!D272385,\" \",\"\")","v":""}]
[null,null,{"$f":"SUBSTITUTE(Reporte!D272606,\" \",\"\")","v":""}]
[null,null,{"$f":"SUBSTITUTE(Reporte!D273350,\" \",\"\")","v":""}]
[null,null,{"$f":"SUBSTITUTE(Reporte!D273865,\" \",\"\")","v":""}]
[null,null,{"$f":"SUBSTITUTE(Reporte!D274086,\" \",\"\")","v":""}]
[null,null,{"$f":"SUBSTITUTE(Reporte!D274601,\" \",\"\")","v":""}]
[null,null,{"$f":"SUBSTITUTE(Reporte!D275345,\" \",\"\")","v":""}]
[null,null,{"$f":"SUBSTITUTE(Reporte!D275566,\" \",\"\")","v":""}]
[null,null,{"$f":"SUBSTITUTE(Reporte!D276081,\" \",\"\")","v":""}]
[null,null,{"$f":"SUBSTITUTE(Reporte!D276825,\" \",\"\")","v":""}]
[null,null,{"$f":"SUBSTITUTE(Reporte!D277613,\" \",\"\")","v":""}]
[null,null,{"$f":"SUBSTITUTE(Reporte!D278085,\" \",\"\")","v":""}]
[null,null,{"$f":"SUBSTITUTE(Reporte!D278306,\" \",\"\")","v":""}]
[null,null,{"$f":"SUBSTITUTE(Reporte!D278821,\" \",\"\")","v":""}]
[null,null,{"$f":"SUBSTITUTE(Reporte!D279565,\" \",\"\")","v":""}]
[null,null,{"$f":"SUBSTITUTE(Reporte!D279786,\" \",\"\")","v":""}]
[null,null,{"$f":"SUBSTITUTE(Reporte!D280301,\" \",\"\")","v":""}]
[null,null,{"$f":"SUBSTITUTE(Reporte!D281045,\" \",\"\")","v":""}]
[null,null,{"$f":"SUBSTITUTE(Reporte!D281789,\" \",\"\")","v":""}]
[null,null,{"$f":"SUBSTITUTE(Reporte!D282304,\" \",\"\")","v":""}]
[null,null,{"$f":"SUBSTITUTE(Reporte!D282525,\" \",\"\")","v":""}]
[null,null,{"$f":"SUBSTITUTE(Reporte!D283040,\" \",\"\")","v":""}]
[null,null,{"$f":"SUBSTITUTE(Reporte!D283784,\" \",\"\")","v":""}]
[null,null,{"$f":"SUBSTITUTE(Reporte!D284005,\" \",\"\")","v":""}]
[null,null,{"$f":"SUBSTITUTE(Reporte!D284520,\" \",\"\")","v":""}]
[null,null,{"$f":"SUBSTITUTE(Reporte!D285264,\" \",\"\")","v":""}]
[null,null,{"$f":"SUBSTITUTE(Reporte!D285779,\" \",\"\")","v":""}]
[null,null,{"$f":"SUBSTITUTE(Reporte!D286523,\" \",\"\")","v":""}]
[null,null,{"$f":"SUBSTITUTE(Reporte!D286744,\" \",\"\")","v":""}]
[null,null,{"$f":"SUBSTITUTE(Reporte!D287259,\" \",\"\")","v":""}]
[null,null,{"$f":"SUBSTITUTE(Reporte!D288003,\" \",\"\")","v":""}]
[null,null,{"$f":"SUBSTITUTE(Reporte!D288224,\" \",\"\")","v":""}]
[null,null,{"$f":"SUBSTITUTE(Reporte!D288739,\" \",\"\")","v":""}]
[null,null,{"$f":"SUBSTITUTE(Reporte!D289483,\" \",\"\")","v":""}]
[null,null,{"$f":"SUBSTITUTE(Reporte!D289998,\" \",\"\")","v":""}]
[null,null,{"$f":"SUBSTITUTE(Reporte!D290219,\" \",\"\")","v":""}]
[null,null,{"$f":"SUBSTITUTE(Reporte!D290718,\" \",\"\")","v":""}]
[null,null,{"$f":"SUBSTITUTE(Reporte!D291479,\" \",\"\")","v":""}]
[null,null,{"$f":"SUBSTITUTE(Reporte!D292223,\" \",\"\")","v":""}]
[null,null,{"$f":"SUBSTITUTE(Reporte!D292444,\" \",\"\")","v":""}]
[null,null,{"$f":"SUBSTITUTE(Reporte!D292959,\" \",\"\")","v":""}]
[null,null,{"$f":"SUBSTITUTE(Reporte!D293703,\" \",\"\")","v":""}]
[null,null,{"$f":"SUBSTITUTE(Reporte!D294218,\" \",\"\")","v":""}]
[null,null,{"$f":"SUBSTITUTE(Reporte!D294439,\" \",\"\")","v":""}]
[null,null,{"$f":"SUBSTITUTE(Reporte!D295183,\" \",\"\")","v":""}]
[null,null,{"$f":"SUBSTITUTE(Reporte!D295698,\" \",\"\")","v":""}]
[null,null,{"$f":"SUBSTITUTE(Reporte!D296442,\" \",\"\")","v":""}]
[null,null,{"$f":"SUBSTITUTE(Reporte!D296957,\" \",\"\")","v":""}]
[null,null,{"$f":"SUBSTITUTE(Reporte!D297178,\" \",\"\")","v":""}]
[null,null,{"$f":"SUBSTITUTE(Reporte!D297922,\" \",\"\")","v":""}]
[null,null,{"$f":"SUBSTITUTE(Reporte!D298437,\" \",\"\")","v":""}]
[null,null,{"$f":"SUBSTITUTE(Reporte!D298658,\" \",\"\")","v":""}]
[null,null,{"$f":"SUBSTITUTE(Reporte!D299402,\" \",\"\")","v":""}]
[null,null,{"$f":"SUBSTITUTE(Reporte!D299917,\" \",\"\")","v":""}]
[null,null,{"$f":"SUBSTITUTE(Reporte!D300138,\" \",\"\")","v":""}]
[null,null,{"$f":"SUBSTITUTE(Reporte!D301176,\" \",\"\")","v":""}]
[null,null,{"$f":"SUBSTITUTE(Reporte!D301397,\" \",\"\")","v":""}]
[null,null,{"$f":"SUBSTITUTE(Reporte!D302141,\" \",\"\")","v":""}]
[null,null,{"$f":"SUBSTITUTE(Reporte!D302656,\" \",\"\")","v":""}]
[null,null,{"$f":"SUBSTITUTE(Reporte!D302877,\" \",\"\")","v":""}]
[null,null,{"$f":"SUBSTITUTE(Reporte!D303392,\" \",\"\")","v":""}]
[null,null,{"$f":"SUBSTITUTE(Reporte!D304136,\" \",\"\")","v":""}]
[null,null,{"$f":"SUBSTITUTE(Reporte!D304347,\" \",\"\")","v":""}]
[null,null,{"$f":"SUBSTITUTE(Reporte!D304873,\" \",\"\")","v":""}]
[null,null,{"$f":"SUBSTITUTE(Reporte!D305617,\" \",\"\")","v":""}]
[null,null,{"$f":"SUBSTITUTE(Reporte!D306361,\" \",\"\")","v":""}]
[null,null,{"$f":"SUBSTITUTE(Reporte!D306876,\" \",\"\")","v":""}]
[null,null,{"$f":"SUBSTITUTE(Reporte!D307097,\" \",\"\")","v":""}]
[null,null,{"$f":"SUBSTITUTE(Reporte!D307612,\" \",\"\")","v":""}]
[null,null,{"$f":"SUBSTITUTE(Reporte!D308356,\" \",\"\")","v":""}]
[null,null,{"$f":"SUBSTITUTE(Reporte!D308577,\" \",\"\")","v":""}]
[null,null,{"$f":"SUBSTITUTE(Reporte!D309092,\" \",\"\")","v":""}]
[null,null,{"$f":"SUBSTITUTE(Reporte!D309836,\" \",\"\")","v":""}]
[null,null,{"$f":"SUBSTITUTE(Reporte!D310580,\" \",\"\")","v":""}]
[null,null,{"$f":"SUBSTITUTE(Reporte!D311095,\" \",\"\")","v":""}]
[null,null,{"$f":"SUBSTITUTE(Reporte!D311316,\" \",\"\")","v":""}]
[null,null,{"$f":"SUBSTITUTE(Reporte!D311831,\" \",\"\")","v":""}]
[null,null,{"$f":"SUBSTITUTE(Reporte!D312575,\" \",\"\")","v":""}]
[null,null,{"$f":"SUBSTITUTE(Reporte!D312796,\" \",\"\")","v":""}]
[null,null,{"$f":"SUBSTITUTE(Reporte!D313311,\" \",\"\")","v":""}]
[null,null,{"$f":"SUBSTITUTE(Reporte!D314055,\" \",\"\")","v":""}]
[null,null,{"$f":"SUBSTITUTE(Reporte!D314570,\" \",\"\")","v":""}]
[null,null,{"$f":"SUBSTITUTE(Reporte!D314791,\" \",\"\")","v":""}]
[null,null,{"$f":"SUBSTITUTE(Reporte!D315535,\" \",\"\")","v":""}]
[null,null,{"$f":"SUBSTITUTE(Reporte!D316050,\" \",\"\")","v":""}]
[null,null,{"$f":"SUBSTITUTE(Reporte!D316794,\" \",\"\")","v":""}]
[null,null,{"$f":"SUBSTITUTE(Reporte!D317015,\" \",\"\")","v":""}]
[null,null,{"$f":"SUBSTITUTE(Reporte!D317530,\" \",\"\")","v":""}]
[null,null,{"$f":"SUBSTITUTE(Reporte!D318274,\" \",\"\")","v":""}]
[null,null,{"$f":"SUBSTITUTE(Reporte!D318552,\" \",\"\")","v":""}]
[null,null,{"$f":"SUBSTITUTE(Reporte!D319011,\" \",\"\")","v":""}]
[null,null,{"$f":"SUBSTITUTE(Reporte!D319755,\" \",\"\")","v":""}]
[null,null,{"$f":"SUBSTITUTE(Reporte!D320270,\" \",\"\")","v":""}]
[null,null,{"$f":"SUBSTITUTE(Reporte!D321014,\" \",\"\")","v":""}]
[null,null,{"$f":"SUBSTITUTE(Reporte!D321235,\" \",\"\")","v":""}]
[null,null,{"$f":"SUBSTITUTE(Reporte!D321750,\" \",\"\")","v":""}]
[null,null,{"$f":"SUBSTITUTE(Reporte!D322494,\" \",\"\")","v":""}]
[null,null,{"$f":"SUBSTITUTE(Reporte!D323009,\" \",\"\")","v":""}]
[null,null,{"$f":"SUBSTITUTE(Reporte!D323230,\" \",\"\")","v":""}]
[null,null,{"$f":"SUBSTITUTE(Reporte!D323974,\" \",\"\")","v":""}]
[null,null,{"$f":"SUBSTITUTE(Reporte!D324489,\" \",\"\")","v":""}]
[null,null,{"$f":"SUBSTITUTE(Reporte!D325233,\" \",\"\")","v":""}]
[null,null,{"$f":"SUBSTITUTE(Reporte!D325748,\" \",\"\")","v":""}]
[null,null,{"$f":"SUBSTITUTE(Reporte!D325969,\" \",\"\")","v":""}]
[null,null,{"$f":"SUBSTITUTE(Reporte!D326713,\" \",\"\")","v":""}]
[null,null,{"$f":"SUBSTITUTE(Reporte!D327228,\" \",\"\")","v":""}]
[null,null,{"$f":"SUBSTITUTE(Reporte!D327449,\" \",\"\")","v":""}]
[null,null,{"$f":"SUBSTITUTE(Reporte!D328193,\" \",\"\")","v":""}]
[null,null,{"$f":"SUBSTITUTE(Reporte!D328708,\" \",\"\")","v":""}]
[null,null,{"$f":"SUBSTITUTE(Reporte!D328929,\" \",\"\")","v":""}]
[null,null,{"$f":"SUBSTITUTE(Reporte!D329444,\" \",\"\")","v":""}]
[null,null,{"$f":"SUBSTITUTE(Reporte!D330188,\" \",\"\")","v":""}]
[null,null,{"$f":"SUBSTITUTE(Reporte!D330932,\" \",\"\")","v":""}]
[null,null,{"$f":"SUBSTITUTE(Reporte!D331447,\" \",\"\")","v":""}]
[null,null,{"$f":"SUBSTITUTE(Reporte!D331668,\" \",\"\")","v":""}]
[null,null,{"$f":"SUBSTITUTE(Reporte!D332181,\" \",\"\")","v":""}]
[null,null,{"$f":"SUBSTITUTE(Reporte!D332928,\" \",\"\")","v":""}]
[null,null,{"$f":"SUBSTITUTE(Reporte!D333149,\" \",\"\")","v":""}]
[null,null,{"$f":"SUBSTITUTE(Reporte!D333664,\" \",\"\")","v":""}]
[null,null,{"$f":"SUBSTITUTE(Reporte!D334408,\" \",\"\")","v":""}]
[null,null,{"$f":"SUBSTITUTE(Reporte!D335152,\" \",\"\")","v":""}]
[null,null,{"$f":"SUBSTITUTE(Reporte!D335667,\" \",\"\")","v":""}]
[null,null,{"$f":"SUBSTITUTE(Reporte!D335888,\" \",\"\")","v":""}]
[null,null,{"$f":"SUBSTITUTE(Reporte!D336403,\" \",\"\")","v":""}]
[null,null,{"$f":"SUBSTITUTE(Reporte!D337147,\" \",\"\")","v":""}]
[null,null,{"$f":"SUBSTITUTE(Reporte!D337368,\" \",\"\")","v":""}]
[null,null,{"$f":"SUBSTITUTE(Reporte!D337883,\" \",\"\")","v":""}]
[null,null,{"$f":"SUBSTITUTE(Reporte!D338627,\" \",\"\")","v":""}]
[null,null,{"$f":"SUBSTITUTE(Reporte!D338848,\" \",\"\")","v":""}]
[null,null,{"$f":"SUBSTITUTE(Reporte!D339363,\" \",\"\")","v":""}]
[null,null,{"$f":"SUBSTITUTE(Reporte!D340107,\" \",\"\")","v":""}]
[null,null,{"$f":"SUBSTITUTE(Reporte!D340622,\" \",\"\")","v":""}]
[null,null,{"$f":"SUBSTITUTE(Reporte!D341366,\" \",\"\")","v":""}]
[null,null,{"$f":"SUBSTITUTE(Reporte!D341587,\" \",\"\")","v":""}]
[null,null,{"$f":"SUBSTITUTE(Reporte!D342102,\" \",\"\")","v":""}]
[null,null,{"$f":"SUBSTITUTE(Reporte!D342846,\" \",\"\")","v":""}]
[null,null,{"$f":"SUBSTITUTE(Reporte!D343361,\" \",\"\")","v":""}]
[null,null,{"$f":"SUBSTITUTE(Reporte!D343582,\" \",\"\")","v":""}]
[null,null,{"$f":"SUBSTITUTE(Reporte!D344326,\" \",\"\")","v":""}]
[null,null,{"$f":"SUBSTITUTE(Reporte!D344841,\" \",\"\")","v":""}]
[null,null,{"$f":"SUBSTITUTE(Reporte!D345585,\" \",\"\")","v":""}]
[null,null,{"$f":"SUBSTITUTE(Reporte!D346086,\" \",\"\")","v":""}]
[null,null,{"$f":"SUBSTITUTE(Reporte!D346322,\" \",\"\")","v":""}]
[null,null,{"$f":"SUBSTITUTE(Reporte!D347066,\" \",\"\")","v":""}]
[null,null,{"$f":"SUBSTITUTE(Reporte!D347581,\" \",\"\")","v":""}]
[null,null,{"$f":"SUBSTITUTE(Reporte!D347802,\" \",\"\")","v":""}]
[null,null,{"$f":"SUBSTITUTE(Reporte!D348546,\" \",\"\")","v":""}]
[null,null,{"$f":"SUBSTITUTE(Reporte!D349061,\" \",\"\")","v":""}]
[null,null,{"$f":"SUBSTITUTE(Reporte!D349805,\" \",\"\")","v":""}]
[null,null,{"$f":"SUBSTITUTE(Reporte!D350320,\" \",\"\")","v":""}]
[null,null,{"$f":"SUBSTITUTE(Reporte!D350541,\" \",\"\")","v":""}]
[null,null,{"$f":"SUBSTITUTE(Reporte!D351285,\" \",\"\")","v":""}]
[null,null,{"$f":"SUBSTITUTE(Reporte!D351800,\" \",\"\")","v":""}]
[null,null,{"$f":"SUBSTITUTE(Reporte!D352021,\" \",\"\")","v":""}]
[null,null,{"$f":"SUBSTITUTE(Reporte!D352765,\" \",\"\")","v":""}]
[null,null,{"$f":"SUBSTITUTE(Reporte!D353280,\" \",\"\")","v":""}]
[null,null,{"$f":"SUBSTITUTE(Reporte!D353501,\" \",\"\")","v":""}]
[null,null,{"$f":"SUBSTITUTE(Reporte!D354016,\" \",\"\")","v":""}]
[null,null,{"$f":"SUBSTITUTE(Reporte!D354760,\" \",\"\")","v":""}]
[null,null,{"$f":"SUBSTITUTE(Reporte!D355504,\" \",\"\")","v":""}]
[null,null,{"$f":"SUBSTITUTE(Reporte!D356019,\" \",\"\")","v":""}]
[null,null,{"$f":"SUBSTITUTE(Reporte!D356240,\" \",\"\")","v":""}]
[null,null,{"$f":"SUBSTITUTE(Reporte!D356984,\" \",\"\")","v":""}]
[null,null,{"$f":"SUBSTITUTE(Reporte!D357499,\" \",\"\")","v":""}]
[null,null,{"$f":"SUBSTITUTE(Reporte!D357720,\" \",\"\")","v":""}]
[null,null,{"$f":"SUBSTITUTE(Reporte!D358235,\" \",\"\")","v":""}]
[null,null,{"$f":"SUBSTITUTE(Reporte!D358979,\" \",\"\")","v":""}]
[null,null,{"$f":"SUBSTITUTE(Reporte!D359723,\" \",\"\")","v":""}]
[null,null,{"$f":"SUBSTITUTE(Reporte!D359767,\" \",\"\")","v":""}]
[null,null,{"$f":"SUBSTITUTE(Reporte!D360460,\" \",\"\")","v":""}]
[null,null,{"$f":"SUBSTITUTE(Reporte!D360975,\" \",\"\")","v":""}]
[null,null,{"$f":"SUBSTITUTE(Reporte!D361719,\" \",\"\")","v":""}]
[null,null,{"$f":"SUBSTITUTE(Reporte!D361940,\" \",\"\")","v":""}]
[null,null,{"$f":"SUBSTITUTE(Reporte!D362455,\" \",\"\")","v":""}]
[null,null,{"$f":"SUBSTITUTE(Reporte!D363199,\" \",\"\")","v":""}]
[null,null,{"$f":"SUBSTITUTE(Reporte!D363420,\" \",\"\")","v":""}]
[null,null,{"$f":"SUBSTITUTE(Reporte!D364458,\" \",\"\")","v":""}]
[null,null,{"$f":"SUBSTITUTE(Reporte!D364679,\" \",\"\")","v":""}]
[null,null,{"$f":"SUBSTITUTE(Reporte!D365194,\" \",\"\")","v":""}]
[null,null,{"$f":"SUBSTITUTE(Reporte!D365938,\" \",\"\")","v":""}]
[null,null,{"$f":"SUBSTITUTE(Reporte!D366159,\" \",\"\")","v":""}]
[null,null,{"$f":"SUBSTITUTE(Reporte!D366674,\" \",\"\")","v":""}]
[null,null,{"$f":"SUBSTITUTE(Reporte!D367418,\" \",\"\")","v":""}]
[null,null,{"$f":"SUBSTITUTE(Reporte!D367639,\" \",\"\")","v":""}]
[null,null,{"$f":"SUBSTITUTE(Reporte!D368154,\" \",\"\")","v":""}]
[null,null,{"$f":"SUBSTITUTE(Reporte!D368898,\" \",\"\")","v":""}]
[null,null,{"$f":"SUBSTITUTE(Reporte!D369413,\" \",\"\")","v":""}]
[null,null,{"$f":"SUBSTITUTE(Reporte!D370157,\" \",\"\")","v":""}]
[null,null,{"$f":"SUBSTITUTE(Reporte!D370378,\" \",\"\")","v":""}]
[null,null,{"$f":"SUBSTITUTE(Reporte!D370893,\" \",\"\")","v":""}]
[null,null,{"$f":"SUBSTITUTE(Reporte!D371637,\" \",\"\")","v":""}]
[null,null,{"$f":"SUBSTITUTE(Reporte!D372152,\" \",\"\")","v":""}]
[null,null,{"$f":"SUBSTITUTE(Reporte!D372373,\" \",\"\")","v":""}]
[null,null,{"$f":"SUBSTITUTE(Reporte!D373117,\" \",\"\")","v":""}]
[null,null,{"$f":"SUBSTITUTE(Reporte!D373396,\" \",\"\")","v":""}]
[null,null,{"$f":"SUBSTITUTE(Reporte!D374377,\" \",\"\")","v":""}]
[null,null,{"$f":"SUBSTITUTE(Reporte!D374598,\" \",\"\")","v":""}]
[null,null,{"$f":"SUBSTITUTE(Reporte!D375113,\" \",\"\")","v":""}]
[null,null,{"$f":"SUBSTITUTE(Reporte!D375857,\" \",\"\")","v":""}]
[null,null,{"$f":"SUBSTITUTE(Reporte!D376372,\" \",\"\")","v":""}]
[null,null,{"$f":"SUBSTITUTE(Reporte!D376593,\" \",\"\")","v":""}]
[null,null,{"$f":"SUBSTITUTE(Reporte!D377337,\" \",\"\")","v":""}]
[null,null,{"$f":"SUBSTITUTE(Reporte!D377852,\" \",\"\")","v":""}]
[null,null,{"$f":"SUBSTITUTE(Reporte!D378073,\" \",\"\")","v":""}]
[null,null,{"$f":"SUBSTITUTE(Reporte!D378588,\" \",\"\")","v":""}]
[null,null,{"$f":"SUBSTITUTE(Reporte!D379332,\" \",\"\")","v":""}]
[null,null,{"$f":"SUBSTITUTE(Reporte!D380076,\" \",\"\")","v":""}]
[null,null,{"$f":"SUBSTITUTE(Reporte!D380591,\" \",\"\")","v":""}]
[null,null,{"$f":"SUBSTITUTE(Reporte!D380812,\" \",\"\")","v":""}]
[null,null,{"$f":"SUBSTITUTE(Reporte!D381556,\" \",\"\")","v":""}]
[null,null,{"$f":"SUBSTITUTE(Reporte!D382071,\" \",\"\")","v":""}]
[null,null,{"$f":"SUBSTITUTE(Reporte!D382292,\" \",\"\")","v":""}]
[null,null,{"$f":"SUBSTITUTE(Reporte!D382807,\" \",\"\")","v":""}]
[null,null,{"$f":"SUBSTITUTE(Reporte!D383551,\" \",\"\")","v":""}]
[null,null,{"$f":"SUBSTITUTE(Reporte!D384295,\" \",\"\")","v":""}]
[null,null,{"$f":"SUBSTITUTE(Reporte!D384810,\" \",\"\")","v":""}]
[null,null,{"$f":"SUBSTITUTE(Reporte!D385031,\" \",\"\")","v":""}]
[null,null,{"$f":"SUBSTITUTE(Reporte!D385775,\" \",\"\")","v":""}]
[null,null,{"$f":"SUBSTITUTE(Reporte!D386290,\" \",\"\")","v":""}]
[null,null,{"$f":"SUBSTITUTE(Reporte!D386511,\" \",\"\")","v":""}]
[null,null,{"$f":"SUBSTITUTE(Reporte!D387025,\" \",\"\")","v":""}]
[null,null,{"$f":"SUBSTITUTE(Reporte!D387771,\" \",\"\")","v":""}]
[null,null,{"$f":"SUBSTITUTE(Reporte!D388515,\" \",\"\")","v":""}]
[null,null,{"$f":"SUBSTITUTE(Reporte!D389030,\" \",\"\")","v":""}]
[null,null,{"$f":"SUBSTITUTE(Reporte!D389251,\" \",\"\")","v":""}]
[null,null,{"$f":"SUBSTITUTE(Reporte!D389766,\" \",\"\")","v":""}]
[null,null,{"$f":"SUBSTITUTE(Reporte!D390510,\" \",\"\")","v":""}]
[null,null,{"$f":"SUBSTITUTE(Reporte!D390731,\" \",\"\")","v":""}]
[null,null,{"$f":"SUBSTITUTE(Reporte!D391246,\" \",\"\")","v":""}]
[null,null,{"$f":"SUBSTITUTE(Reporte!D391990,\" \",\"\")","v":""}]
[null,null,{"$f":"SUBSTITUTE(Reporte!D392211,\" \",\"\")","v":""}]
[null,null,{"$f":"SUBSTITUTE(Reporte!D392726,\" \",\"\")","v":""}]
[null,null,{"$f":"SUBSTITUTE(Reporte!D393470,\" \",\"\")","v":""}]
[null,null,{"$f":"SUBSTITUTE(Reporte!D393985,\" \",\"\")","v":""}]
[null,null,{"$f":"SUBSTITUTE(Reporte!D394729,\" \",\"\")","v":""}]
[null,null,{"$f":"SUBSTITUTE(Reporte!D394950,\" \",\"\")","v":""}]
[null,null,{"$f":"SUBSTITUTE(Reporte!D395465,\" \",\"\")","v":""}]
[null,null,{"$f":"SUBSTITUTE(Reporte!D396209,\" \",\"\")","v":""}]
[null,null,{"$f":"SUBSTITUTE(Reporte!D396724,\" \",\"\")","v":""}]
[null,null,{"$f":"SUBSTITUTE(Reporte!D396945,\" \",\"\")","v":""}]
[null,null,{"$f":"SUBSTITUTE(Reporte!D397689,\" \",\"\")","v":""}]
[null,null,{"$f":"SUBSTITUTE(Reporte!D398204,\" \",\"\")","v":""}]
[null,null,{"$f":"SUBSTITUTE(Reporte!D398948,\" \",\"\")","v":""}]
[null,null,{"$f":"SUBSTITUTE(Reporte!D399169,\" \",\"\")","v":""}]
[null,null,{"$f":"SUBSTITUTE(Reporte!D399684,\" \",\"\")","v":""}]
[null,null,{"$f":"SUBSTITUTE(Reporte!D400428,\" \",\"\")","v":""}]
[null,null,{"$f":"SUBSTITUTE(Reporte!D400943,\" \",\"\")","v":""}]
[null,null,{"$f":"SUBSTITUTE(Reporte!D401506,\" \",\"\")","v":""}]
[null,null,{"$f":"SUBSTITUTE(Reporte!D401909,\" \",\"\")","v":""}]
[null,null,{"$f":"SUBSTITUTE(Reporte!D402424,\" \",\"\")","v":""}]
[null,null,{"$f":"SUBSTITUTE(Reporte!D403168,\" \",\"\")","v":""}]
[null,null,{"$f":"SUBSTITUTE(Reporte!D403389,\" \",\"\")","v":""}]
[null,null,{"$f":"SUBSTITUTE(Reporte!D403904,\" \",\"\")","v":""}]
[null,null,{"$f":"SUBSTITUTE(Reporte!D404648,\" \",\"\")","v":""}]
[null,null,{"$f":"SUBSTITUTE(Reporte!D405163,\" \",\"\")","v":""}]
[null,null,{"$f":"SUBSTITUTE(Reporte!D405384,\" \",\"\")","v":""}]
[null,null,{"$f":"SUBSTITUTE(Reporte!D406128,\" \",\"\")","v":""}]
[null,null,{"$f":"SUBSTITUTE(Reporte!D406643,\" \",\"\")","v":""}]
[null,null,{"$f":"SUBSTITUTE(Reporte!D406864,\" \",\"\")","v":""}]
[null,null,{"$f":"SUBSTITUTE(Reporte!D407379,\" \",\"\")","v":""}]
[null,null,{"$f":"SUBSTITUTE(Reporte!D408123,\" \",\"\")","v":""}]
[null,null,{"$f":"SUBSTITUTE(Reporte!D408867,\" \",\"\")","v":""}]
[null,null,{"$f":"SUBSTITUTE(Reporte!D409382,\" \",\"\")","v":""}]
[null,null,{"$f":"SUBSTITUTE(Reporte!D409603,\" \",\"\")","v":""}]
[null,null,{"$f":"SUBSTITUTE(Reporte!D410347,\" \",\"\")","v":""}]
[null,null,{"$f":"SUBSTITUTE(Reporte!D410862,\" \",\"\")","v":""}]
[null,null,{"$f":"SUBSTITUTE(Reporte!D411083,\" \",\"\")","v":""}]
[null,null,{"$f":"SUBSTITUTE(Reporte!D411598,\" \",\"\")","v":""}]
[null,null,{"$f":"SUBSTITUTE(Reporte!D412342,\" \",\"\")","v":""}]
[null,null,{"$f":"SUBSTITUTE(Reporte!D413086,\" \",\"\")","v":""}]
[null,null,{"$f":"SUBSTITUTE(Reporte!D413601,\" \",\"\")","v":""}]
[null,null,{"$f":"SUBSTITUTE(Reporte!D413822,\" \",\"\")","v":""}]
[null,null,{"$f":"SUBSTITUTE(Reporte!D414566,\" \",\"\")","v":""}]
[null,null,{"$f":"SUBSTITUTE(Reporte!D415135,\" \",\"\")","v":""}]
[null,null,{"$f":"SUBSTITUTE(Reporte!D415303,\" \",\"\")","v":""}]
[null,null,{"$f":"SUBSTITUTE(Reporte!D415818,\" \",\"\")","v":""}]
[null,null,{"$f":"SUBSTITUTE(Reporte!D416562,\" \",\"\")","v":""}]
[null,null,{"$f":"SUBSTITUTE(Reporte!D416783,\" \",\"\")","v":""}]
[null,null,{"$f":"SUBSTITUTE(Reporte!D417298,\" \",\"\")","v":""}]
[null,null,{"$f":"SUBSTITUTE(Reporte!D418042,\" \",\"\")","v":""}]
[null,null,{"$f":"SUBSTITUTE(Reporte!D418557,\" \",\"\")","v":""}]
[null,null,{"$f":"SUBSTITUTE(Reporte!D419301,\" \",\"\")","v":""}]
[null,null,{"$f":"SUBSTITUTE(Reporte!D419522,\" \",\"\")","v":""}]
[null,null,{"$f":"SUBSTITUTE(Reporte!D420037,\" \",\"\")","v":""}]
[null,null,{"$f":"SUBSTITUTE(Reporte!D420781,\" \",\"\")","v":""}]
[null,null,{"$f":"SUBSTITUTE(Reporte!D421002,\" \",\"\")","v":""}]
[null,null,{"$f":"SUBSTITUTE(Reporte!D421517,\" \",\"\")","v":""}]
[null,null,{"$f":"SUBSTITUTE(Reporte!D422261,\" \",\"\")","v":""}]
[null,null,{"$f":"SUBSTITUTE(Reporte!D422776,\" \",\"\")","v":""}]
[null,null,{"$f":"SUBSTITUTE(Reporte!D423520,\" \",\"\")","v":""}]
[null,null,{"$f":"SUBSTITUTE(Reporte!D423741,\" \",\"\")","v":""}]
[null,null,{"$f":"SUBSTITUTE(Reporte!D424256,\" \",\"\")","v":""}]
[null,null,{"$f":"SUBSTITUTE(Reporte!D425000,\" \",\"\")","v":""}]
[null,null,{"$f":"SUBSTITUTE(Reporte!D425515,\" \",\"\")","v":""}]
[null,null,{"$f":"SUBSTITUTE(Reporte!D425736,\" \",\"\")","v":""}]
[null,null,{"$f":"SUBSTITUTE(Reporte!D426480,\" \",\"\")","v":""}]
[null,null,{"$f":"SUBSTITUTE(Reporte!D426995,\" \",\"\")","v":""}]
[null,null,{"$f":"SUBSTITUTE(Reporte!D427739,\" \",\"\")","v":""}]
[null,null,{"$f":"SUBSTITUTE(Reporte!D427960,\" \",\"\")","v":""}]
[null,null,{"$f":"SUBSTITUTE(Reporte!D428764,\" \",\"\")","v":""}]
[null,null,{"$f":"SUBSTITUTE(Reporte!D429220,\" \",\"\")","v":""}]
[null,null,{"$f":"SUBSTITUTE(Reporte!D429735,\" \",\"\")","v":""}]
[null,null,{"$f":"SUBSTITUTE(Reporte!D429956,\" \",\"\")","v":""}]
[null,null,{"$f":"SUBSTITUTE(Reporte!D430700,\" \",\"\")","v":""}]
[null,null,{"$f":"SUBSTITUTE(Reporte!D431215,\" \",\"\")","v":""}]
[null,null,{"$f":"SUBSTITUTE(Reporte!D431436,\" \",\"\")","v":""}]
[null,null,{"$f":"SUBSTITUTE(Reporte!D432180,\" \",\"\")","v":""}]
[null,null,{"$f":"SUBSTITUTE(Reporte!D432695,\" \",\"\")","v":""}]
[null,null,{"$f":"SUBSTITUTE(Reporte!D433439,\" \",\"\")","v":""}]
[null,null,{"$f":"SUBSTITUTE(Reporte!D433954,\" \",\"\")","v":""}]
[null,null,{"$f":"SUBSTITUTE(Reporte!D434175,\" \",\"\")","v":""}]
[null,null,{"$f":"SUBSTITUTE(Reporte!D434919,\" \",\"\")","v":""}]
[null,null,{"$f":"SUBSTITUTE(Reporte!D435434,\" \",\"\")","v":""}]
[null,null,{"$f":"SUBSTITUTE(Reporte!D435655,\" \",\"\")","v":""}]
[null,null,{"$f":"SUBSTITUTE(Reporte!D436170,\" \",\"\")","v":""}]
[null,null,{"$f":"SUBSTITUTE(Reporte!D436914,\" \",\"\")","v":""}]
[null,null,{"$f":"SUBSTITUTE(Reporte!D437658,\" \",\"\")","v":""}]
[null,null,{"$f":"SUBSTITUTE(Reporte!D438173,\" \",\"\")","v":""}]
[null,null,{"$f":"SUBSTITUTE(Reporte!D438394,\" \",\"\")","v":""}]
[null,null,{"$f":"SUBSTITUTE(Reporte!D439138,\" \",\"\")","v":""}]
[null,null,{"$f":"SUBSTITUTE(Reporte!D439653,\" \",\"\")","v":""}]
[null,null,{"$f":"SUBSTITUTE(Reporte!D439874,\" \",\"\")","v":""}]
[null,null,{"$f":"SUBSTITUTE(Reporte!D440389,\" \",\"\")","v":""}]
[null,null,{"$f":"SUBSTITUTE(Reporte!D441133,\" \",\"\")","v":""}]
[null,null,{"$f":"SUBSTITUTE(Reporte!D441354,\" \",\"\")","v":""}]
[null,null,{"$f":"SUBSTITUTE(Reporte!D442392,\" \",\"\")","v":""}]
[null,null,{"$f":"SUBSTITUTE(Reporte!D442721,\" \",\"\")","v":""}]
[null,null,{"$f":"SUBSTITUTE(Reporte!D443358,\" \",\"\")","v":""}]
[null,null,{"$f":"SUBSTITUTE(Reporte!D443873,\" \",\"\")","v":""}]
[null,null,{"$f":"SUBSTITUTE(Reporte!D444094,\" \",\"\")","v":""}]
[null,null,{"$f":"SUBSTITUTE(Reporte!D444609,\" \",\"\")","v":""}]
[null,null,{"$f":"SUBSTITUTE(Reporte!D445353,\" \",\"\")","v":""}]
[null,null,{"$f":"SUBSTITUTE(Reporte!D445574,\" \",\"\")","v":""}]
[null,null,{"$f":"SUBSTITUTE(Reporte!D446089,\" \",\"\")","v":""}]
[null,null,{"$f":"SUBSTITUTE(Reporte!D446833,\" \",\"\")","v":""}]
[null,null,{"$f":"SUBSTITUTE(Reporte!D447348,\" \",\"\")","v":""}]
[null,null,{"$f":"SUBSTITUTE(Reporte!D448092,\" \",\"\")","v":""}]
[null,null,{"$f":"SUBSTITUTE(Reporte!D448313,\" \",\"\")","v":""}]
[null,null,{"$f":"SUBSTITUTE(Reporte!D448828,\" \",\"\")","v":""}]
[null,null,{"$f":"SUBSTITUTE(Reporte!D449572,\" \",\"\")","v":""}]
[null,null,{"$f":"SUBSTITUTE(Reporte!D449793,\" \",\"\")","v":""}]
[null,null,{"$f":"SUBSTITUTE(Reporte!D450308,\" \",\"\")","v":""}]
[null,null,{"$f":"SUBSTITUTE(Reporte!D451052,\" \",\"\")","v":""}]
[null,null,{"$f":"SUBSTITUTE(Reporte!D451567,\" \",\"\")","v":""}]
[null,null,{"$f":"SUBSTITUTE(Reporte!D452311,\" \",\"\")","v":""}]
[null,null,{"$f":"SUBSTITUTE(Reporte!D452532,\" \",\"\")","v":""}]
[null,null,{"$f":"SUBSTITUTE(Reporte!D453047,\" \",\"\")","v":""}]
[null,null,{"$f":"SUBSTITUTE(Reporte!D453791,\" \",\"\")","v":""}]
[null,null,{"$f":"SUBSTITUTE(Reporte!D454306,\" \",\"\")","v":""}]
[null,null,{"$f":"SUBSTITUTE(Reporte!D454527,\" \",\"\")","v":""}]
[null,null,{"$f":"SUBSTITUTE(Reporte!D455271,\" \",\"\")","v":""}]
[null,null,{"$f":"SUBSTITUTE(Reporte!D455786,\" \",\"\")","v":""}]
[null,null,{"$f":"SUBSTITUTE(Reporte!D456350,\" \",\"\")","v":""}]
[null,null,{"$f":"SUBSTITUTE(Reporte!D456752,\" \",\"\")","v":""}]
[null,null,{"$f":"SUBSTITUTE(Reporte!D457267,\" \",\"\")","v":""}]
[null,null,{"$f":"SUBSTITUTE(Reporte!D458011,\" \",\"\")","v":""}]
[null,null,{"$f":"SUBSTITUTE(Reporte!D458526,\" \",\"\")","v":""}]
[null,null,{"$f":"SUBSTITUTE(Reporte!D458747,\" \",\"\")","v":""}]
[null,null,{"$f":"SUBSTITUTE(Reporte!D459491,\" \",\"\")","v":""}]
[null,null,{"$f":"SUBSTITUTE(Reporte!D460006,\" \",\"\")","v":""}]
[null,null,{"$f":"SUBSTITUTE(Reporte!D460227,\" \",\"\")","v":""}]
[null,null,{"$f":"SUBSTITUTE(Reporte!D460971,\" \",\"\")","v":""}]
[null,null,{"$f":"SUBSTITUTE(Reporte!D461486,\" \",\"\")","v":""}]
[null,null,{"$f":"SUBSTITUTE(Reporte!D462230,\" \",\"\")","v":""}]
[null,null,{"$f":"SUBSTITUTE(Reporte!D462745,\" \",\"\")","v":""}]
[null,null,{"$f":"SUBSTITUTE(Reporte!D462966,\" \",\"\")","v":""}]
[null,null,{"$f":"SUBSTITUTE(Reporte!D463710,\" \",\"\")","v":""}]
[null,null,{"$f":"SUBSTITUTE(Reporte!D464225,\" \",\"\")","v":""}]
[null,null,{"$f":"SUBSTITUTE(Reporte!D464446,\" \",\"\")","v":""}]
[null,null,{"$f":"SUBSTITUTE(Reporte!D464961,\" \",\"\")","v":""}]
[null,null,{"$f":"SUBSTITUTE(Reporte!D465705,\" \",\"\")","v":""}]
[null,null,{"$f":"SUBSTITUTE(Reporte!D466449,\" \",\"\")","v":""}]
[null,null,{"$f":"SUBSTITUTE(Reporte!D466964,\" \",\"\")","v":""}]
[null,null,{"$f":"SUBSTITUTE(Reporte!D467185,\" \",\"\")","v":""}]
[null,null,{"$f":"SUBSTITUTE(Reporte!D467929,\" \",\"\")","v":""}]
[null,null,{"$f":"SUBSTITUTE(Reporte!D468444,\" \",\"\")","v":""}]
[null,null,{"$f":"SUBSTITUTE(Reporte!D468665,\" \",\"\")","v":""}]
[null,null,{"$f":"SUBSTITUTE(Reporte!D469180,\" \",\"\")","v":""}]
[null,null,{"$f":"SUBSTITUTE(Reporte!D469979,\" \",\"\")","v":""}]
[null,null,{"$f":"SUBSTITUTE(Reporte!D470146,\" \",\"\")","v":""}]
[null,null,{"$f":"SUBSTITUTE(Reporte!D470661,\" \",\"\")","v":""}]
[null,null,{"$f":"SUBSTITUTE(Reporte!D471405,\" \",\"\")","v":""}]
[null,null,{"$f":"SUBSTITUTE(Reporte!D471920,\" \",\"\")","v":""}]
[null,null,{"$f":"SUBSTITUTE(Reporte!D472664,\" \",\"\")","v":""}]
[null,null,{"$f":"SUBSTITUTE(Reporte!D472885,\" \",\"\")","v":""}]
[null,null,{"$f":"SUBSTITUTE(Reporte!D473400,\" \",\"\")","v":""}]
[null,null,{"$f":"SUBSTITUTE(Reporte!D474144,\" \",\"\")","v":""}]
[null,null,{"$f":"SUBSTITUTE(Reporte!D474365,\" \",\"\")","v":""}]
[null,null,{"$f":"SUBSTITUTE(Reporte!D474880,\" \",\"\")","v":""}]
[null,null,{"$f":"SUBSTITUTE(Reporte!D475624,\" \",\"\")","v":""}]
[null,null,{"$f":"SUBSTITUTE(Reporte!D476139,\" \",\"\")","v":""}]
[null,null,{"$f":"SUBSTITUTE(Reporte!D476883,\" \",\"\")","v":""}]
[null,null,{"$f":"SUBSTITUTE(Reporte!D477104,\" \",\"\")","v":""}]
[null,null,{"$f":"SUBSTITUTE(Reporte!D477619,\" \",\"\")","v":""}]
[null,null,{"$f":"SUBSTITUTE(Reporte!D478363,\" \",\"\")","v":""}]
[null,null,{"$f":"SUBSTITUTE(Reporte!D478584,\" \",\"\")","v":""}]
[null,null,{"$f":"SUBSTITUTE(Reporte!D479099,\" \",\"\")","v":""}]
[null,null,{"$f":"SUBSTITUTE(Reporte!D479843,\" \",\"\")","v":""}]
[null,null,{"$f":"SUBSTITUTE(Reporte!D480358,\" \",\"\")","v":""}]
[null,null,{"$f":"SUBSTITUTE(Reporte!D481102,\" \",\"\")","v":""}]
[null,null,{"$f":"SUBSTITUTE(Reporte!D481323,\" \",\"\")","v":""}]
[null,null,{"$f":"SUBSTITUTE(Reporte!D481838,\" \",\"\")","v":""}]
[null,null,{"$f":"SUBSTITUTE(Reporte!D482582,\" \",\"\")","v":""}]
[null,null,{"$f":"SUBSTITUTE(Reporte!D483097,\" \",\"\")","v":""}]
[null,null,{"$f":"SUBSTITUTE(Reporte!D483318,\" \",\"\")","v":""}]
[null,null,{"$f":"SUBSTITUTE(Reporte!D483936,\" \",\"\")","v":""}]
[null,null,{"$f":"SUBSTITUTE(Reporte!D484578,\" \",\"\")","v":""}]
[null,null,{"$f":"SUBSTITUTE(Reporte!D484799,\" \",\"\")","v":""}]
[null,null,{"$f":"SUBSTITUTE(Reporte!D485543,\" \",\"\")","v":""}]
[null,null,{"$f":"SUBSTITUTE(Reporte!D486058,\" \",\"\")","v":""}]
[null,null,{"$f":"SUBSTITUTE(Reporte!D486802,\" \",\"\")","v":""}]
[null,null,{"$f":"SUBSTITUTE(Reporte!D487317,\" \",\"\")","v":""}]
[null,null,{"$f":"SUBSTITUTE(Reporte!D487538,\" \",\"\")","v":""}]
[null,null,{"$f":"SUBSTITUTE(Reporte!D488282,\" \",\"\")","v":""}]
[null,null,{"$f":"SUBSTITUTE(Reporte!D488797,\" \",\"\")","v":""}]
[null,null,{"$f":"SUBSTITUTE(Reporte!D489018,\" \",\"\")","v":""}]
[null,null,{"$f":"SUBSTITUTE(Reporte!D489762,\" \",\"\")","v":""}]
[null,null,{"$f":"SUBSTITUTE(Reporte!D490277,\" \",\"\")","v":""}]
[null,null,{"$f":"SUBSTITUTE(Reporte!D491021,\" \",\"\")","v":""}]
[null,null,{"$f":"SUBSTITUTE(Reporte!D491536,\" \",\"\")","v":""}]
[null,null,{"$f":"SUBSTITUTE(Reporte!D491757,\" \",\"\")","v":""}]
[null,null,{"$f":"SUBSTITUTE(Reporte!D492501,\" \",\"\")","v":""}]
[null,null,{"$f":"SUBSTITUTE(Reporte!D493016,\" \",\"\")","v":""}]
[null,null,{"$f":"SUBSTITUTE(Reporte!D493237,\" \",\"\")","v":""}]
[null,null,{"$f":"SUBSTITUTE(Reporte!D493752,\" \",\"\")","v":""}]
[null,null,{"$f":"SUBSTITUTE(Reporte!D494496,\" \",\"\")","v":""}]
[null,null,{"$f":"SUBSTITUTE(Reporte!D494717,\" \",\"\")","v":""}]
[null,null,{"$f":"SUBSTITUTE(Reporte!D495232,\" \",\"\")","v":""}]
[null,null,{"$f":"SUBSTITUTE(Reporte!D495976,\" \",\"\")","v":""}]
[null,null,{"$f":"SUBSTITUTE(Reporte!D496720,\" \",\"\")","v":""}]
[null,null,{"$f":"SUBSTITUTE(Reporte!D497235,\" \",\"\")","v":""}]
[null,null,{"$f":"SUBSTITUTE(Reporte!D497565,\" \",\"\")","v":""}]
[null,null,{"$f":"SUBSTITUTE(Reporte!D497972,\" \",\"\")","v":""}]
[null,null,{"$f":"SUBSTITUTE(Reporte!D498716,\" \",\"\")","v":""}]
[null,null,{"$f":"SUBSTITUTE(Reporte!D498937,\" \",\"\")","v":""}]
[null,null,{"$f":"SUBSTITUTE(Reporte!D499452,\" \",\"\")","v":""}]
[null,null,{"$f":"SUBSTITUTE(Reporte!D500196,\" \",\"\")","v":""}]
[null,null,{"$f":"SUBSTITUTE(Reporte!D500711,\" \",\"\")","v":""}]
[null,null,{"$f":"SUBSTITUTE(Reporte!D501455,\" \",\"\")","v":""}]
[null,null,{"$f":"SUBSTITUTE(Reporte!D501676,\" \",\"\")","v":""}]
[null,null,{"$f":"SUBSTITUTE(Reporte!D502191,\" \",\"\")","v":""}]
[null,null,{"$f":"SUBSTITUTE(Reporte!D502935,\" \",\"\")","v":""}]
[null,null,{"$f":"SUBSTITUTE(Reporte!D503156,\" \",\"\")","v":""}]
[null,null,{"$f":"SUBSTITUTE(Reporte!D503671,\" \",\"\")","v":""}]
[null,null,{"$f":"SUBSTITUTE(Reporte!D504415,\" \",\"\")","v":""}]
[null,null,{"$f":"SUBSTITUTE(Reporte!D504930,\" \",\"\")","v":""}]
[null,null,{"$f":"SUBSTITUTE(Reporte!D505674,\" \",\"\")","v":""}]
[null,null,{"$f":"SUBSTITUTE(Reporte!D505895,\" \",\"\")","v":""}]
[null,null,{"$f":"SUBSTITUTE(Reporte!D506410,\" \",\"\")","v":""}]
[null,null,{"$f":"SUBSTITUTE(Reporte!D507154,\" \",\"\")","v":""}]
[null,null,{"$f":"SUBSTITUTE(Reporte!D507375,\" \",\"\")","v":""}]
[null,null,{"$f":"SUBSTITUTE(Reporte!D507890,\" \",\"\")","v":""}]
[null,null,{"$f":"SUBSTITUTE(Reporte!D508634,\" \",\"\")","v":""}]
[null,null,{"$f":"SUBSTITUTE(Reporte!D509149,\" \",\"\")","v":""}]
[null,null,{"$f":"SUBSTITUTE(Reporte!D509370,\" \",\"\")","v":""}]
[null,null,{"$f":"SUBSTITUTE(Reporte!D510114,\" \",\"\")","v":""}]
[null,null,{"$f":"SUBSTITUTE(Reporte!D510629,\" \",\"\")","v":""}]
[null,null,{"$f":"SUBSTITUTE(Reporte!D511194,\" \",\"\")","v":""}]
[null,null,{"$f":"SUBSTITUTE(Reporte!D511889,\" \",\"\")","v":""}]
[null,null,{"$f":"SUBSTITUTE(Reporte!D512110,\" \",\"\")","v":""}]
[null,null,{"$f":"SUBSTITUTE(Reporte!D512854,\" \",\"\")","v":""}]
[null,null,{"$f":"SUBSTITUTE(Reporte!D513369,\" \",\"\")","v":""}]
[null,null,{"$f":"SUBSTITUTE(Reporte!D513590,\" \",\"\")","v":""}]
[null,null,{"$f":"SUBSTITUTE(Reporte!D514334,\" \",\"\")","v":""}]
[null,null,{"$f":"SUBSTITUTE(Reporte!D514849,\" \",\"\")","v":""}]
[null,null,{"$f":"SUBSTITUTE(Reporte!D515593,\" \",\"\")","v":""}]
[null,null,{"$f":"SUBSTITUTE(Reporte!D516108,\" \",\"\")","v":""}]
[null,null,{"$f":"SUBSTITUTE(Reporte!D516329,\" \",\"\")","v":""}]
[null,null,{"$f":"SUBSTITUTE(Reporte!D517073,\" \",\"\")","v":""}]
[null,null,{"$f":"SUBSTITUTE(Reporte!D517588,\" \",\"\")","v":""}]
[null,null,{"$f":"SUBSTITUTE(Reporte!D517809,\" \",\"\")","v":""}]
[null,null,{"$f":"SUBSTITUTE(Reporte!D518324,\" \",\"\")","v":""}]
[null,null,{"$f":"SUBSTITUTE(Reporte!D519068,\" \",\"\")","v":""}]
[null,null,{"$f":"SUBSTITUTE(Reporte!D519289,\" \",\"\")","v":""}]
[null,null,{"$f":"SUBSTITUTE(Reporte!D520327,\" \",\"\")","v":""}]
[null,null,{"$f":"SUBSTITUTE(Reporte!D520548,\" \",\"\")","v":""}]
[null,null,{"$f":"SUBSTITUTE(Reporte!D521292,\" \",\"\")","v":""}]
[null,null,{"$f":"SUBSTITUTE(Reporte!D521807,\" \",\"\")","v":""}]
[null,null,{"$f":"SUBSTITUTE(Reporte!D522028,\" \",\"\")","v":""}]
[null,null,{"$f":"SUBSTITUTE(Reporte!D522543,\" \",\"\")","v":""}]
[null,null,{"$f":"SUBSTITUTE(Reporte!D523287,\" \",\"\")","v":""}]
[null,null,{"$f":"SUBSTITUTE(Reporte!D523508,\" \",\"\")","v":""}]
[null,null,{"$f":"SUBSTITUTE(Reporte!D524023,\" \",\"\")","v":""}]
[null,null,{"$f":"SUBSTITUTE(Reporte!D524823,\" \",\"\")","v":""}]
[null,null,{"$f":"SUBSTITUTE(Reporte!D525512,\" \",\"\")","v":""}]
[null,null,{"$f":"SUBSTITUTE(Reporte!D526027,\" \",\"\")","v":""}]
[null,null,{"$f":"SUBSTITUTE(Reporte!D526248,\" \",\"\")","v":""}]
[null,null,{"$f":"SUBSTITUTE(Reporte!D526763,\" \",\"\")","v":""}]
[null,null,{"$f":"SUBSTITUTE(Reporte!D527507,\" \",\"\")","v":""}]
[null,null,{"$f":"SUBSTITUTE(Reporte!D527728,\" \",\"\")","v":""}]
[null,null,{"$f":"SUBSTITUTE(Reporte!D528243,\" \",\"\")","v":""}]
[null,null,{"$f":"SUBSTITUTE(Reporte!D528987,\" \",\"\")","v":""}]
[null,null,{"$f":"SUBSTITUTE(Reporte!D529502,\" \",\"\")","v":""}]
[null,null,{"$f":"SUBSTITUTE(Reporte!D530246,\" \",\"\")","v":""}]
[null,null,{"$f":"SUBSTITUTE(Reporte!D530467,\" \",\"\")","v":""}]
[null,null,{"$f":"SUBSTITUTE(Reporte!D530982,\" \",\"\")","v":""}]
[null,null,{"$f":"SUBSTITUTE(Reporte!D531726,\" \",\"\")","v":""}]
[null,null,{"$f":"SUBSTITUTE(Reporte!D531947,\" \",\"\")","v":""}]
[null,null,{"$f":"SUBSTITUTE(Reporte!D532462,\" \",\"\")","v":""}]
[null,null,{"$f":"SUBSTITUTE(Reporte!D533206,\" \",\"\")","v":""}]
[null,null,{"$f":"SUBSTITUTE(Reporte!D533721,\" \",\"\")","v":""}]
[null,null,{"$f":"SUBSTITUTE(Reporte!D533942,\" \",\"\")","v":""}]
[null,null,{"$f":"SUBSTITUTE(Reporte!D534686,\" \",\"\")","v":""}]
[null,null,{"$f":"SUBSTITUTE(Reporte!D535201,\" \",\"\")","v":""}]
[null,null,{"$f":"SUBSTITUTE(Reporte!D535945,\" \",\"\")","v":""}]
[null,null,{"$f":"SUBSTITUTE(Reporte!D536166,\" \",\"\")","v":""}]
[null,null,{"$f":"SUBSTITUTE(Reporte!D536681,\" \",\"\")","v":""}]
[null,null,{"$f":"SUBSTITUTE(Reporte!D537425,\" \",\"\")","v":""}]
[null,null,{"$f":"SUBSTITUTE(Reporte!D537940,\" \",\"\")","v":""}]
[null,null,{"$f":"SUBSTITUTE(Reporte!D538161,\" \",\"\")","v":""}]
[null,null,{"$f":"SUBSTITUTE(Reporte!D538780,\" \",\"\")","v":""}]
[null,null,{"$f":"SUBSTITUTE(Reporte!D539421,\" \",\"\")","v":""}]
[null,null,{"$f":"SUBSTITUTE(Reporte!D540165,\" \",\"\")","v":""}]
[null,null,{"$f":"SUBSTITUTE(Reporte!D540680,\" \",\"\")","v":""}]
[null,null,{"$f":"SUBSTITUTE(Reporte!D540901,\" \",\"\")","v":""}]
[null,null,{"$f":"SUBSTITUTE(Reporte!D541645,\" \",\"\")","v":""}]
[null,null,{"$f":"SUBSTITUTE(Reporte!D542160,\" \",\"\")","v":""}]
[null,null,{"$f":"SUBSTITUTE(Reporte!D542381,\" \",\"\")","v":""}]
[null,null,{"$f":"SUBSTITUTE(Reporte!D543125,\" \",\"\")","v":""}]
[null,null,{"$f":"SUBSTITUTE(Reporte!D543640,\" \",\"\")","v":""}]
[null,null,{"$f":"SUBSTITUTE(Reporte!D544384,\" \",\"\")","v":""}]
[null,null,{"$f":"SUBSTITUTE(Reporte!D544899,\" \",\"\")","v":""}]
[null,null,{"$f":"SUBSTITUTE(Reporte!D545120,\" \",\"\")","v":""}]
[null,null,{"$f":"SUBSTITUTE(Reporte!D545864,\" \",\"\")","v":""}]
[null,null,{"$f":"SUBSTITUTE(Reporte!D546379,\" \",\"\")","v":""}]
[null,null,{"$f":"SUBSTITUTE(Reporte!D546600,\" \",\"\")","v":""}]
[null,null,{"$f":"SUBSTITUTE(Reporte!D547115,\" \",\"\")","v":""}]
[null,null,{"$f":"SUBSTITUTE(Reporte!D547859,\" \",\"\")","v":""}]
[null,null,{"$f":"SUBSTITUTE(Reporte!D548080,\" \",\"\")","v":""}]
[null,null,{"$f":"SUBSTITUTE(Reporte!D548595,\" \",\"\")","v":""}]
[null,null,{"$f":"SUBSTITUTE(Reporte!D549339,\" \",\"\")","v":""}]
[null,null,{"$f":"SUBSTITUTE(Reporte!D550083,\" \",\"\")","v":""}]
[null,null,{"$f":"SUBSTITUTE(Reporte!D550598,\" \",\"\")","v":""}]
[null,null,{"$f":"SUBSTITUTE(Reporte!D550819,\" \",\"\")","v":""}]
[null,null,{"$f":"SUBSTITUTE(Reporte!D551334,\" \",\"\")","v":""}]
[null,null,{"$f":"SUBSTITUTE(Reporte!D552078,\" \",\"\")","v":""}]
[null,null,{"$f":"SUBSTITUTE(Reporte!D552409,\" \",\"\")","v":""}]
[null,null,{"$f":"SUBSTITUTE(Reporte!D552815,\" \",\"\")","v":""}]
[null,null,{"$f":"SUBSTITUTE(Reporte!D553559,\" \",\"\")","v":""}]
[null,null,{"$f":"SUBSTITUTE(Reporte!D554303,\" \",\"\")","v":""}]
[null,null,{"$f":"SUBSTITUTE(Reporte!D554818,\" \",\"\")","v":""}]
[null,null,{"$f":"SUBSTITUTE(Reporte!D555039,\" \",\"\")","v":""}]
[null,null,{"$f":"SUBSTITUTE(Reporte!D555554,\" \",\"\")","v":""}]
[null,null,{"$f":"SUBSTITUTE(Reporte!D556298,\" \",\"\")","v":""}]
[null,null,{"$f":"SUBSTITUTE(Reporte!D556519,\" \",\"\")","v":""}]
[null,null,{"$f":"SUBSTITUTE(Reporte!D557034,\" \",\"\")","v":""}]
[null,null,{"$f":"SUBSTITUTE(Reporte!D557778,\" \",\"\")","v":""}]
[null,null,{"$f":"SUBSTITUTE(Reporte!D558293,\" \",\"\")","v":""}]
[null,null,{"$f":"SUBSTITUTE(Reporte!D558514,\" \",\"\")","v":""}]
[null,null,{"$f":"SUBSTITUTE(Reporte!D559258,\" \",\"\")","v":""}]
[null,null,{"$f":"SUBSTITUTE(Reporte!D559773,\" \",\"\")","v":""}]
[null,null,{"$f":"SUBSTITUTE(Reporte!D560517,\" \",\"\")","v":""}]
[null,null,{"$f":"SUBSTITUTE(Reporte!D560738,\" \",\"\")","v":""}]
[null,null,{"$f":"SUBSTITUTE(Reporte!D561253,\" \",\"\")","v":""}]
[null,null,{"$f":"SUBSTITUTE(Reporte!D561997,\" \",\"\")","v":""}]
[null,null,{"$f":"SUBSTITUTE(Reporte!D562512,\" \",\"\")","v":""}]
[null,null,{"$f":"SUBSTITUTE(Reporte!D562733,\" \",\"\")","v":""}]
[null,null,{"$f":"SUBSTITUTE(Reporte!D563477,\" \",\"\")","v":""}]
[null,null,{"$f":"SUBSTITUTE(Reporte!D563992,\" \",\"\")","v":""}]
[null,null,{"$f":"SUBSTITUTE(Reporte!D564736,\" \",\"\")","v":""}]
[null,null,{"$f":"SUBSTITUTE(Reporte!D564957,\" \",\"\")","v":""}]
[null,null,{"$f":"SUBSTITUTE(Reporte!D565472,\" \",\"\")","v":""}]
[null,null,{"$f":"SUBSTITUTE(Reporte!D566038,\" \",\"\")","v":""}]
[null,null,{"$f":"SUBSTITUTE(Reporte!D566732,\" \",\"\")","v":""}]
[null,null,{"$f":"SUBSTITUTE(Reporte!D566953,\" \",\"\")","v":""}]
[null,null,{"$f":"SUBSTITUTE(Reporte!D567697,\" \",\"\")","v":""}]
[null,null,{"$f":"SUBSTITUTE(Reporte!D568212,\" \",\"\")","v":""}]
[null,null,{"$f":"SUBSTITUTE(Reporte!D568956,\" \",\"\")","v":""}]
[null,null,{"$f":"SUBSTITUTE(Reporte!D569471,\" \",\"\")","v":""}]
[null,null,{"$f":"SUBSTITUTE(Reporte!D569692,\" \",\"\")","v":""}]
[null,null,{"$f":"SUBSTITUTE(Reporte!D570436,\" \",\"\")","v":""}]
[null,null,{"$f":"SUBSTITUTE(Reporte!D570951,\" \",\"\")","v":""}]
[null,null,{"$f":"SUBSTITUTE(Reporte!D571172,\" \",\"\")","v":""}]
[null,null,{"$f":"SUBSTITUTE(Reporte!D571916,\" \",\"\")","v":""}]
[null,null,{"$f":"SUBSTITUTE(Reporte!D572431,\" \",\"\")","v":""}]
[null,null,{"$f":"SUBSTITUTE(Reporte!D572652,\" \",\"\")","v":""}]
[null,null,{"$f":"SUBSTITUTE(Reporte!D573167,\" \",\"\")","v":""}]
[null,null,{"$f":"SUBSTITUTE(Reporte!D573911,\" \",\"\")","v":""}]
[null,null,{"$f":"SUBSTITUTE(Reporte!D574655,\" \",\"\")","v":""}]
[null,null,{"$f":"SUBSTITUTE(Reporte!D575170,\" \",\"\")","v":""}]
[null,null,{"$f":"SUBSTITUTE(Reporte!D575391,\" \",\"\")","v":""}]
[null,null,{"$f":"SUBSTITUTE(Reporte!D575906,\" \",\"\")","v":""}]
[null,null,{"$f":"SUBSTITUTE(Reporte!D576650,\" \",\"\")","v":""}]
[null,null,{"$f":"SUBSTITUTE(Reporte!D576871,\" \",\"\")","v":""}]
[null,null,{"$f":"SUBSTITUTE(Reporte!D577386,\" \",\"\")","v":""}]
[null,null,{"$f":"SUBSTITUTE(Reporte!D578130,\" \",\"\")","v":""}]
[null,null,{"$f":"SUBSTITUTE(Reporte!D578874,\" \",\"\")","v":""}]
[null,null,{"$f":"SUBSTITUTE(Reporte!D579389,\" \",\"\")","v":""}]
[null,null,{"$f":"SUBSTITUTE(Reporte!D579610,\" \",\"\")","v":""}]
[null,null,{"$f":"SUBSTITUTE(Reporte!D580243,\" \",\"\")","v":""}]
[null,null,{"$f":"SUBSTITUTE(Reporte!D580870,\" \",\"\")","v":""}]
[null,null,{"$f":"SUBSTITUTE(Reporte!D581091,\" \",\"\")","v":""}]
[null,null,{"$f":"SUBSTITUTE(Reporte!D581606,\" \",\"\")","v":""}]
[null,null,{"$f":"SUBSTITUTE(Reporte!D582350,\" \",\"\")","v":""}]
[null,null,{"$f":"SUBSTITUTE(Reporte!D583094,\" \",\"\")","v":""}]
[null,null,{"$f":"SUBSTITUTE(Reporte!D583609,\" \",\"\")","v":""}]
[null,null,{"$f":"SUBSTITUTE(Reporte!D583830,\" \",\"\")","v":""}]
[null,null,{"$f":"SUBSTITUTE(Reporte!D584345,\" \",\"\")","v":""}]
[null,null,{"$f":"SUBSTITUTE(Reporte!D585089,\" \",\"\")","v":""}]
[null,null,{"$f":"SUBSTITUTE(Reporte!D585310,\" \",\"\")","v":""}]
[null,null,{"$f":"SUBSTITUTE(Reporte!D585825,\" \",\"\")","v":""}]
[null,null,{"$f":"SUBSTITUTE(Reporte!D586569,\" \",\"\")","v":""}]
[null,null,{"$f":"SUBSTITUTE(Reporte!D587084,\" \",\"\")","v":""}]
[null,null,{"$f":"SUBSTITUTE(Reporte!D587305,\" \",\"\")","v":""}]
[null,null,{"$f":"SUBSTITUTE(Reporte!D588049,\" \",\"\")","v":""}]
[null,null,{"$f":"SUBSTITUTE(Reporte!D588564,\" \",\"\")","v":""}]
[null,null,{"$f":"SUBSTITUTE(Reporte!D589308,\" \",\"\")","v":""}]
[null,null,{"$f":"SUBSTITUTE(Reporte!D589529,\" \",\"\")","v":""}]
[null,null,{"$f":"SUBSTITUTE(Reporte!D590044,\" \",\"\")","v":""}]
[null,null,{"$f":"SUBSTITUTE(Reporte!D590788,\" \",\"\")","v":""}]
[null,null,{"$f":"SUBSTITUTE(Reporte!D591303,\" \",\"\")","v":""}]
[null,null,{"$f":"SUBSTITUTE(Reporte!D591524,\" \",\"\")","v":""}]
[null,null,{"$f":"SUBSTITUTE(Reporte!D592268,\" \",\"\")","v":""}]
[null,null,{"$f":"SUBSTITUTE(Reporte!D592783,\" \",\"\")","v":""}]
[null,null,{"$f":"SUBSTITUTE(Reporte!D593527,\" \",\"\")","v":""}]
[null,null,{"$f":"SUBSTITUTE(Reporte!D593872,\" \",\"\")","v":""}]
[null,null,{"$f":"SUBSTITUTE(Reporte!D594264,\" \",\"\")","v":""}]
[null,null,{"$f":"SUBSTITUTE(Reporte!D595008,\" \",\"\")","v":""}]
[null,null,{"$f":"SUBSTITUTE(Reporte!D595523,\" \",\"\")","v":""}]
[null,null,{"$f":"SUBSTITUTE(Reporte!D595744,\" \",\"\")","v":""}]
[null,null,{"$f":"SUBSTITUTE(Reporte!D596488,\" \",\"\")","v":""}]
[null,null,{"$f":"SUBSTITUTE(Reporte!D597003,\" \",\"\")","v":""}]
[null,null,{"$f":"SUBSTITUTE(Reporte!D597224,\" \",\"\")","v":""}]
[null,null,{"$f":"SUBSTITUTE(Reporte!D598262,\" \",\"\")","v":""}]
[null,null,{"$f":"SUBSTITUTE(Reporte!D598483,\" \",\"\")","v":""}]
[null,null,{"$f":"SUBSTITUTE(Reporte!D599227,\" \",\"\")","v":""}]
[null,null,{"$f":"SUBSTITUTE(Reporte!D599742,\" \",\"\")","v":""}]
[null,null,{"$f":"SUBSTITUTE(Reporte!D599963,\" \",\"\")","v":""}]
[null,null,{"$f":"SUBSTITUTE(Reporte!D600707,\" \",\"\")","v":""}]
[null,null,{"$f":"SUBSTITUTE(Reporte!D601222,\" \",\"\")","v":""}]
[null,null,{"$f":"SUBSTITUTE(Reporte!D601443,\" \",\"\")","v":""}]
[null,null,{"$f":"SUBSTITUTE(Reporte!D601958,\" \",\"\")","v":""}]
[null,null,{"$f":"SUBSTITUTE(Reporte!D602702,\" \",\"\")","v":""}]
[null,null,{"$f":"SUBSTITUTE(Reporte!D603446,\" \",\"\")","v":""}]
[null,null,{"$f":"SUBSTITUTE(Reporte!D603961,\" \",\"\")","v":""}]
[null,null,{"$f":"SUBSTITUTE(Reporte!D604182,\" \",\"\")","v":""}]
[null,null,{"$f":"SUBSTITUTE(Reporte!D604697,\" \",\"\")","v":""}]
[null,null,{"$f":"SUBSTITUTE(Reporte!D605441,\" \",\"\")","v":""}]
[null,null,{"$f":"SUBSTITUTE(Reporte!D605662,\" \",\"\")","v":""}]
[null,null,{"$f":"SUBSTITUTE(Reporte!D606177,\" \",\"\")","v":""}]
[null,null,{"$f":"SUBSTITUTE(Reporte!D606921,\" \",\"\")","v":""}]
[null,null,{"$f":"SUBSTITUTE(Reporte!D607253,\" \",\"\")","v":""}]
[null,null,{"$f":"SUBSTITUTE(Reporte!D608181,\" \",\"\")","v":""}]
[null,null,{"$f":"SUBSTITUTE(Reporte!D608402,\" \",\"\")","v":""}]
[null,null,{"$f":"SUBSTITUTE(Reporte!D608917,\" \",\"\")","v":""}]
[null,null,{"$f":"SUBSTITUTE(Reporte!D609661,\" \",\"\")","v":""}]
[null,null,{"$f":"SUBSTITUTE(Reporte!D609882,\" \",\"\")","v":""}]
[null,null,{"$f":"SUBSTITUTE(Reporte!D610397,\" \",\"\")","v":""}]
[null,null,{"$f":"SUBSTITUTE(Reporte!D611141,\" \",\"\")","v":""}]
[null,null,{"$f":"SUBSTITUTE(Reporte!D611362,\" \",\"\")","v":""}]
[null,null,{"$f":"SUBSTITUTE(Reporte!D611877,\" \",\"\")","v":""}]
[null,null,{"$f":"SUBSTITUTE(Reporte!D612621,\" \",\"\")","v":""}]
[null,null,{"$f":"SUBSTITUTE(Reporte!D613136,\" \",\"\")","v":""}]
[null,null,{"$f":"SUBSTITUTE(Reporte!D613880,\" \",\"\")","v":""}]
[null,null,{"$f":"SUBSTITUTE(Reporte!D614101,\" \",\"\")","v":""}]
[null,null,{"$f":"SUBSTITUTE(Reporte!D614616,\" \",\"\")","v":""}]
[null,null,{"$f":"SUBSTITUTE(Reporte!D615360,\" \",\"\")","v":""}]
[null,null,{"$f":"SUBSTITUTE(Reporte!D615875,\" \",\"\")","v":""}]
[null,null,{"$f":"SUBSTITUTE(Reporte!D616096,\" \",\"\")","v":""}]
[null,null,{"$f":"SUBSTITUTE(Reporte!D616840,\" \",\"\")","v":""}]
[null,null,{"$f":"SUBSTITUTE(Reporte!D617355,\" \",\"\")","v":""}]
[null,null,{"$f":"SUBSTITUTE(Reporte!D618099,\" \",\"\")","v":""}]
[null,null,{"$f":"SUBSTITUTE(Reporte!D618320,\" \",\"\")","v":""}]
[null,null,{"$f":"SUBSTITUTE(Reporte!D618835,\" \",\"\")","v":""}]
[null,null,{"$f":"SUBSTITUTE(Reporte!D619579,\" \",\"\")","v":""}]
[null,null,{"$f":"SUBSTITUTE(Reporte!D620094,\" \",\"\")","v":""}]
[null,null,{"$f":"SUBSTITUTE(Reporte!D620315,\" \",\"\")","v":""}]
[null,null,{"$f":"SUBSTITUTE(Reporte!D621059,\" \",\"\")","v":""}]
[null,null,{"$f":"SUBSTITUTE(Reporte!D621458,\" \",\"\")","v":""}]
[null,null,{"$f":"SUBSTITUTE(Reporte!D622319,\" \",\"\")","v":""}]
[null,null,{"$f":"SUBSTITUTE(Reporte!D622834,\" \",\"\")","v":""}]
[null,null,{"$f":"SUBSTITUTE(Reporte!D623055,\" \",\"\")","v":""}]
[null,null,{"$f":"SUBSTITUTE(Reporte!D623799,\" \",\"\")","v":""}]
[null,null,{"$f":"SUBSTITUTE(Reporte!D624314,\" \",\"\")","v":""}]
[null,null,{"$f":"SUBSTITUTE(Reporte!D624535,\" \",\"\")","v":""}]
[null,null,{"$f":"SUBSTITUTE(Reporte!D625279,\" \",\"\")","v":""}]
[null,null,{"$f":"SUBSTITUTE(Reporte!D625794,\" \",\"\")","v":""}]
[null,null,{"$f":"SUBSTITUTE(Reporte!D626015,\" \",\"\")","v":""}]
[null,null,{"$f":"SUBSTITUTE(Reporte!D626530,\" \",\"\")","v":""}]
[null,null,{"$f":"SUBSTITUTE(Reporte!D627274,\" \",\"\")","v":""}]
[null,null,{"$f":"SUBSTITUTE(Reporte!D628018,\" \",\"\")","v":""}]
[null,null,{"$f":"SUBSTITUTE(Reporte!D628533,\" \",\"\")","v":""}]
[null,null,{"$f":"SUBSTITUTE(Reporte!D628754,\" \",\"\")","v":""}]
[null,null,{"$f":"SUBSTITUTE(Reporte!D629498,\" \",\"\")","v":""}]
[null,null,{"$f":"SUBSTITUTE(Reporte!D630013,\" \",\"\")","v":""}]
[null,null,{"$f":"SUBSTITUTE(Reporte!D630234,\" \",\"\")","v":""}]
[null,null,{"$f":"SUBSTITUTE(Reporte!D630749,\" \",\"\")","v":""}]
[null,null,{"$f":"SUBSTITUTE(Reporte!D631493,\" \",\"\")","v":""}]
[null,null,{"$f":"SUBSTITUTE(Reporte!D632237,\" \",\"\")","v":""}]
[null,null,{"$f":"SUBSTITUTE(Reporte!D632752,\" \",\"\")","v":""}]
[null,null,{"$f":"SUBSTITUTE(Reporte!D632973,\" \",\"\")","v":""}]
[null,null,{"$f":"SUBSTITUTE(Reporte!D633488,\" \",\"\")","v":""}]
[null,null,{"$f":"SUBSTITUTE(Reporte!D634232,\" \",\"\")","v":""}]
[null,null,{"$f":"SUBSTITUTE(Reporte!D634453,\" \",\"\")","v":""}]
[null,null,{"$f":"SUBSTITUTE(Reporte!D635087,\" \",\"\")","v":""}]
[null,null,{"$f":"SUBSTITUTE(Reporte!D635713,\" \",\"\")","v":""}]
[null,null,{"$f":"SUBSTITUTE(Reporte!D635934,\" \",\"\")","v":""}]
[null,null,{"$f":"SUBSTITUTE(Reporte!D636449,\" \",\"\")","v":""}]
[null,null,{"$f":"SUBSTITUTE(Reporte!D637193,\" \",\"\")","v":""}]
[null,null,{"$f":"SUBSTITUTE(Reporte!D637708,\" \",\"\")","v":""}]
[null,null,{"$f":"SUBSTITUTE(Reporte!D638452,\" \",\"\")","v":""}]
[null,null,{"$f":"SUBSTITUTE(Reporte!D638673,\" \",\"\")","v":""}]
[null,null,{"$f":"SUBSTITUTE(Reporte!D639188,\" \",\"\")","v":""}]
[null,null,{"$f":"SUBSTITUTE(Reporte!D639932,\" \",\"\")","v":""}]
[null,null,{"$f":"SUBSTITUTE(Reporte!D640153,\" \",\"\")","v":""}]
[null,null,{"$f":"SUBSTITUTE(Reporte!D640668,\" \",\"\")","v":""}]
[null,null,{"$f":"SUBSTITUTE(Reporte!D641412,\" \",\"\")","v":""}]
[null,null,{"$f":"SUBSTITUTE(Reporte!D641927,\" \",\"\")","v":""}]
[null,null,{"$f":"SUBSTITUTE(Reporte!D642671,\" \",\"\")","v":""}]
[null,null,{"$f":"SUBSTITUTE(Reporte!D642892,\" \",\"\")","v":""}]
[null,null,{"$f":"SUBSTITUTE(Reporte!D643407,\" \",\"\")","v":""}]
[null,null,{"$f":"SUBSTITUTE(Reporte!D644151,\" \",\"\")","v":""}]
[null,null,{"$f":"SUBSTITUTE(Reporte!D644666,\" \",\"\")","v":""}]
[null,null,{"$f":"SUBSTITUTE(Reporte!D644887,\" \",\"\")","v":""}]
[null,null,{"$f":"SUBSTITUTE(Reporte!D645631,\" \",\"\")","v":""}]
[null,null,{"$f":"SUBSTITUTE(Reporte!D646146,\" \",\"\")","v":""}]
[null,null,{"$f":"SUBSTITUTE(Reporte!D646890,\" \",\"\")","v":""}]
[null,null,{"$f":"SUBSTITUTE(Reporte!D647111,\" \",\"\")","v":""}]
[null,null,{"$f":"SUBSTITUTE(Reporte!D647626,\" \",\"\")","v":""}]
[null,null,{"$f":"SUBSTITUTE(Reporte!D648370,\" \",\"\")","v":""}]
[null,null,{"$f":"SUBSTITUTE(Reporte!D648716,\" \",\"\")","v":""}]
[null,null,{"$f":"SUBSTITUTE(Reporte!D649107,\" \",\"\")","v":""}]
[null,null,{"$f":"SUBSTITUTE(Reporte!D649851,\" \",\"\")","v":""}]
[null,null,{"$f":"SUBSTITUTE(Reporte!D650366,\" \",\"\")","v":""}]
[null,null,{"$f":"SUBSTITUTE(Reporte!D650587,\" \",\"\")","v":""}]
[null,null,{"$f":"SUBSTITUTE(Reporte!D651102,\" \",\"\")","v":""}]
[null,null,{"$f":"SUBSTITUTE(Reporte!D651846,\" \",\"\")","v":""}]
[null,null,{"$f":"SUBSTITUTE(Reporte!D652590,\" \",\"\")","v":""}]
[null,null,{"$f":"SUBSTITUTE(Reporte!D653105,\" \",\"\")","v":""}]
[null,null,{"$f":"SUBSTITUTE(Reporte!D653326,\" \",\"\")","v":""}]
[null,null,{"$f":"SUBSTITUTE(Reporte!D654070,\" \",\"\")","v":""}]
[null,null,{"$f":"SUBSTITUTE(Reporte!D654585,\" \",\"\")","v":""}]
[null,null,{"$f":"SUBSTITUTE(Reporte!D654806,\" \",\"\")","v":""}]
[null,null,{"$f":"SUBSTITUTE(Reporte!D655321,\" \",\"\")","v":""}]
[null,null,{"$f":"SUBSTITUTE(Reporte!D656065,\" \",\"\")","v":""}]
[null,null,{"$f":"SUBSTITUTE(Reporte!D656809,\" \",\"\")","v":""}]
[null,null,{"$f":"SUBSTITUTE(Reporte!D657324,\" \",\"\")","v":""}]
[null,null,{"$f":"SUBSTITUTE(Reporte!D657545,\" \",\"\")","v":""}]
[null,null,{"$f":"SUBSTITUTE(Reporte!D658289,\" \",\"\")","v":""}]
[null,null,{"$f":"SUBSTITUTE(Reporte!D658804,\" \",\"\")","v":""}]
[null,null,{"$f":"SUBSTITUTE(Reporte!D659025,\" \",\"\")","v":""}]
[null,null,{"$f":"SUBSTITUTE(Reporte!D659540,\" \",\"\")","v":""}]
[null,null,{"$f":"SUBSTITUTE(Reporte!D660284,\" \",\"\")","v":""}]
[null,null,{"$f":"SUBSTITUTE(Reporte!D660505,\" \",\"\")","v":""}]
[null,null,{"$f":"SUBSTITUTE(Reporte!D661543,\" \",\"\")","v":""}]
[null,null,{"$f":"SUBSTITUTE(Reporte!D661764,\" \",\"\")","v":""}]
[null,null,{"$f":"SUBSTITUTE(Reporte!D662279,\" \",\"\")","v":""}]
[null,null,{"$f":"SUBSTITUTE(Reporte!D662673,\" \",\"\")","v":""}]
[null,null,{"$f":"SUBSTITUTE(Reporte!D663245,\" \",\"\")","v":""}]
[null,null,{"$f":"SUBSTITUTE(Reporte!D663760,\" \",\"\")","v":""}]
[null,null,{"$f":"SUBSTITUTE(Reporte!D664504,\" \",\"\")","v":""}]
[null,null,{"$f":"SUBSTITUTE(Reporte!D664725,\" \",\"\")","v":""}]
[null,null,{"$f":"SUBSTITUTE(Reporte!D665240,\" \",\"\")","v":""}]
[null,null,{"$f":"SUBSTITUTE(Reporte!D665984,\" \",\"\")","v":""}]
[null,null,{"$f":"SUBSTITUTE(Reporte!D666499,\" \",\"\")","v":""}]
[null,null,{"$f":"SUBSTITUTE(Reporte!D667243,\" \",\"\")","v":""}]
[null,null,{"$f":"SUBSTITUTE(Reporte!D667464,\" \",\"\")","v":""}]
[null,null,{"$f":"SUBSTITUTE(Reporte!D667979,\" \",\"\")","v":""}]
[null,null,{"$f":"SUBSTITUTE(Reporte!D668723,\" \",\"\")","v":""}]
[null,null,{"$f":"SUBSTITUTE(Reporte!D669238,\" \",\"\")","v":""}]
[null,null,{"$f":"SUBSTITUTE(Reporte!D669459,\" \",\"\")","v":""}]
[null,null,{"$f":"SUBSTITUTE(Reporte!D670203,\" \",\"\")","v":""}]
[null,null,{"$f":"SUBSTITUTE(Reporte!D670718,\" \",\"\")","v":""}]
[null,null,{"$f":"SUBSTITUTE(Reporte!D671462,\" \",\"\")","v":""}]
[null,null,{"$f":"SUBSTITUTE(Reporte!D671683,\" \",\"\")","v":""}]
[null,null,{"$f":"SUBSTITUTE(Reporte!D672198,\" \",\"\")","v":""}]
[null,null,{"$f":"SUBSTITUTE(Reporte!D672942,\" \",\"\")","v":""}]
[null,null,{"$f":"SUBSTITUTE(Reporte!D673457,\" \",\"\")","v":""}]
[null,null,{"$f":"SUBSTITUTE(Reporte!D673678,\" \",\"\")","v":""}]
[null,null,{"$f":"SUBSTITUTE(Reporte!D674422,\" \",\"\")","v":""}]
[null,null,{"$f":"SUBSTITUTE(Reporte!D674937,\" \",\"\")","v":""}]
[null,null,{"$f":"SUBSTITUTE(Reporte!D675158,\" \",\"\")","v":""}]
[null,null,{"$f":"SUBSTITUTE(Reporte!D675902,\" \",\"\")","v":""}]
[null,null,{"$f":"SUBSTITUTE(Reporte!D676302,\" \",\"\")","v":""}]
[null,null,{"$f":"SUBSTITUTE(Reporte!D677162,\" \",\"\")","v":""}]
[null,null,{"$f":"SUBSTITUTE(Reporte!D677677,\" \",\"\")","v":""}]
[null,null,{"$f":"SUBSTITUTE(Reporte!D677898,\" \",\"\")","v":""}]
[null,null,{"$f":"SUBSTITUTE(Reporte!D678642,\" \",\"\")","v":""}]
[null,null,{"$f":"SUBSTITUTE(Reporte!D679157,\" \",\"\")","v":""}]
[null,null,{"$f":"SUBSTITUTE(Reporte!D679378,\" \",\"\")","v":""}]
[null,null,{"$f":"SUBSTITUTE(Reporte!D679893,\" \",\"\")","v":""}]
[null,null,{"$f":"SUBSTITUTE(Reporte!D680637,\" \",\"\")","v":""}]
[null,null,{"$f":"SUBSTITUTE(Reporte!D681381,\" \",\"\")","v":""}]
[null,null,{"$f":"SUBSTITUTE(Reporte!D681896,\" \",\"\")","v":""}]
[null,null,{"$f":"SUBSTITUTE(Reporte!D682117,\" \",\"\")","v":""}]
[null,null,{"$f":"SUBSTITUTE(Reporte!D682861,\" \",\"\")","v":""}]
[null,null,{"$f":"SUBSTITUTE(Reporte!D683376,\" \",\"\")","v":""}]
[null,null,{"$f":"SUBSTITUTE(Reporte!D683597,\" \",\"\")","v":""}]
[null,null,{"$f":"SUBSTITUTE(Reporte!D684112,\" \",\"\")","v":""}]
[null,null,{"$f":"SUBSTITUTE(Reporte!D684856,\" \",\"\")","v":""}]
[null,null,{"$f":"SUBSTITUTE(Reporte!D685600,\" \",\"\")","v":""}]
[null,null,{"$f":"SUBSTITUTE(Reporte!D686115,\" \",\"\")","v":""}]
[null,null,{"$f":"SUBSTITUTE(Reporte!D686336,\" \",\"\")","v":""}]
[null,null,{"$f":"SUBSTITUTE(Reporte!D687080,\" \",\"\")","v":""}]
[null,null,{"$f":"SUBSTITUTE(Reporte!D687595,\" \",\"\")","v":""}]
[null,null,{"$f":"SUBSTITUTE(Reporte!D687816,\" \",\"\")","v":""}]
[null,null,{"$f":"SUBSTITUTE(Reporte!D688331,\" \",\"\")","v":""}]
[null,null,{"$f":"SUBSTITUTE(Reporte!D689075,\" \",\"\")","v":""}]
[null,null,{"$f":"SUBSTITUTE(Reporte!D689296,\" \",\"\")","v":""}]
[null,null,{"$f":"SUBSTITUTE(Reporte!D689931,\" \",\"\")","v":""}]
[null,null,{"$f":"SUBSTITUTE(Reporte!D690556,\" \",\"\")","v":""}]
[null,null,{"$f":"SUBSTITUTE(Reporte!D691071,\" \",\"\")","v":""}]
[null,null,{"$f":"SUBSTITUTE(Reporte!D691815,\" \",\"\")","v":""}]
[null,null,{"$f":"SUBSTITUTE(Reporte!D692036,\" \",\"\")","v":""}]
[null,null,{"$f":"SUBSTITUTE(Reporte!D692551,\" \",\"\")","v":""}]
[null,null,{"$f":"SUBSTITUTE(Reporte!D693295,\" \",\"\")","v":""}]
[null,null,{"$f":"SUBSTITUTE(Reporte!D693516,\" \",\"\")","v":""}]
[null,null,{"$f":"SUBSTITUTE(Reporte!D694031,\" \",\"\")","v":""}]
[null,null,{"$f":"SUBSTITUTE(Reporte!D694775,\" \",\"\")","v":""}]
[null,null,{"$f":"SUBSTITUTE(Reporte!D695290,\" \",\"\")","v":""}]
[null,null,{"$f":"SUBSTITUTE(Reporte!D696034,\" \",\"\")","v":""}]
[null,null,{"$f":"SUBSTITUTE(Reporte!D696255,\" \",\"\")","v":""}]
[null,null,{"$f":"SUBSTITUTE(Reporte!D696770,\" \",\"\")","v":""}]
[null,null,{"$f":"SUBSTITUTE(Reporte!D697514,\" \",\"\")","v":""}]
[null,null,{"$f":"SUBSTITUTE(Reporte!D698029,\" \",\"\")","v":""}]
[null,null,{"$f":"SUBSTITUTE(Reporte!D698250,\" \",\"\")","v":""}]
[null,null,{"$f":"SUBSTITUTE(Reporte!D698994,\" \",\"\")","v":""}]
[null,null,{"$f":"SUBSTITUTE(Reporte!D699509,\" \",\"\")","v":""}]
[null,null,{"$f":"SUBSTITUTE(Reporte!D700253,\" \",\"\")","v":""}]
[null,null,{"$f":"SUBSTITUTE(Reporte!D700474,\" \",\"\")","v":""}]
[null,null,{"$f":"SUBSTITUTE(Reporte!D700989,\" \",\"\")","v":""}]
[null,null,{"$f":"SUBSTITUTE(Reporte!D701733,\" \",\"\")","v":""}]
[null,null,{"$f":"SUBSTITUTE(Reporte!D702248,\" \",\"\")","v":""}]
[null,null,{"$f":"SUBSTITUTE(Reporte!D702469,\" \",\"\")","v":""}]
[null,null,{"$f":"SUBSTITUTE(Reporte!D703213,\" \",\"\")","v":""}]
[null,null,{"$f":"SUBSTITUTE(Reporte!D703728,\" \",\"\")","v":""}]
[null,null,{"$f":"SUBSTITUTE(Reporte!D704412,\" \",\"\")","v":""}]
[null,null,{"$f":"SUBSTITUTE(Reporte!D704694,\" \",\"\")","v":""}]
[null,null,{"$f":"SUBSTITUTE(Reporte!D705209,\" \",\"\")","v":""}]
[null,null,{"$f":"SUBSTITUTE(Reporte!D705953,\" \",\"\")","v":""}]
[null,null,{"$f":"SUBSTITUTE(Reporte!D706468,\" \",\"\")","v":""}]
[null,null,{"$f":"SUBSTITUTE(Reporte!D706689,\" \",\"\")","v":""}]
[null,null,{"$f":"SUBSTITUTE(Reporte!D707433,\" \",\"\")","v":""}]
[null,null,{"$f":"SUBSTITUTE(Reporte!D707948,\" \",\"\")","v":""}]
[null,null,{"$f":"SUBSTITUTE(Reporte!D708169,\" \",\"\")","v":""}]
[null,null,{"$f":"SUBSTITUTE(Reporte!D708684,\" \",\"\")","v":""}]
[null,null,{"$f":"SUBSTITUTE(Reporte!D709428,\" \",\"\")","v":""}]
[null,null,{"$f":"SUBSTITUTE(Reporte!D710172,\" \",\"\")","v":""}]
[null,null,{"$f":"SUBSTITUTE(Reporte!D710687,\" \",\"\")","v":""}]
[null,null,{"$f":"SUBSTITUTE(Reporte!D710908,\" \",\"\")","v":""}]
[null,null,{"$f":"SUBSTITUTE(Reporte!D711652,\" \",\"\")","v":""}]
[null,null,{"$f":"SUBSTITUTE(Reporte!D712167,\" \",\"\")","v":""}]
[null,null,{"$f":"SUBSTITUTE(Reporte!D712388,\" \",\"\")","v":""}]
[null,null,{"$f":"SUBSTITUTE(Reporte!D712903,\" \",\"\")","v":""}]
[null,null,{"$f":"SUBSTITUTE(Reporte!D713647,\" \",\"\")","v":""}]
[null,null,{"$f":"SUBSTITUTE(Reporte!D713868,\" \",\"\")","v":""}]
[null,null,{"$f":"SUBSTITUTE(Reporte!D714383,\" \",\"\")","v":""}]
[null,null,{"$f":"SUBSTITUTE(Reporte!D715127,\" \",\"\")","v":""}]
[null,null,{"$f":"SUBSTITUTE(Reporte!D715642,\" \",\"\")","v":""}]
[null,null,{"$f":"SUBSTITUTE(Reporte!D716386,\" \",\"\")","v":""}]
[null,null,{"$f":"SUBSTITUTE(Reporte!D716607,\" \",\"\")","v":""}]
[null,null,{"$f":"SUBSTITUTE(Reporte!D717122,\" \",\"\")","v":""}]
[null,null,{"$f":"SUBSTITUTE(Reporte!D717517,\" \",\"\")","v":""}]
[null,null,{"$f":"SUBSTITUTE(Reporte!D718088,\" \",\"\")","v":""}]
[null,null,{"$f":"SUBSTITUTE(Reporte!D718603,\" \",\"\")","v":""}]
[null,null,{"$f":"SUBSTITUTE(Reporte!D719347,\" \",\"\")","v":""}]
[null,null,{"$f":"SUBSTITUTE(Reporte!D719862,\" \",\"\")","v":""}]
[null,null,{"$f":"SUBSTITUTE(Reporte!D720606,\" \",\"\")","v":""}]
[null,null,{"$f":"SUBSTITUTE(Reporte!D720827,\" \",\"\")","v":""}]
[null,null,{"$f":"SUBSTITUTE(Reporte!D721342,\" \",\"\")","v":""}]
[null,null,{"$f":"SUBSTITUTE(Reporte!D722086,\" \",\"\")","v":""}]
[null,null,{"$f":"SUBSTITUTE(Reporte!D722307,\" \",\"\")","v":""}]
[null,null,{"$f":"SUBSTITUTE(Reporte!D722822,\" \",\"\")","v":""}]
[null,null,{"$f":"SUBSTITUTE(Reporte!D723566,\" \",\"\")","v":""}]
[null,null,{"$f":"SUBSTITUTE(Reporte!D724081,\" \",\"\")","v":""}]
[null,null,{"$f":"SUBSTITUTE(Reporte!D724825,\" \",\"\")","v":""}]
[null,null,{"$f":"SUBSTITUTE(Reporte!D725046,\" \",\"\")","v":""}]
[null,null,{"$f":"SUBSTITUTE(Reporte!D725561,\" \",\"\")","v":""}]
[null,null,{"$f":"SUBSTITUTE(Reporte!D726305,\" \",\"\")","v":""}]
[null,null,{"$f":"SUBSTITUTE(Reporte!D726820,\" \",\"\")","v":""}]
[null,null,{"$f":"SUBSTITUTE(Reporte!D727041,\" \",\"\")","v":""}]
[null,null,{"$f":"SUBSTITUTE(Reporte!D727785,\" \",\"\")","v":""}]
[null,null,{"$f":"SUBSTITUTE(Reporte!D728300,\" \",\"\")","v":""}]
[null,null,{"$f":"SUBSTITUTE(Reporte!D728521,\" \",\"\")","v":""}]
[null,null,{"$f":"SUBSTITUTE(Reporte!D729265,\" \",\"\")","v":""}]
[null,null,{"$f":"SUBSTITUTE(Reporte!D729780,\" \",\"\")","v":""}]
[null,null,{"$f":"SUBSTITUTE(Reporte!D730524,\" \",\"\")","v":""}]
[null,null,{"$f":"SUBSTITUTE(Reporte!D731039,\" \",\"\")","v":""}]
[null,null,{"$f":"SUBSTITUTE(Reporte!D731146,\" \",\"\")","v":""}]
[null,null,{"$f":"SUBSTITUTE(Reporte!D732005,\" \",\"\")","v":""}]
[null,null,{"$f":"SUBSTITUTE(Reporte!D732520,\" \",\"\")","v":""}]
[null,null,{"$f":"SUBSTITUTE(Reporte!D732741,\" \",\"\")","v":""}]
[null,null,{"$f":"SUBSTITUTE(Reporte!D733485,\" \",\"\")","v":""}]
[null,null,{"$f":"SUBSTITUTE(Reporte!D734000,\" \",\"\")","v":""}]
[null,null,{"$f":"SUBSTITUTE(Reporte!D734744,\" \",\"\")","v":""}]
[null,null,{"$f":"SUBSTITUTE(Reporte!D735259,\" \",\"\")","v":""}]
[null,null,{"$f":"SUBSTITUTE(Reporte!D735480,\" \",\"\")","v":""}]
[null,null,{"$f":"SUBSTITUTE(Reporte!D736224,\" \",\"\")","v":""}]
[null,null,{"$f":"SUBSTITUTE(Reporte!D736739,\" \",\"\")","v":""}]
[null,null,{"$f":"SUBSTITUTE(Reporte!D736960,\" \",\"\")","v":""}]
[null,null,{"$f":"SUBSTITUTE(Reporte!D737475,\" \",\"\")","v":""}]
[null,null,{"$f":"SUBSTITUTE(Reporte!D738219,\" \",\"\")","v":""}]
[null,null,{"$f":"SUBSTITUTE(Reporte!D738440,\" \",\"\")","v":""}]
[null,null,{"$f":"SUBSTITUTE(Reporte!D739478,\" \",\"\")","v":""}]
[null,null,{"$f":"SUBSTITUTE(Reporte!D739699,\" \",\"\")","v":""}]
[null,null,{"$f":"SUBSTITUTE(Reporte!D740443,\" \",\"\")","v":""}]
[null,null,{"$f":"SUBSTITUTE(Reporte!D740958,\" \",\"\")","v":""}]
[null,null,{"$f":"SUBSTITUTE(Reporte!D741179,\" \",\"\")","v":""}]
[null,null,{"$f":"SUBSTITUTE(Reporte!D741694,\" \",\"\")","v":""}]
[null,null,{"$f":"SUBSTITUTE(Reporte!D742438,\" \",\"\")","v":""}]
[null,null,{"$f":"SUBSTITUTE(Reporte!D742659,\" \",\"\")","v":""}]
[null,null,{"$f":"SUBSTITUTE(Reporte!D743174,\" \",\"\")","v":""}]
[null,null,{"$f":"SUBSTITUTE(Reporte!D743918,\" \",\"\")","v":""}]
[null,null,{"$f":"SUBSTITUTE(Reporte!D744433,\" \",\"\")","v":""}]
[null,null,{"$f":"SUBSTITUTE(Reporte!D745177,\" \",\"\")","v":""}]
[null,null,{"$f":"SUBSTITUTE(Reporte!D745627,\" \",\"\")","v":""}]
[null,null,{"$f":"SUBSTITUTE(Reporte!D745914,\" \",\"\")","v":""}]
[null,null,{"$f":"SUBSTITUTE(Reporte!D746658,\" \",\"\")","v":""}]
[null,null,{"$f":"SUBSTITUTE(Reporte!D746879,\" \",\"\")","v":""}]
[null,null,{"$f":"SUBSTITUTE(Reporte!D747394,\" \",\"\")","v":""}]
[null,null,{"$f":"SUBSTITUTE(Reporte!D748138,\" \",\"\")","v":""}]
[null,null,{"$f":"SUBSTITUTE(Reporte!D748653,\" \",\"\")","v":""}]
[null,null,{"$f":"SUBSTITUTE(Reporte!D749397,\" \",\"\")","v":""}]
[null,null,{"$f":"SUBSTITUTE(Reporte!D749618,\" \",\"\")","v":""}]
[null,null,{"$f":"SUBSTITUTE(Reporte!D750133,\" \",\"\")","v":""}]
[null,null,{"$f":"SUBSTITUTE(Reporte!D750877,\" \",\"\")","v":""}]
[null,null,{"$f":"SUBSTITUTE(Reporte!D751098,\" \",\"\")","v":""}]
[null,null,{"$f":"SUBSTITUTE(Reporte!D751613,\" \",\"\")","v":""}]
[null,null,{"$f":"SUBSTITUTE(Reporte!D752357,\" \",\"\")","v":""}]
[null,null,{"$f":"SUBSTITUTE(Reporte!D752872,\" \",\"\")","v":""}]
[null,null,{"$f":"SUBSTITUTE(Reporte!D753093,\" \",\"\")","v":""}]
[null,null,{"$f":"SUBSTITUTE(Reporte!D753837,\" \",\"\")","v":""}]
[null,null,{"$f":"SUBSTITUTE(Reporte!D754352,\" \",\"\")","v":""}]
[null,null,{"$f":"SUBSTITUTE(Reporte!D755096,\" \",\"\")","v":""}]
[null,null,{"$f":"SUBSTITUTE(Reporte!D755611,\" \",\"\")","v":""}]
[null,null,{"$f":"SUBSTITUTE(Reporte!D755832,\" \",\"\")","v":""}]
[null,null,{"$f":"SUBSTITUTE(Reporte!D756576,\" \",\"\")","v":""}]
[null,null,{"$f":"SUBSTITUTE(Reporte!D757091,\" \",\"\")","v":""}]
[null,null,{"$f":"SUBSTITUTE(Reporte!D757312,\" \",\"\")","v":""}]
[null,null,{"$f":"SUBSTITUTE(Reporte!D758056,\" \",\"\")","v":""}]
[null,null,{"$f":"SUBSTITUTE(Reporte!D758571,\" \",\"\")","v":""}]
[null,null,{"$f":"SUBSTITUTE(Reporte!D759256,\" \",\"\")","v":""}]
[null,null,{"$f":"SUBSTITUTE(Reporte!D759831,\" \",\"\")","v":""}]
[null,null,{"$f":"SUBSTITUTE(Reporte!D760052,\" \",\"\")","v":""}]
[null,null,{"$f":"SUBSTITUTE(Reporte!D760796,\" \",\"\")","v":""}]
[null,null,{"$f":"SUBSTITUTE(Reporte!D761311,\" \",\"\")","v":""}]
[null,null,{"$f":"SUBSTITUTE(Reporte!D761532,\" \",\"\")","v":""}]
[null,null,{"$f":"SUBSTITUTE(Reporte!D762276,\" \",\"\")","v":""}]
[null,null,{"$f":"SUBSTITUTE(Reporte!D762791,\" \",\"\")","v":""}]
[null,null,{"$f":"SUBSTITUTE(Reporte!D763535,\" \",\"\")","v":""}]
[null,null,{"$f":"SUBSTITUTE(Reporte!D764050,\" \",\"\")","v":""}]
[null,null,{"$f":"SUBSTITUTE(Reporte!D764271,\" \",\"\")","v":""}]
[null,null,{"$f":"SUBSTITUTE(Reporte!D765015,\" \",\"\")","v":""}]
[null,null,{"$f":"SUBSTITUTE(Reporte!D765530,\" \",\"\")","v":""}]
[null,null,{"$f":"SUBSTITUTE(Reporte!D765751,\" \",\"\")","v":""}]
[null,null,{"$f":"SUBSTITUTE(Reporte!D766266,\" \",\"\")","v":""}]
[null,null,{"$f":"SUBSTITUTE(Reporte!D767010,\" \",\"\")","v":""}]
[null,null,{"$f":"SUBSTITUTE(Reporte!D767231,\" \",\"\")","v":""}]
[null,null,{"$f":"SUBSTITUTE(Reporte!D767746,\" \",\"\")","v":""}]
[null,null,{"$f":"SUBSTITUTE(Reporte!D768490,\" \",\"\")","v":""}]
[null,null,{"$f":"SUBSTITUTE(Reporte!D769234,\" \",\"\")","v":""}]
[null,null,{"$f":"SUBSTITUTE(Reporte!D769749,\" \",\"\")","v":""}]
[null,null,{"$f":"SUBSTITUTE(Reporte!D769970,\" \",\"\")","v":""}]
[null,null,{"$f":"SUBSTITUTE(Reporte!D770485,\" \",\"\")","v":""}]
[null,null,{"$f":"SUBSTITUTE(Reporte!D771229,\" \",\"\")","v":""}]
[null,null,{"$f":"SUBSTITUTE(Reporte!D771450,\" \",\"\")","v":""}]
[null,null,{"$f":"SUBSTITUTE(Reporte!D771965,\" \",\"\")","v":""}]
[null,null,{"$f":"SUBSTITUTE(Reporte!D772885,\" \",\"\")","v":""}]
[null,null,{"$f":"SUBSTITUTE(Reporte!D773225,\" \",\"\")","v":""}]
[null,null,{"$f":"SUBSTITUTE(Reporte!D773969,\" \",\"\")","v":""}]
[null,null,{"$f":"SUBSTITUTE(Reporte!D774190,\" \",\"\")","v":""}]
[null,null,{"$f":"SUBSTITUTE(Reporte!D774705,\" \",\"\")","v":""}]
[null,null,{"$f":"SUBSTITUTE(Reporte!D775449,\" \",\"\")","v":""}]
[null,null,{"$f":"SUBSTITUTE(Reporte!D775670,\" \",\"\")","v":""}]
[null,null,{"$f":"SUBSTITUTE(Reporte!D776185,\" \",\"\")","v":""}]
[null,null,{"$f":"SUBSTITUTE(Reporte!D776929,\" \",\"\")","v":""}]
[null,null,{"$f":"SUBSTITUTE(Reporte!D777444,\" \",\"\")","v":""}]
[null,null,{"$f":"SUBSTITUTE(Reporte!D778188,\" \",\"\")","v":""}]
[null,null,{"$f":"SUBSTITUTE(Reporte!D778409,\" \",\"\")","v":""}]
[null,null,{"$f":"SUBSTITUTE(Reporte!D778924,\" \",\"\")","v":""}]
[null,null,{"$f":"SUBSTITUTE(Reporte!D779668,\" \",\"\")","v":""}]
[null,null,{"$f":"SUBSTITUTE(Reporte!D779889,\" \",\"\")","v":""}]
[null,null,{"$f":"SUBSTITUTE(Reporte!D780404,\" \",\"\")","v":""}]
[null,null,{"$f":"SUBSTITUTE(Reporte!D781148,\" \",\"\")","v":""}]
[null,null,{"$f":"SUBSTITUTE(Reporte!D781663,\" \",\"\")","v":""}]
[null,null,{"$f":"SUBSTITUTE(Reporte!D781884,\" \",\"\")","v":""}]
[null,null,{"$f":"SUBSTITUTE(Reporte!D782628,\" \",\"\")","v":""}]
[null,null,{"$f":"SUBSTITUTE(Reporte!D783143,\" \",\"\")","v":""}]
[null,null,{"$f":"SUBSTITUTE(Reporte!D783887,\" \",\"\")","v":""}]
[null,null,{"$f":"SUBSTITUTE(Reporte!D784402,\" \",\"\")","v":""}]
[null,null,{"$f":"SUBSTITUTE(Reporte!D784623,\" \",\"\")","v":""}]
[null,null,{"$f":"SUBSTITUTE(Reporte!D785367,\" \",\"\")","v":""}]
[null,null,{"$f":"SUBSTITUTE(Reporte!D785882,\" \",\"\")","v":""}]
[null,null,{"$f":"SUBSTITUTE(Reporte!D786514,\" \",\"\")","v":""}]
[null,null,{"$f":"SUBSTITUTE(Reporte!D786848,\" \",\"\")","v":""}]
[null,null,{"$f":"SUBSTITUTE(Reporte!D787363,\" \",\"\")","v":""}]
[null,null,{"$f":"SUBSTITUTE(Reporte!D788107,\" \",\"\")","v":""}]
[null,null,{"$f":"SUBSTITUTE(Reporte!D788622,\" \",\"\")","v":""}]
[null,null,{"$f":"SUBSTITUTE(Reporte!D788843,\" \",\"\")","v":""}]
[null,null,{"$f":"SUBSTITUTE(Reporte!D789587,\" \",\"\")","v":""}]
[null,null,{"$f":"SUBSTITUTE(Reporte!D790102,\" \",\"\")","v":""}]
[null,null,{"$f":"SUBSTITUTE(Reporte!D790323,\" \",\"\")","v":""}]
[null,null,{"$f":"SUBSTITUTE(Reporte!D790838,\" \",\"\")","v":""}]
[null,null,{"$f":"SUBSTITUTE(Reporte!D791582,\" \",\"\")","v":""}]
[null,null,{"$f":"SUBSTITUTE(Reporte!D791803,\" \",\"\")","v":""}]
[null,null,{"$f":"SUBSTITUTE(Reporte!D792318,\" \",\"\")","v":""}]
[null,null,{"$f":"SUBSTITUTE(Reporte!D793062,\" \",\"\")","v":""}]
[null,null,{"$f":"SUBSTITUTE(Reporte!D793806,\" \",\"\")","v":""}]
[null,null,{"$f":"SUBSTITUTE(Reporte!D794321,\" \",\"\")","v":""}]
[null,null,{"$f":"SUBSTITUTE(Reporte!D794542,\" \",\"\")","v":""}]
[null,null,{"$f":"SUBSTITUTE(Reporte!D795057,\" \",\"\")","v":""}]
[null,null,{"$f":"SUBSTITUTE(Reporte!D795801,\" \",\"\")","v":""}]
[null,null,{"$f":"SUBSTITUTE(Reporte!D796022,\" \",\"\")","v":""}]
[null,null,{"$f":"SUBSTITUTE(Reporte!D796537,\" \",\"\")","v":""}]
[null,null,{"$f":"SUBSTITUTE(Reporte!D797281,\" \",\"\")","v":""}]
[null,null,{"$f":"SUBSTITUTE(Reporte!D798025,\" \",\"\")","v":""}]
[null,null,{"$f":"SUBSTITUTE(Reporte!D798540,\" \",\"\")","v":""}]
[null,null,{"$f":"SUBSTITUTE(Reporte!D798761,\" \",\"\")","v":""}]
[null,null,{"$f":"SUBSTITUTE(Reporte!D799276,\" \",\"\")","v":""}]
[null,null,{"$f":"SUBSTITUTE(Reporte!D800020,\" \",\"\")","v":""}]
[null,null,{"$f":"SUBSTITUTE(Reporte!D800471,\" \",\"\")","v":""}]
[null,null,{"$f":"SUBSTITUTE(Reporte!D800757,\" \",\"\")","v":""}]
[null,null,{"$f":"SUBSTITUTE(Reporte!D801501,\" \",\"\")","v":""}]
[null,null,{"$f":"SUBSTITUTE(Reporte!D802016,\" \",\"\")","v":""}]
[null,null,{"$f":"SUBSTITUTE(Reporte!D802760,\" \",\"\")","v":""}]
[null,null,{"$f":"SUBSTITUTE(Reporte!D802981,\" \",\"\")","v":""}]
[null,null,{"$f":"SUBSTITUTE(Reporte!D803496,\" \",\"\")","v":""}]
[null,null,{"$f":"SUBSTITUTE(Reporte!D804240,\" \",\"\")","v":""}]
[null,null,{"$f":"SUBSTITUTE(Reporte!D804461,\" \",\"\")","v":""}]
[null,null,{"$f":"SUBSTITUTE(Reporte!D804976,\" \",\"\")","v":""}]
[null,null,{"$f":"SUBSTITUTE(Reporte!D805720,\" \",\"\")","v":""}]
[null,null,{"$f":"SUBSTITUTE(Reporte!D806235,\" \",\"\")","v":""}]
[null,null,{"$f":"SUBSTITUTE(Reporte!D806456,\" \",\"\")","v":""}]
[null,null,{"$f":"SUBSTITUTE(Reporte!D807200,\" \",\"\")","v":""}]
[null,null,{"$f":"SUBSTITUTE(Reporte!D807715,\" \",\"\")","v":""}]
[null,null,{"$f":"SUBSTITUTE(Reporte!D808459,\" \",\"\")","v":""}]
[null,null,{"$f":"SUBSTITUTE(Reporte!D808680,\" \",\"\")","v":""}]
[null,null,{"$f":"SUBSTITUTE(Reporte!D809195,\" \",\"\")","v":""}]
[null,null,{"$f":"SUBSTITUTE(Reporte!D809939,\" \",\"\")","v":""}]
[null,null,{"$f":"SUBSTITUTE(Reporte!D810454,\" \",\"\")","v":""}]
[null,null,{"$f":"SUBSTITUTE(Reporte!D810675,\" \",\"\")","v":""}]
[null,null,{"$f":"SUBSTITUTE(Reporte!D811419,\" \",\"\")","v":""}]
[null,null,{"$f":"SUBSTITUTE(Reporte!D811934,\" \",\"\")","v":""}]
[null,null,{"$f":"SUBSTITUTE(Reporte!D812678,\" \",\"\")","v":""}]
[null,null,{"$f":"SUBSTITUTE(Reporte!D813193,\" \",\"\")","v":""}]
[null,null,{"$f":"SUBSTITUTE(Reporte!D813414,\" \",\"\")","v":""}]
[null,null,{"$f":"SUBSTITUTE(Reporte!D814100,\" \",\"\")","v":""}]
[null,null,{"$f":"SUBSTITUTE(Reporte!D814674,\" \",\"\")","v":""}]
[null,null,{"$f":"SUBSTITUTE(Reporte!D814895,\" \",\"\")","v":""}]
[null,null,{"$f":"SUBSTITUTE(Reporte!D815639,\" \",\"\")","v":""}]
[null,null,{"$f":"SUBSTITUTE(Reporte!D816154,\" \",\"\")","v":""}]
[null,null,{"$f":"SUBSTITUTE(Reporte!D816375,\" \",\"\")","v":""}]
[null,null,{"$f":"SUBSTITUTE(Reporte!D817413,\" \",\"\")","v":""}]
[null,null,{"$f":"SUBSTITUTE(Reporte!D817634,\" \",\"\")","v":""}]
[null,null,{"$f":"SUBSTITUTE(Reporte!D818378,\" \",\"\")","v":""}]
[null,null,{"$f":"SUBSTITUTE(Reporte!D818893,\" \",\"\")","v":""}]
[null,null,{"$f":"SUBSTITUTE(Reporte!D819114,\" \",\"\")","v":""}]
[null,null,{"$f":"SUBSTITUTE(Reporte!D819629,\" \",\"\")","v":""}]
[null,null,{"$f":"SUBSTITUTE(Reporte!D820373,\" \",\"\")","v":""}]
[null,null,{"$f":"SUBSTITUTE(Reporte!D820594,\" \",\"\")","v":""}]
[null,null,{"$f":"SUBSTITUTE(Reporte!D821109,\" \",\"\")","v":""}]
[null,null,{"$f":"SUBSTITUTE(Reporte!D821853,\" \",\"\")","v":""}]
[null,null,{"$f":"SUBSTITUTE(Reporte!D822597,\" \",\"\")","v":""}]
[null,null,{"$f":"SUBSTITUTE(Reporte!D823112,\" \",\"\")","v":""}]
[null,null,{"$f":"SUBSTITUTE(Reporte!D823333,\" \",\"\")","v":""}]
[null,null,{"$f":"SUBSTITUTE(Reporte!D823848,\" \",\"\")","v":""}]
[null,null,{"$f":"SUBSTITUTE(Reporte!D824592,\" \",\"\")","v":""}]
[null,null,{"$f":"SUBSTITUTE(Reporte!D824813,\" \",\"\")","v":""}]
[null,null,{"$f":"SUBSTITUTE(Reporte!D825328,\" \",\"\")","v":""}]
[null,null,{"$f":"SUBSTITUTE(Reporte!D826072,\" \",\"\")","v":""}]
[null,null,{"$f":"SUBSTITUTE(Reporte!D826816,\" \",\"\")","v":""}]
[null,null,{"$f":"SUBSTITUTE(Reporte!D827331,\" \",\"\")","v":""}]
[null,null,{"$f":"SUBSTITUTE(Reporte!D827729,\" \",\"\")","v":""}]
[null,null,{"$f":"SUBSTITUTE(Reporte!D828068,\" \",\"\")","v":""}]
[null,null,{"$f":"SUBSTITUTE(Reporte!D828812,\" \",\"\")","v":""}]
[null,null,{"$f":"SUBSTITUTE(Reporte!D829033,\" \",\"\")","v":""}]
[null,null,{"$f":"SUBSTITUTE(Reporte!D829548,\" \",\"\")","v":""}]
[null,null,{"$f":"SUBSTITUTE(Reporte!D830292,\" \",\"\")","v":""}]
[null,null,{"$f":"SUBSTITUTE(Reporte!D830807,\" \",\"\")","v":""}]
[null,null,{"$f":"SUBSTITUTE(Reporte!D831028,\" \",\"\")","v":""}]
[null,null,{"$f":"SUBSTITUTE(Reporte!D831772,\" \",\"\")","v":""}]
[null,null,{"$f":"SUBSTITUTE(Reporte!D832287,\" \",\"\")","v":""}]
[null,null,{"$f":"SUBSTITUTE(Reporte!D833031,\" \",\"\")","v":""}]
[null,null,{"$f":"SUBSTITUTE(Reporte!D833252,\" \",\"\")","v":""}]
[null,null,{"$f":"SUBSTITUTE(Reporte!D833767,\" \",\"\")","v":""}]
[null,null,{"$f":"SUBSTITUTE(Reporte!D834511,\" \",\"\")","v":""}]
[null,null,{"$f":"SUBSTITUTE(Reporte!D835026,\" \",\"\")","v":""}]
[null,null,{"$f":"SUBSTITUTE(Reporte!D835247,\" \",\"\")","v":""}]
[null,null,{"$f":"SUBSTITUTE(Reporte!D835991,\" \",\"\")","v":""}]
[null,null,{"$f":"SUBSTITUTE(Reporte!D836506,\" \",\"\")","v":""}]
[null,null,{"$f":"SUBSTITUTE(Reporte!D837250,\" \",\"\")","v":""}]
[null,null,{"$f":"SUBSTITUTE(Reporte!D837471,\" \",\"\")","v":""}]
[null,null,{"$f":"SUBSTITUTE(Reporte!D837986,\" \",\"\")","v":""}]
[null,null,{"$f":"SUBSTITUTE(Reporte!D838730,\" \",\"\")","v":""}]
[null,null,{"$f":"SUBSTITUTE(Reporte!D839245,\" \",\"\")","v":""}]
[null,null,{"$f":"SUBSTITUTE(Reporte!D839466,\" \",\"\")","v":""}]
[null,null,{"$f":"SUBSTITUTE(Reporte!D840210,\" \",\"\")","v":""}]
[null,null,{"$f":"SUBSTITUTE(Reporte!D840725,\" \",\"\")","v":""}]
[null,null,{"$f":"SUBSTITUTE(Reporte!D841469,\" \",\"\")","v":""}]
[null,null,{"$f":"SUBSTITUTE(Reporte!D841934,\" \",\"\")","v":""}]
[null,null,{"$f":"SUBSTITUTE(Reporte!D842206,\" \",\"\")","v":""}]
[null,null,{"$f":"SUBSTITUTE(Reporte!D842950,\" \",\"\")","v":""}]
[null,null,{"$f":"SUBSTITUTE(Reporte!D843465,\" \",\"\")","v":""}]
[null,null,{"$f":"SUBSTITUTE(Reporte!D843686,\" \",\"\")","v":""}]
[null,null,{"$f":"SUBSTITUTE(Reporte!D844430,\" \",\"\")","v":""}]
[null,null,{"$f":"SUBSTITUTE(Reporte!D844945,\" \",\"\")","v":""}]
[null,null,{"$f":"SUBSTITUTE(Reporte!D845166,\" \",\"\")","v":""}]
[null,null,{"$f":"SUBSTITUTE(Reporte!D845681,\" \",\"\")","v":""}]
[null,null,{"$f":"SUBSTITUTE(Reporte!D846425,\" \",\"\")","v":""}]
[null,null,{"$f":"SUBSTITUTE(Reporte!D847169,\" \",\"\")","v":""}]
[null,null,{"$f":"SUBSTITUTE(Reporte!D847684,\" \",\"\")","v":""}]
[null,null,{"$f":"SUBSTITUTE(Reporte!D847905,\" \",\"\")","v":""}]
[null,null,{"$f":"SUBSTITUTE(Reporte!D848420,\" \",\"\")","v":""}]
[null,null,{"$f":"SUBSTITUTE(Reporte!D849164,\" \",\"\")","v":""}]
[null,null,{"$f":"SUBSTITUTE(Reporte!D849385,\" \",\"\")","v":""}]
[null,null,{"$f":"SUBSTITUTE(Reporte!D849900,\" \",\"\")","v":""}]
[null,null,{"$f":"SUBSTITUTE(Reporte!D850644,\" \",\"\")","v":""}]
[null,null,{"$f":"SUBSTITUTE(Reporte!D851388,\" \",\"\")","v":""}]
[null,null,{"$f":"SUBSTITUTE(Reporte!D851903,\" \",\"\")","v":""}]
[null,null,{"$f":"SUBSTITUTE(Reporte!D852124,\" \",\"\")","v":""}]
[null,null,{"$f":"SUBSTITUTE(Reporte!D852639,\" \",\"\")","v":""}]
[null,null,{"$f":"SUBSTITUTE(Reporte!D853383,\" \",\"\")","v":""}]
[null,null,{"$f":"SUBSTITUTE(Reporte!D853604,\" \",\"\")","v":""}]
[null,null,{"$f":"SUBSTITUTE(Reporte!D854119,\" \",\"\")","v":""}]
[null,null,{"$f":"SUBSTITUTE(Reporte!D854863,\" \",\"\")","v":""}]
[null,null,{"$f":"SUBSTITUTE(Reporte!D855315,\" \",\"\")","v":""}]
[null,null,{"$f":"SUBSTITUTE(Reporte!D855600,\" \",\"\")","v":""}]
[null,null,{"$f":"SUBSTITUTE(Reporte!D856344,\" \",\"\")","v":""}]
[null,null,{"$f":"SUBSTITUTE(Reporte!D856859,\" \",\"\")","v":""}]
[null,null,{"$f":"SUBSTITUTE(Reporte!D857603,\" \",\"\")","v":""}]
[null,null,{"$f":"SUBSTITUTE(Reporte!D857824,\" \",\"\")","v":""}]
[null,null,{"$f":"SUBSTITUTE(Reporte!D858339,\" \",\"\")","v":""}]
[null,null,{"$f":"SUBSTITUTE(Reporte!D859083,\" \",\"\")","v":""}]
[null,null,{"$f":"SUBSTITUTE(Reporte!D859598,\" \",\"\")","v":""}]
[null,null,{"$f":"SUBSTITUTE(Reporte!D859819,\" \",\"\")","v":""}]
[null,null,{"$f":"SUBSTITUTE(Reporte!D860563,\" \",\"\")","v":""}]
[null,null,{"$f":"SUBSTITUTE(Reporte!D861078,\" \",\"\")","v":""}]
[null,null,{"$f":"SUBSTITUTE(Reporte!D861822,\" \",\"\")","v":""}]
[null,null,{"$f":"SUBSTITUTE(Reporte!D862043,\" \",\"\")","v":""}]
[null,null,{"$f":"SUBSTITUTE(Reporte!D862558,\" \",\"\")","v":""}]
[null,null,{"$f":"SUBSTITUTE(Reporte!D863302,\" \",\"\")","v":""}]
[null,null,{"$f":"SUBSTITUTE(Reporte!D863817,\" \",\"\")","v":""}]
[null,null,{"$f":"SUBSTITUTE(Reporte!D864038,\" \",\"\")","v":""}]
[null,null,{"$f":"SUBSTITUTE(Reporte!D864782,\" \",\"\")","v":""}]
[null,null,{"$f":"SUBSTITUTE(Reporte!D865297,\" \",\"\")","v":""}]
[null,null,{"$f":"SUBSTITUTE(Reporte!D866041,\" \",\"\")","v":""}]
[null,null,{"$f":"SUBSTITUTE(Reporte!D866556,\" \",\"\")","v":""}]
[null,null,{"$f":"SUBSTITUTE(Reporte!D866777,\" \",\"\")","v":""}]
[null,null,{"$f":"SUBSTITUTE(Reporte!D867521,\" \",\"\")","v":""}]
[null,null,{"$f":"SUBSTITUTE(Reporte!D868036,\" \",\"\")","v":""}]
[null,null,{"$f":"SUBSTITUTE(Reporte!D868257,\" \",\"\")","v":""}]
[null,null,{"$f":"SUBSTITUTE(Reporte!D868944,\" \",\"\")","v":""}]
[null,null,{"$f":"SUBSTITUTE(Reporte!D869517,\" \",\"\")","v":""}]
[null,null,{"$f":"SUBSTITUTE(Reporte!D869738,\" \",\"\")","v":""}]
[null,null,{"$f":"SUBSTITUTE(Reporte!D870253,\" \",\"\")","v":""}]
[null,null,{"$f":"SUBSTITUTE(Reporte!D870997,\" \",\"\")","v":""}]
[null,null,{"$f":"SUBSTITUTE(Reporte!D871741,\" \",\"\")","v":""}]
[null,null,{"$f":"SUBSTITUTE(Reporte!D872256,\" \",\"\")","v":""}]
[null,null,{"$f":"SUBSTITUTE(Reporte!D872477,\" \",\"\")","v":""}]
[null,null,{"$f":"SUBSTITUTE(Reporte!D873221,\" \",\"\")","v":""}]
[null,null,{"$f":"SUBSTITUTE(Reporte!D873736,\" \",\"\")","v":""}]
[null,null,{"$f":"SUBSTITUTE(Reporte!D873957,\" \",\"\")","v":""}]
[null,null,{"$f":"SUBSTITUTE(Reporte!D874472,\" \",\"\")","v":""}]
[null,null,{"$f":"SUBSTITUTE(Reporte!D875216,\" \",\"\")","v":""}]
[null,null,{"$f":"SUBSTITUTE(Reporte!D875960,\" \",\"\")","v":""}]
[null,null,{"$f":"SUBSTITUTE(Reporte!D876475,\" \",\"\")","v":""}]
[null,null,{"$f":"SUBSTITUTE(Reporte!D876696,\" \",\"\")","v":""}]
[null,null,{"$f":"SUBSTITUTE(Reporte!D877211,\" \",\"\")","v":""}]
[null,null,{"$f":"SUBSTITUTE(Reporte!D877955,\" \",\"\")","v":""}]
[null,null,{"$f":"SUBSTITUTE(Reporte!D878176,\" \",\"\")","v":""}]
[null,null,{"$f":"SUBSTITUTE(Reporte!D878691,\" \",\"\")","v":""}]
[null,null,{"$f":"SUBSTITUTE(Reporte!D879435,\" \",\"\")","v":""}]
[null,null,{"$f":"SUBSTITUTE(Reporte!D880179,\" \",\"\")","v":""}]
[null,null,{"$f":"SUBSTITUTE(Reporte!D880694,\" \",\"\")","v":""}]
[null,null,{"$f":"SUBSTITUTE(Reporte!D880915,\" \",\"\")","v":""}]
[null,null,{"$f":"SUBSTITUTE(Reporte!D881430,\" \",\"\")","v":""}]
[null,null,{"$f":"SUBSTITUTE(Reporte!D882174,\" \",\"\")","v":""}]
[null,null,{"$f":"SUBSTITUTE(Reporte!D882395,\" \",\"\")","v":""}]
[null,null,{"$f":"SUBSTITUTE(Reporte!D883149,\" \",\"\")","v":""}]
[null,null,{"$f":"SUBSTITUTE(Reporte!D883655,\" \",\"\")","v":""}]
[null,null,{"$f":"SUBSTITUTE(Reporte!D883876,\" \",\"\")","v":""}]
[null,null,{"$f":"SUBSTITUTE(Reporte!D884391,\" \",\"\")","v":""}]
[null,null,{"$f":"SUBSTITUTE(Reporte!D885135,\" \",\"\")","v":""}]
[null,null,{"$f":"SUBSTITUTE(Reporte!D885650,\" \",\"\")","v":""}]
[null,null,{"$f":"SUBSTITUTE(Reporte!D886394,\" \",\"\")","v":""}]
[null,null,{"$f":"SUBSTITUTE(Reporte!D886615,\" \",\"\")","v":""}]
[null,null,{"$f":"SUBSTITUTE(Reporte!D887130,\" \",\"\")","v":""}]
[null,null,{"$f":"SUBSTITUTE(Reporte!D887874,\" \",\"\")","v":""}]
[null,null,{"$f":"SUBSTITUTE(Reporte!D888389,\" \",\"\")","v":""}]
[null,null,{"$f":"SUBSTITUTE(Reporte!D888610,\" \",\"\")","v":""}]
[null,null,{"$f":"SUBSTITUTE(Reporte!D889354,\" \",\"\")","v":""}]
[null,null,{"$f":"SUBSTITUTE(Reporte!D889869,\" \",\"\")","v":""}]
[null,null,{"$f":"SUBSTITUTE(Reporte!D890613,\" \",\"\")","v":""}]
[null,null,{"$f":"SUBSTITUTE(Reporte!D890834,\" \",\"\")","v":""}]
[null,null,{"$f":"SUBSTITUTE(Reporte!D891349,\" \",\"\")","v":""}]
[null,null,{"$f":"SUBSTITUTE(Reporte!D892093,\" \",\"\")","v":""}]
[null,null,{"$f":"SUBSTITUTE(Reporte!D892608,\" \",\"\")","v":""}]
[null,null,{"$f":"SUBSTITUTE(Reporte!D892829,\" \",\"\")","v":""}]
[null,null,{"$f":"SUBSTITUTE(Reporte!D893573,\" \",\"\")","v":""}]
[null,null,{"$f":"SUBSTITUTE(Reporte!D894088,\" \",\"\")","v":""}]
[null,null,{"$f":"SUBSTITUTE(Reporte!D894309,\" \",\"\")","v":""}]
[null,null,{"$f":"SUBSTITUTE(Reporte!D895347,\" \",\"\")","v":""}]
[null,null,{"$f":"SUBSTITUTE(Reporte!D895568,\" \",\"\")","v":""}]
[null,null,{"$f":"SUBSTITUTE(Reporte!D896312,\" \",\"\")","v":""}]
[null,null,{"$f":"SUBSTITUTE(Reporte!D896778,\" \",\"\")","v":""}]
[null,null,{"$f":"SUBSTITUTE(Reporte!D897049,\" \",\"\")","v":""}]
[null,null,{"$f":"SUBSTITUTE(Reporte!D897793,\" \",\"\")","v":""}]
[null,null,{"$f":"SUBSTITUTE(Reporte!D898308,\" \",\"\")","v":""}]
[null,null,{"$f":"SUBSTITUTE(Reporte!D898529,\" \",\"\")","v":""}]
[null,null,{"$f":"SUBSTITUTE(Reporte!D899044,\" \",\"\")","v":""}]
[null,null,{"$f":"SUBSTITUTE(Reporte!D899788,\" \",\"\")","v":""}]
[null,null,{"$f":"SUBSTITUTE(Reporte!D900532,\" \",\"\")","v":""}]
[null,null,{"$f":"SUBSTITUTE(Reporte!D901047,\" \",\"\")","v":""}]
[null,null,{"$f":"SUBSTITUTE(Reporte!D901268,\" \",\"\")","v":""}]
[null,null,{"$f":"SUBSTITUTE(Reporte!D902012,\" \",\"\")","v":""}]
[null,null,{"$f":"SUBSTITUTE(Reporte!D902527,\" \",\"\")","v":""}]
[null,null,{"$f":"SUBSTITUTE(Reporte!D902748,\" \",\"\")","v":""}]
[null,null,{"$f":"SUBSTITUTE(Reporte!D903263,\" \",\"\")","v":""}]
[null,null,{"$f":"SUBSTITUTE(Reporte!D904007,\" \",\"\")","v":""}]
[null,null,{"$f":"SUBSTITUTE(Reporte!D904751,\" \",\"\")","v":""}]
[null,null,{"$f":"SUBSTITUTE(Reporte!D905266,\" \",\"\")","v":""}]
[null,null,{"$f":"SUBSTITUTE(Reporte!D905487,\" \",\"\")","v":""}]
[null,null,{"$f":"SUBSTITUTE(Reporte!D906002,\" \",\"\")","v":""}]
[null,null,{"$f":"SUBSTITUTE(Reporte!D906746,\" \",\"\")","v":""}]
[null,null,{"$f":"SUBSTITUTE(Reporte!D906967,\" \",\"\")","v":""}]
[null,null,{"$f":"SUBSTITUTE(Reporte!D907482,\" \",\"\")","v":""}]
[null,null,{"$f":"SUBSTITUTE(Reporte!D908226,\" \",\"\")","v":""}]
[null,null,{"$f":"SUBSTITUTE(Reporte!D908447,\" \",\"\")","v":""}]
[null,null,{"$f":"SUBSTITUTE(Reporte!D908962,\" \",\"\")","v":""}]
[null,null,{"$f":"SUBSTITUTE(Reporte!D909706,\" \",\"\")","v":""}]
[null,null,{"$f":"SUBSTITUTE(Reporte!D910407,\" \",\"\")","v":""}]
[null,null,{"$f":"SUBSTITUTE(Reporte!D910966,\" \",\"\")","v":""}]
[null,null,{"$f":"SUBSTITUTE(Reporte!D911187,\" \",\"\")","v":""}]
[null,null,{"$f":"SUBSTITUTE(Reporte!D911702,\" \",\"\")","v":""}]
[null,null,{"$f":"SUBSTITUTE(Reporte!D912446,\" \",\"\")","v":""}]
[null,null,{"$f":"SUBSTITUTE(Reporte!D912961,\" \",\"\")","v":""}]
[null,null,{"$f":"SUBSTITUTE(Reporte!D913182,\" \",\"\")","v":""}]
[null,null,{"$f":"SUBSTITUTE(Reporte!D913926,\" \",\"\")","v":""}]
[null,null,{"$f":"SUBSTITUTE(Reporte!D914441,\" \",\"\")","v":""}]
[null,null,{"$f":"SUBSTITUTE(Reporte!D915185,\" \",\"\")","v":""}]
[null,null,{"$f":"SUBSTITUTE(Reporte!D915406,\" \",\"\")","v":""}]
[null,null,{"$f":"SUBSTITUTE(Reporte!D915921,\" \",\"\")","v":""}]
[null,null,{"$f":"SUBSTITUTE(Reporte!D916665,\" \",\"\")","v":""}]
[null,null,{"$f":"SUBSTITUTE(Reporte!D917180,\" \",\"\")","v":""}]
[null,null,{"$f":"SUBSTITUTE(Reporte!D917401,\" \",\"\")","v":""}]
[null,null,{"$f":"SUBSTITUTE(Reporte!D918145,\" \",\"\")","v":""}]
[null,null,{"$f":"SUBSTITUTE(Reporte!D918660,\" \",\"\")","v":""}]
[null,null,{"$f":"SUBSTITUTE(Reporte!D919404,\" \",\"\")","v":""}]
[null,null,{"$f":"SUBSTITUTE(Reporte!D919625,\" \",\"\")","v":""}]
[null,null,{"$f":"SUBSTITUTE(Reporte!D920140,\" \",\"\")","v":""}]
[null,null,{"$f":"SUBSTITUTE(Reporte!D920884,\" \",\"\")","v":""}]
[null,null,{"$f":"SUBSTITUTE(Reporte!D921399,\" \",\"\")","v":""}]
[null,null,{"$f":"SUBSTITUTE(Reporte!D921620,\" \",\"\")","v":""}]
[null,null,{"$f":"SUBSTITUTE(Reporte!D922364,\" \",\"\")","v":""}]
[null,null,{"$f":"SUBSTITUTE(Reporte!D922879,\" \",\"\")","v":""}]
[null,null,{"$f":"SUBSTITUTE(Reporte!D923100,\" \",\"\")","v":""}]
[null,null,{"$f":"SUBSTITUTE(Reporte!D923615,\" \",\"\")","v":""}]
[null,null,{"$f":"SUBSTITUTE(Reporte!D924364,\" \",\"\")","v":""}]
[null,null,{"$f":"SUBSTITUTE(Reporte!D925104,\" \",\"\")","v":""}]
[null,null,{"$f":"SUBSTITUTE(Reporte!D925619,\" \",\"\")","v":""}]
[null,null,{"$f":"SUBSTITUTE(Reporte!D925840,\" \",\"\")","v":""}]
[null,null,{"$f":"SUBSTITUTE(Reporte!D926584,\" \",\"\")","v":""}]
[null,null,{"$f":"SUBSTITUTE(Reporte!D927099,\" \",\"\")","v":""}]
[null,null,{"$f":"SUBSTITUTE(Reporte!D927320,\" \",\"\")","v":""}]
[null,null,{"$f":"SUBSTITUTE(Reporte!D927835,\" \",\"\")","v":""}]
[null,null,{"$f":"SUBSTITUTE(Reporte!D928579,\" \",\"\")","v":""}]
[null,null,{"$f":"SUBSTITUTE(Reporte!D929323,\" \",\"\")","v":""}]
[null,null,{"$f":"SUBSTITUTE(Reporte!D929838,\" \",\"\")","v":""}]
[null,null,{"$f":"SUBSTITUTE(Reporte!D930059,\" \",\"\")","v":""}]
[null,null,{"$f":"SUBSTITUTE(Reporte!D930803,\" \",\"\")","v":""}]
[null,null,{"$f":"SUBSTITUTE(Reporte!D931318,\" \",\"\")","v":""}]
[null,null,{"$f":"SUBSTITUTE(Reporte!D931539,\" \",\"\")","v":""}]
[null,null,{"$f":"SUBSTITUTE(Reporte!D932054,\" \",\"\")","v":""}]
[null,null,{"$f":"SUBSTITUTE(Reporte!D932798,\" \",\"\")","v":""}]
[null,null,{"$f":"SUBSTITUTE(Reporte!D933019,\" \",\"\")","v":""}]
[null,null,{"$f":"SUBSTITUTE(Reporte!D933534,\" \",\"\")","v":""}]
[null,null,{"$f":"SUBSTITUTE(Reporte!D934278,\" \",\"\")","v":""}]
[null,null,{"$f":"SUBSTITUTE(Reporte!D934793,\" \",\"\")","v":""}]
[null,null,{"$f":"SUBSTITUTE(Reporte!D935537,\" \",\"\")","v":""}]
[null,null,{"$f":"SUBSTITUTE(Reporte!D935758,\" \",\"\")","v":""}]
[null,null,{"$f":"SUBSTITUTE(Reporte!D936273,\" \",\"\")","v":""}]
[null,null,{"$f":"SUBSTITUTE(Reporte!D937017,\" \",\"\")","v":""}]
[null,null,{"$f":"SUBSTITUTE(Reporte!D937238,\" \",\"\")","v":""}]
[null,null,{"$f":"SUBSTITUTE(Reporte!D937993,\" \",\"\")","v":""}]
[null,null,{"$f":"SUBSTITUTE(Reporte!D938498,\" \",\"\")","v":""}]
[null,null,{"$f":"SUBSTITUTE(Reporte!D939013,\" \",\"\")","v":""}]
[null,null,{"$f":"SUBSTITUTE(Reporte!D939757,\" \",\"\")","v":""}]
[null,null,{"$f":"SUBSTITUTE(Reporte!D939978,\" \",\"\")","v":""}]
[null,null,{"$f":"SUBSTITUTE(Reporte!D940493,\" \",\"\")","v":""}]
[null,null,{"$f":"SUBSTITUTE(Reporte!D941237,\" \",\"\")","v":""}]
[null,null,{"$f":"SUBSTITUTE(Reporte!D941752,\" \",\"\")","v":""}]
[null,null,{"$f":"SUBSTITUTE(Reporte!D941973,\" \",\"\")","v":""}]
[null,null,{"$f":"SUBSTITUTE(Reporte!D942717,\" \",\"\")","v":""}]
[null,null,{"$f":"SUBSTITUTE(Reporte!D943232,\" \",\"\")","v":""}]
[null,null,{"$f":"SUBSTITUTE(Reporte!D943976,\" \",\"\")","v":""}]
[null,null,{"$f":"SUBSTITUTE(Reporte!D944197,\" \",\"\")","v":""}]
[null,null,{"$f":"SUBSTITUTE(Reporte!D944712,\" \",\"\")","v":""}]
[null,null,{"$f":"SUBSTITUTE(Reporte!D945456,\" \",\"\")","v":""}]
[null,null,{"$f":"SUBSTITUTE(Reporte!D945971,\" \",\"\")","v":""}]
[null,null,{"$f":"SUBSTITUTE(Reporte!D946192,\" \",\"\")","v":""}]
[null,null,{"$f":"SUBSTITUTE(Reporte!D946936,\" \",\"\")","v":""}]
[null,null,{"$f":"SUBSTITUTE(Reporte!D947451,\" \",\"\")","v":""}]
[null,null,{"$f":"SUBSTITUTE(Reporte!D947672,\" \",\"\")","v":""}]
[null,null,{"$f":"SUBSTITUTE(Reporte!D948416,\" \",\"\")","v":""}]
[null,null,{"$f":"SUBSTITUTE(Reporte!D948931,\" \",\"\")","v":""}]
[null,null,{"$f":"SUBSTITUTE(Reporte!D949675,\" \",\"\")","v":""}]
[null,null,{"$f":"SUBSTITUTE(Reporte!D950190,\" \",\"\")","v":""}]
[null,null,{"$f":"SUBSTITUTE(Reporte!D950411,\" \",\"\")","v":""}]
[null,null,{"$f":"SUBSTITUTE(Reporte!D951155,\" \",\"\")","v":""}]
[null,null,{"$f":"SUBSTITUTE(Reporte!D951622,\" \",\"\")","v":""}]
[null,null,{"$f":"SUBSTITUTE(Reporte!D951892,\" \",\"\")","v":""}]
[null,null,{"$f":"SUBSTITUTE(Reporte!D952407,\" \",\"\")","v":""}]
[null,null,{"$f":"SUBSTITUTE(Reporte!D953151,\" \",\"\")","v":""}]
[null,null,{"$f":"SUBSTITUTE(Reporte!D953895,\" \",\"\")","v":""}]
[null,null,{"$f":"SUBSTITUTE(Reporte!D954410,\" \",\"\")","v":""}]
[null,null,{"$f":"SUBSTITUTE(Reporte!D954631,\" \",\"\")","v":""}]
[null,null,{"$f":"SUBSTITUTE(Reporte!D955375,\" \",\"\")","v":""}]
[null,null,{"$f":"SUBSTITUTE(Reporte!D955890,\" \",\"\")","v":""}]
[null,null,{"$f":"SUBSTITUTE(Reporte!D956111,\" \",\"\")","v":""}]
[null,null,{"$f":"SUBSTITUTE(Reporte!D956626,\" \",\"\")","v":""}]
[null,null,{"$f":"SUBSTITUTE(Reporte!D957370,\" \",\"\")","v":""}]
[null,null,{"$f":"SUBSTITUTE(Reporte!D957591,\" \",\"\")","v":""}]
[null,null,{"$f":"SUBSTITUTE(Reporte!D958629,\" \",\"\")","v":""}]
[null,null,{"$f":"SUBSTITUTE(Reporte!D958850,\" \",\"\")","v":""}]
[null,null,{"$f":"SUBSTITUTE(Reporte!D959594,\" \",\"\")","v":""}]
[null,null,{"$f":"SUBSTITUTE(Reporte!D960109,\" \",\"\")","v":""}]
[null,null,{"$f":"SUBSTITUTE(Reporte!D960330,\" \",\"\")","v":""}]
[null,null,{"$f":"SUBSTITUTE(Reporte!D960845,\" \",\"\")","v":""}]
[null,null,{"$f":"SUBSTITUTE(Reporte!D961589,\" \",\"\")","v":""}]
[null,null,{"$f":"SUBSTITUTE(Reporte!D961810,\" \",\"\")","v":""}]
[null,null,{"$f":"SUBSTITUTE(Reporte!D962325,\" \",\"\")","v":""}]
[null,null,{"$f":"SUBSTITUTE(Reporte!D963069,\" \",\"\")","v":""}]
[null,null,{"$f":"SUBSTITUTE(Reporte!D963584,\" \",\"\")","v":""}]
[null,null,{"$f":"SUBSTITUTE(Reporte!D964328,\" \",\"\")","v":""}]
[null,null,{"$f":"SUBSTITUTE(Reporte!D964549,\" \",\"\")","v":""}]
[null,null,{"$f":"SUBSTITUTE(Reporte!D965064,\" \",\"\")","v":""}]
[null,null,{"$f":"SUBSTITUTE(Reporte!D965579,\" \",\"\")","v":""}]
[null,null,{"$f":"SUBSTITUTE(Reporte!D966030,\" \",\"\")","v":""}]
[null,null,{"$f":"SUBSTITUTE(Reporte!D966545,\" \",\"\")","v":""}]
[null,null,{"$f":"SUBSTITUTE(Reporte!D967289,\" \",\"\")","v":""}]
[null,null,{"$f":"SUBSTITUTE(Reporte!D967804,\" \",\"\")","v":""}]
[null,null,{"$f":"SUBSTITUTE(Reporte!D968548,\" \",\"\")","v":""}]
[null,null,{"$f":"SUBSTITUTE(Reporte!D968769,\" \",\"\")","v":""}]
[null,null,{"$f":"SUBSTITUTE(Reporte!D969284,\" \",\"\")","v":""}]
[null,null,{"$f":"SUBSTITUTE(Reporte!D970028,\" \",\"\")","v":""}]
[null,null,{"$f":"SUBSTITUTE(Reporte!D970543,\" \",\"\")","v":""}]
[null,null,{"$f":"SUBSTITUTE(Reporte!D970764,\" \",\"\")","v":""}]
[null,null,{"$f":"SUBSTITUTE(Reporte!D971508,\" \",\"\")","v":""}]
[null,null,{"$f":"SUBSTITUTE(Reporte!D972023,\" \",\"\")","v":""}]
[null,null,{"$f":"SUBSTITUTE(Reporte!D972244,\" \",\"\")","v":""}]
[null,null,{"$f":"SUBSTITUTE(Reporte!D972988,\" \",\"\")","v":""}]
[null,null,{"$f":"SUBSTITUTE(Reporte!D973503,\" \",\"\")","v":""}]
[null,null,{"$f":"SUBSTITUTE(Reporte!D974247,\" \",\"\")","v":""}]
[null,null,{"$f":"SUBSTITUTE(Reporte!D974762,\" \",\"\")","v":""}]
[null,null,{"$f":"SUBSTITUTE(Reporte!D974983,\" \",\"\")","v":""}]
[null,null,{"$f":"SUBSTITUTE(Reporte!D975727,\" \",\"\")","v":""}]
[null,null,{"$f":"SUBSTITUTE(Reporte!D976242,\" \",\"\")","v":""}]
[null,null,{"$f":"SUBSTITUTE(Reporte!D976463,\" \",\"\")","v":""}]
[null,null,{"$f":"SUBSTITUTE(Reporte!D977207,\" \",\"\")","v":""}]
[null,null,{"$f":"SUBSTITUTE(Reporte!D977722,\" \",\"\")","v":""}]
[null,null,{"$f":"SUBSTITUTE(Reporte!D978466,\" \",\"\")","v":""}]
[null,null,{"$f":"SUBSTITUTE(Reporte!D978981,\" \",\"\")","v":""}]
[null,null,{"$f":"SUBSTITUTE(Reporte!D979208,\" \",\"\")","v":""}]
[null,null,{"$f":"SUBSTITUTE(Reporte!D979947,\" \",\"\")","v":""}]
[null,null,{"$f":"SUBSTITUTE(Reporte!D980462,\" \",\"\")","v":""}]
[null,null,{"$f":"SUBSTITUTE(Reporte!D980683,\" \",\"\")","v":""}]
[null,null,{"$f":"SUBSTITUTE(Reporte!D981198,\" \",\"\")","v":""}]
[null,null,{"$f":"SUBSTITUTE(Reporte!D981942,\" \",\"\")","v":""}]
[null,null,{"$f":"SUBSTITUTE(Reporte!D982686,\" \",\"\")","v":""}]
[null,null,{"$f":"SUBSTITUTE(Reporte!D983201,\" \",\"\")","v":""}]
[null,null,{"$f":"SUBSTITUTE(Reporte!D983422,\" \",\"\")","v":""}]
[null,null,{"$f":"SUBSTITUTE(Reporte!D984166,\" \",\"\")","v":""}]
[null,null,{"$f":"SUBSTITUTE(Reporte!D984681,\" \",\"\")","v":""}]
[null,null,{"$f":"SUBSTITUTE(Reporte!D984902,\" \",\"\")","v":""}]
[null,null,{"$f":"SUBSTITUTE(Reporte!D985417,\" \",\"\")","v":""}]
[null,null,{"$f":"SUBSTITUTE(Reporte!D986161,\" \",\"\")","v":""}]
[null,null,{"$f":"SUBSTITUTE(Reporte!D986382,\" \",\"\")","v":""}]
[null,null,{"$f":"SUBSTITUTE(Reporte!D986897,\" \",\"\")","v":""}]
[null,null,{"$f":"SUBSTITUTE(Reporte!D987641,\" \",\"\")","v":""}]
[null,null,{"$f":"SUBSTITUTE(Reporte!D988156,\" \",\"\")","v":""}]
[null,null,{"$f":"SUBSTITUTE(Reporte!D988900,\" \",\"\")","v":""}]
[null,null,{"$f":"SUBSTITUTE(Reporte!D989121,\" \",\"\")","v":""}]
[null,null,{"$f":"SUBSTITUTE(Reporte!D989636,\" \",\"\")","v":""}]
[null,null,{"$f":"SUBSTITUTE(Reporte!D990380,\" \",\"\")","v":""}]
[null,null,{"$f":"SUBSTITUTE(Reporte!D990601,\" \",\"\")","v":""}]
[null,null,{"$f":"SUBSTITUTE(Reporte!D991116,\" \",\"\")","v":""}]
[null,null,{"$f":"SUBSTITUTE(Reporte!D991860,\" \",\"\")","v":""}]
[null,null,{"$f":"SUBSTITUTE(Reporte!D992375,\" \",\"\")","v":""}]
[null,null,{"$f":"SUBSTITUTE(Reporte!D992837,\" \",\"\")","v":""}]
[null,null,{"$f":"SUBSTITUTE(Reporte!D993341,\" \",\"\")","v":""}]
[null,null,{"$f":"SUBSTITUTE(Reporte!D993856,\" \",\"\")","v":""}]
[null,null,{"$f":"SUBSTITUTE(Reporte!D994600,\" \",\"\")","v":""}]
[null,null,{"$f":"SUBSTITUTE(Reporte!D994821,\" \",\"\")","v":""}]
[null,null,{"$f":"SUBSTITUTE(Reporte!D995336,\" \",\"\")","v":""}]
[null,null,{"$f":"SUBSTITUTE(Reporte!D996080,\" \",\"\")","v":""}]
[null,null,{"$f":"SUBSTITUTE(Reporte!D996595,\" \",\"\")","v":""}]
[null,null,{"$f":"SUBSTITUTE(Reporte!D997339,\" \",\"\")","v":""}]
[null,null,{"$f":"SUBSTITUTE(Reporte!D997560,\" \",\"\")","v":""}]
[null,null,{"$f":"SUBSTITUTE(Reporte!D998075,\" \",\"\")","v":""}]
[null,null,{"$f":"SUBSTITUTE(Reporte!D998819,\" \",\"\")","v":""}]
[null,null,{"$f":"SUBSTITUTE(Reporte!D999334,\" \",\"\")","v":""}]
[null,null,{"$f":"SUBSTITUTE(Reporte!D999555,\" \",\"\")","v":""}]
[null,null,{"$f":"SUBSTITUTE(Reporte!D1000299,\" \",\"\")","v":""}]
[null,null,{"$f":"SUBSTITUTE(Reporte!D1000814,\" \",\"\")","v":""}]
[null,null,{"$f":"SUBSTITUTE(Reporte!D1001035,\" \",\"\")","v":""}]
[null,null,{"$f":"SUBSTITUTE(Reporte!D1001779,\" \",\"\")","v":""}]
[null,null,{"$f":"SUBSTITUTE(Reporte!D1002294,\" \",\"\")","v":""}]
[null,null,{"$f":"SUBSTITUTE(Reporte!D1003038,\" \",\"\")","v":""}]
[null,null,{"$f":"SUBSTITUTE(Reporte!D1003553,\" \",\"\")","v":""}]
[null,null,{"$f":"SUBSTITUTE(Reporte!D1003774,\" \",\"\")","v":""}]
[null,null,{"$f":"SUBSTITUTE(Reporte!D1004518,\" \",\"\")","v":""}]
[null,null,{"$f":"SUBSTITUTE(Reporte!D1005033,\" \",\"\")","v":""}]
[null,null,{"$f":"SUBSTITUTE(Reporte!D1005254,\" \",\"\")","v":""}]
[null,null,{"$f":"SUBSTITUTE(Reporte!D1005998,\" \",\"\")","v":""}]
[null,null,{"$f":"SUBSTITUTE(Reporte!D1006513,\" \",\"\")","v":""}]
[null,null,{"$f":"SUBSTITUTE(Reporte!D1006794,\" \",\"\")","v":""}]
[null,null,{"$f":"SUBSTITUTE(Reporte!D1007773,\" \",\"\")","v":""}]
[null,null,{"$f":"SUBSTITUTE(Reporte!D1007994,\" \",\"\")","v":""}]
[null,null,{"$f":"SUBSTITUTE(Reporte!D1008738,\" \",\"\")","v":""}]
[null,null,{"$f":"SUBSTITUTE(Reporte!D1009253,\" \",\"\")","v":""}]
[null,null,{"$f":"SUBSTITUTE(Reporte!D1009474,\" \",\"\")","v":""}]
[null,null,{"$f":"SUBSTITUTE(Reporte!D1009989,\" \",\"\")","v":""}]
[null,null,{"$f":"SUBSTITUTE(Reporte!D1010733,\" \",\"\")","v":""}]
[null,null,{"$f":"SUBSTITUTE(Reporte!D1010954,\" \",\"\")","v":""}]
[null,null,{"$f":"SUBSTITUTE(Reporte!D1011469,\" \",\"\")","v":""}]
[null,null,{"$f":"SUBSTITUTE(Reporte!D1012213,\" \",\"\")","v":""}]
[null,null,{"$f":"SUBSTITUTE(Reporte!D1012957,\" \",\"\")","v":""}]
[null,null,{"$f":"SUBSTITUTE(Reporte!D1013472,\" \",\"\")","v":""}]
[null,null,{"$f":"SUBSTITUTE(Reporte!D1013693,\" \",\"\")","v":""}]
[null,null,{"$f":"SUBSTITUTE(Reporte!D1014208,\" \",\"\")","v":""}]
[null,null,{"$f":"SUBSTITUTE(Reporte!D1014952,\" \",\"\")","v":""}]
[null,null,{"$f":"SUBSTITUTE(Reporte!D1015173,\" \",\"\")","v":""}]
[null,null,{"$f":"SUBSTITUTE(Reporte!D1015688,\" \",\"\")","v":""}]
[null,null,{"$f":"SUBSTITUTE(Reporte!D1016432,\" \",\"\")","v":""}]
[null,null,{"$f":"SUBSTITUTE(Reporte!D1016947,\" \",\"\")","v":""}]
[null,null,{"$f":"SUBSTITUTE(Reporte!D1017691,\" \",\"\")","v":""}]
[null,null,{"$f":"SUBSTITUTE(Reporte!D1017912,\" \",\"\")","v":""}]
[null,null,{"$f":"SUBSTITUTE(Reporte!D1018427,\" \",\"\")","v":""}]
[null,null,{"$f":"SUBSTITUTE(Reporte!D1019171,\" \",\"\")","v":""}]
[null,null,{"$f":"SUBSTITUTE(Reporte!D1019392,\" \",\"\")","v":""}]
[null,null,{"$f":"SUBSTITUTE(Reporte!D1019907,\" \",\"\")","v":""}]
[null,null,{"$f":"SUBSTITUTE(Reporte!D1020423,\" \",\"\")","v":""}]
[null,null,{"$f":"SUBSTITUTE(Reporte!D1021167,\" \",\"\")","v":""}]
[null,null,{"$f":"SUBSTITUTE(Reporte!D1021911,\" \",\"\")","v":""}]
[null,null,{"$f":"SUBSTITUTE(Reporte!D1022132,\" \",\"\")","v":""}]
[null,null,{"$f":"SUBSTITUTE(Reporte!D1022647,\" \",\"\")","v":""}]
[null,null,{"$f":"SUBSTITUTE(Reporte!D1023391,\" \",\"\")","v":""}]
[null,null,{"$f":"SUBSTITUTE(Reporte!D1023612,\" \",\"\")","v":""}]
[null,null,{"$f":"SUBSTITUTE(Reporte!D1024127,\" \",\"\")","v":""}]
[null,null,{"$f":"SUBSTITUTE(Reporte!D1024871,\" \",\"\")","v":""}]
[null,null,{"$f":"SUBSTITUTE(Reporte!D1025386,\" \",\"\")","v":""}]
[null,null,{"$f":"SUBSTITUTE(Reporte!D1025607,\" \",\"\")","v":""}]
[null,null,{"$f":"SUBSTITUTE(Reporte!D1026351,\" \",\"\")","v":""}]
[null,null,{"$f":"SUBSTITUTE(Reporte!D1026866,\" \",\"\")","v":""}]
[null,null,{"$f":"SUBSTITUTE(Reporte!D1027610,\" \",\"\")","v":""}]
[null,null,{"$f":"SUBSTITUTE(Reporte!D1028125,\" \",\"\")","v":""}]
[null,null,{"$f":"SUBSTITUTE(Reporte!D1028346,\" \",\"\")","v":""}]
[null,null,{"$f":"SUBSTITUTE(Reporte!D1029090,\" \",\"\")","v":""}]
[null,null,{"$f":"SUBSTITUTE(Reporte!D1029605,\" \",\"\")","v":""}]
[null,null,{"$f":"SUBSTITUTE(Reporte!D1029826,\" \",\"\")","v":""}]
[null,null,{"$f":"SUBSTITUTE(Reporte!D1030570,\" \",\"\")","v":""}]
[null,null,{"$f":"SUBSTITUTE(Reporte!D1031085,\" \",\"\")","v":""}]
[null,null,{"$f":"SUBSTITUTE(Reporte!D1031829,\" \",\"\")","v":""}]
[null,null,{"$f":"SUBSTITUTE(Reporte!D1032344,\" \",\"\")","v":""}]
[null,null,{"$f":"SUBSTITUTE(Reporte!D1032565,\" \",\"\")","v":""}]
[null,null,{"$f":"SUBSTITUTE(Reporte!D1033309,\" \",\"\")","v":""}]
[null,null,{"$f":"SUBSTITUTE(Reporte!D1033824,\" \",\"\")","v":""}]
[null,null,{"$f":"SUBSTITUTE(Reporte!D1034052,\" \",\"\")","v":""}]
[null,null,{"$f":"SUBSTITUTE(Reporte!D1034561,\" \",\"\")","v":""}]
[null,null,{"$f":"SUBSTITUTE(Reporte!D1035305,\" \",\"\")","v":""}]
[null,null,{"$f":"SUBSTITUTE(Reporte!D1035526,\" \",\"\")","v":""}]
[null,null,{"$f":"SUBSTITUTE(Reporte!D1036564,\" \",\"\")","v":""}]
[null,null,{"$f":"SUBSTITUTE(Reporte!D1036785,\" \",\"\")","v":""}]
[null,null,{"$f":"SUBSTITUTE(Reporte!D1037529,\" \",\"\")","v":""}]
[null,null,{"$f":"SUBSTITUTE(Reporte!D1038044,\" \",\"\")","v":""}]
[null,null,{"$f":"SUBSTITUTE(Reporte!D1038265,\" \",\"\")","v":""}]
[null,null,{"$f":"SUBSTITUTE(Reporte!D1038780,\" \",\"\")","v":""}]
[null,null,{"$f":"SUBSTITUTE(Reporte!D1039524,\" \",\"\")","v":""}]
[null,null,{"$f":"SUBSTITUTE(Reporte!D1039745,\" \",\"\")","v":""}]
[null,null,{"$f":"SUBSTITUTE(Reporte!D1040260,\" \",\"\")","v":""}]
[null,null,{"$f":"SUBSTITUTE(Reporte!D1041004,\" \",\"\")","v":""}]
[null,null,{"$f":"SUBSTITUTE(Reporte!D1041748,\" \",\"\")","v":""}]
[null,null,{"$f":"SUBSTITUTE(Reporte!D1042263,\" \",\"\")","v":""}]
[null,null,{"$f":"SUBSTITUTE(Reporte!D1042484,\" \",\"\")","v":""}]
[null,null,{"$f":"SUBSTITUTE(Reporte!D1042999,\" \",\"\")","v":""}]
[null,null,{"$f":"SUBSTITUTE(Reporte!D1043743,\" \",\"\")","v":""}]
[null,null,{"$f":"SUBSTITUTE(Reporte!D1043964,\" \",\"\")","v":""}]
[null,null,{"$f":"SUBSTITUTE(Reporte!D1044479,\" \",\"\")","v":""}]
[null,null,{"$f":"SUBSTITUTE(Reporte!D1045223,\" \",\"\")","v":""}]
[null,null,{"$f":"SUBSTITUTE(Reporte!D1045738,\" \",\"\")","v":""}]
[null,null,{"$f":"SUBSTITUTE(Reporte!D1046482,\" \",\"\")","v":""}]
[null,null,{"$f":"SUBSTITUTE(Reporte!D1046703,\" \",\"\")","v":""}]
[null,null,{"$f":"SUBSTITUTE(Reporte!D1047218,\" \",\"\")","v":""}]
[null,null,{"$f":"SUBSTITUTE(Reporte!D1047681,\" \",\"\")","v":""}]
[null,null,{"$f":"SUBSTITUTE(Reporte!D1048077,\" \",\"\")","v":""}]
[null,null,{"$f":"SUBSTITUTE(Reporte!D1048078,\" \",\"\")","v":""}]
[null,null,{"$f":"SUBSTITUTE(Reporte!D1048079,\" \",\"\")","v":""}]
[null,null,{"$f":"SUBSTITUTE(Reporte!D1048080,\" \",\"\")","v":""}]
[null,null,{"$f":"SUBSTITUTE(Reporte!D1048081,\" \",\"\")","v":""}]
[null,null,{"$f":"SUBSTITUTE(Reporte!D1048082,\" \",\"\")","v":""}]
[null,null,{"$f":"SUBSTITUTE(Reporte!D1048083,\" \",\"\")","v":""}]
[null,null,{"$f":"SUBSTITUTE(Reporte!D1048084,\" \",\"\")","v":""}]
[null,null,{"$f":"SUBSTITUTE(Reporte!D1048085,\" \",\"\")","v":""}]
[null,null,{"$f":"SUBSTITUTE(Reporte!D1048086,\" \",\"\")","v":""}]
[null,null,{"$f":"SUBSTITUTE(Reporte!D1048087,\" \",\"\")","v":""}]
[null,null,{"$f":"SUBSTITUTE(Reporte!D1048088,\" \",\"\")","v":""}]
[null,null,{"$f":"SUBSTITUTE(Reporte!D1048089,\" \",\"\")","v":""}]
[null,null,{"$f":"SUBSTITUTE(Reporte!D1048090,\" \",\"\")","v":""}]
[null,null,{"$f":"SUBSTITUTE(Reporte!D1048091,\" \",\"\")","v":""}]
[null,null,{"$f":"SUBSTITUTE(Reporte!D1048092,\" \",\"\")","v":""}]
[null,null,{"$f":"SUBSTITUTE(Reporte!D1048093,\" \",\"\")","v":""}]
[null,null,{"$f":"SUBSTITUTE(Reporte!D1048094,\" \",\"\")","v":""}]
[null,null,{"$f":"SUBSTITUTE(Reporte!D1048095,\" \",\"\")","v":""}]
[null,null,{"$f":"SUBSTITUTE(Reporte!D1048096,\" \",\"\")","v":""}]
[null,null,{"$f":"SUBSTITUTE(Reporte!D1048097,\" \",\"\")","v":""}]
[null,null,{"$f":"SUBSTITUTE(Reporte!D1048098,\" \",\"\")","v":""}]
[null,null,{"$f":"SUBSTITUTE(Reporte!D1048099,\" \",\"\")","v":""}]
[null,null,{"$f":"SUBSTITUTE(Reporte!D1048100,\" \",\"\")","v":""}]
[null,null,{"$f":"SUBSTITUTE(Reporte!D1048101,\" \",\"\")","v":""}]
[null,null,{"$f":"SUBSTITUTE(Reporte!D1048102,\" \",\"\")","v":""}]
[null,null,{"$f":"SUBSTITUTE(Reporte!D1048103,\" \",\"\")","v":""}]
[null,null,{"$f":"SUBSTITUTE(Reporte!D1048104,\" \",\"\")","v":""}]
[null,null,{"$f":"SUBSTITUTE(Reporte!D1048105,\" \",\"\")","v":""}]
[null,null,{"$f":"SUBSTITUTE(Reporte!D1048106,\" \",\"\")","v":""}]
[null,null,{"$f":"SUBSTITUTE(Reporte!D1048107,\" \",\"\")","v":""}]
[null,null,{"$f":"SUBSTITUTE(Reporte!D1048108,\" \",\"\")","v":""}]
[null,null,{"$f":"SUBSTITUTE(Reporte!D1048109,\" \",\"\")","v":""}]
[null,null,{"$f":"SUBSTITUTE(Reporte!D1048110,\" \",\"\")","v":""}]
[null,null,{"$f":"SUBSTITUTE(Reporte!D1048111,\" \",\"\")","v":""}]
[null,null,{"$f":"SUBSTITUTE(Reporte!D1048112,\" \",\"\")","v":""}]
[null,null,{"$f":"SUBSTITUTE(Reporte!D1048113,\" \",\"\")","v":""}]
[null,null,{"$f":"SUBSTITUTE(Reporte!D1048114,\" \",\"\")","v":""}]
[null,null,{"$f":"SUBSTITUTE(Reporte!D1048115,\" \",\"\")","v":""}]
[null,null,{"$f":"SUBSTITUTE(Reporte!D1048116,\" \",\"\")","v":""}]
[null,null,{"$f":"SUBSTITUTE(Reporte!D1048117,\" \",\"\")","v":""}]
[null,null,{"$f":"SUBSTITUTE(Reporte!D1048118,\" \",\"\")","v":""}]
[null,null,{"$f":"SUBSTITUTE(Reporte!D1048119,\" \",\"\")","v":""}]
[null,null,{"$f":"SUBSTITUTE(Reporte!D1048120,\" \",\"\")","v":""}]
[null,null,{"$f":"SUBSTITUTE(Reporte!D1048121,\" \",\"\")","v":""}]
[null,null,{"$f":"SUBSTITUTE(Reporte!D1048122,\" \",\"\")","v":""}]
[null,null,{"$f":"SUBSTITUTE(Reporte!D1048123,\" \",\"\")","v":""}]
[null,null,{"$f":"SUBSTITUTE(Reporte!D1048124,\" \",\"\")","v":""}]
[null,null,{"$f":"SUBSTITUTE(Reporte!D1048125,\" \",\"\")","v":""}]
[null,null,{"$f":"SUBSTITUTE(Reporte!D1048126,\" \",\"\")","v":""}]
[null,null,{"$f":"SUBSTITUTE(Reporte!D1048127,\" \",\"\")","v":""}]
[null,null,{"$f":"SUBSTITUTE(Reporte!D1048128,\" \",\"\")","v":""}]
[null,null,{"$f":"SUBSTITUTE(Reporte!D1048129,\" \",\"\")","v":""}]
[null,null,{"$f":"SUBSTITUTE(Reporte!D1048130,\" \",\"\")","v":""}]
[null,null,{"$f":"SUBSTITUTE(Reporte!D1048131,\" \",\"\")","v":""}]
[null,null,{"$f":"SUBSTITUTE(Reporte!D1048132,\" \",\"\")","v":""}]
[null,null,{"$f":"SUBSTITUTE(Reporte!D1048133,\" \",\"\")","v":""}]
[null,null,{"$f":"SUBSTITUTE(Reporte!D1048134,\" \",\"\")","v":""}]
[null,null,{"$f":"SUBSTITUTE(Reporte!D1048135,\" \",\"\")","v":""}]
[null,null,{"$f":"SUBSTITUTE(Reporte!D1048136,\" \",\"\")","v":""}]
[null,null,{"$f":"SUBSTITUTE(Reporte!D1048137,\" \",\"\")","v":""}]
[null,null,{"$f":"SUBSTITUTE(Reporte!D1048138,\" \",\"\")","v":""}]
[null,null,{"$f":"SUBSTITUTE(Reporte!D1048139,\" \",\"\")","v":""}]
[null,null,{"$f":"SUBSTITUTE(Reporte!D1048140,\" \",\"\")","v":""}]
[null,null,{"$f":"SUBSTITUTE(Reporte!D1048141,\" \",\"\")","v":""}]
[null,null,{"$f":"SUBSTITUTE(Reporte!D1048142,\" \",\"\")","v":""}]
[null,null,{"$f":"SUBSTITUTE(Reporte!D1048143,\" \",\"\")","v":""}]
[null,null,{"$f":"SUBSTITUTE(Reporte!D1048144,\" \",\"\")","v":""}]
[null,null,{"$f":"SUBSTITUTE(Reporte!D1048145,\" \",\"\")","v":""}]
[null,null,{"$f":"SUBSTITUTE(Reporte!D1048146,\" \",\"\")","v":""}]
[null,null,{"$f":"SUBSTITUTE(Reporte!D1048147,\" \",\"\")","v":""}]
[null,null,{"$f":"SUBSTITUTE(Reporte!D1048148,\" \",\"\")","v":""}]
[null,null,{"$f":"SUBSTITUTE(Reporte!D1048149,\" \",\"\")","v":""}]
[null,null,{"$f":"SUBSTITUTE(Reporte!D1048150,\" \",\"\")","v":""}]
[null,null,{"$f":"SUBSTITUTE(Reporte!D1048151,\" \",\"\")","v":""}]
[null,null,{"$f":"SUBSTITUTE(Reporte!D1048152,\" \",\"\")","v":""}]
[null,null,{"$f":"SUBSTITUTE(Reporte!D1048153,\" \",\"\")","v":""}]
[null,null,{"$f":"SUBSTITUTE(Reporte!D1048154,\" \",\"\")","v":""}]
[null,null,{"$f":"SUBSTITUTE(Reporte!D1048155,\" \",\"\")","v":""}]
[null,null,{"$f":"SUBSTITUTE(Reporte!D1048156,\" \",\"\")","v":""}]
[null,null,{"$f":"SUBSTITUTE(Reporte!D1048157,\" \",\"\")","v":""}]
[null,null,{"$f":"SUBSTITUTE(Reporte!D1048158,\" \",\"\")","v":""}]
[null,null,{"$f":"SUBSTITUTE(Reporte!D1048159,\" \",\"\")","v":""}]
[null,null,{"$f":"SUBSTITUTE(Reporte!D1048160,\" \",\"\")","v":""}]
[null,null,{"$f":"SUBSTITUTE(Reporte!D1048161,\" \",\"\")","v":""}]
[null,null,{"$f":"SUBSTITUTE(Reporte!D1048162,\" \",\"\")","v":""}]
[null,null,{"$f":"SUBSTITUTE(Reporte!D1048163,\" \",\"\")","v":""}]
[null,null,{"$f":"SUBSTITUTE(Reporte!D1048164,\" \",\"\")","v":""}]
[null,null,{"$f":"SUBSTITUTE(Reporte!D1048165,\" \",\"\")","v":""}]
[null,null,{"$f":"SUBSTITUTE(Reporte!D1048166,\" \",\"\")","v":""}]
[null,null,{"$f":"SUBSTITUTE(Reporte!D1048167,\" \",\"\")","v":""}]
[null,null,{"$f":"SUBSTITUTE(Reporte!D1048168,\" \",\"\")","v":""}]
[null,null,{"$f":"SUBSTITUTE(Reporte!D1048169,\" \",\"\")","v":""}]
[null,null,{"$f":"SUBSTITUTE(Reporte!D1048170,\" \",\"\")","v":""}]
[null,null,{"$f":"SUBSTITUTE(Reporte!D1048171,\" \",\"\")","v":""}]
[null,null,{"$f":"SUBSTITUTE(Reporte!D1048172,\" \",\"\")","v":""}]
[null,null,{"$f":"SUBSTITUTE(Reporte!D1048173,\" \",\"\")","v":""}]
[null,null,{"$f":"SUBSTITUTE(Reporte!D1048174,\" \",\"\")","v":""}]
[null,null,{"$f":"SUBSTITUTE(Reporte!D1048175,\" \",\"\")","v":""}]
[null,null,{"$f":"SUBSTITUTE(Reporte!D1048176,\" \",\"\")","v":""}]
[null,null,{"$f":"SUBSTITUTE(Reporte!D1048177,\" \",\"\")","v":""}]
[null,null,{"$f":"SUBSTITUTE(Reporte!D1048178,\" \",\"\")","v":""}]
[null,null,{"$f":"SUBSTITUTE(Reporte!D1048179,\" \",\"\")","v":""}]
[null,null,{"$f":"SUBSTITUTE(Reporte!D1048180,\" \",\"\")","v":""}]
[null,null,{"$f":"SUBSTITUTE(Reporte!D1048181,\" \",\"\")","v":""}]
[null,null,{"$f":"SUBSTITUTE(Reporte!D1048182,\" \",\"\")","v":""}]
[null,null,{"$f":"SUBSTITUTE(Reporte!D1048183,\" \",\"\")","v":""}]
[null,null,{"$f":"SUBSTITUTE(Reporte!D1048184,\" \",\"\")","v":""}]
[null,null,{"$f":"SUBSTITUTE(Reporte!D1048185,\" \",\"\")","v":""}]
[null,null,{"$f":"SUBSTITUTE(Reporte!D1048186,\" \",\"\")","v":""}]
[null,null,{"$f":"SUBSTITUTE(Reporte!D1048187,\" \",\"\")","v":""}]
[null,null,{"$f":"SUBSTITUTE(Reporte!D1048188,\" \",\"\")","v":""}]
[null,null,{"$f":"SUBSTITUTE(Reporte!D1048189,\" \",\"\")","v":""}]
[null,null,{"$f":"SUBSTITUTE(Reporte!D1048190,\" \",\"\")","v":""}]
[null,null,{"$f":"SUBSTITUTE(Reporte!D1048191,\" \",\"\")","v":""}]
[null,null,{"$f":"SUBSTITUTE(Reporte!D1048192,\" \",\"\")","v":""}]
[null,null,{"$f":"SUBSTITUTE(Reporte!D1048193,\" \",\"\")","v":""}]
[null,null,{"$f":"SUBSTITUTE(Reporte!D1048194,\" \",\"\")","v":""}]
[null,null,{"$f":"SUBSTITUTE(Reporte!D1048195,\" \",\"\")","v":""}]
[null,null,{"$f":"SUBSTITUTE(Reporte!D1048196,\" \",\"\")","v":""}]
[null,null,{"$f":"SUBSTITUTE(Reporte!D1048197,\" \",\"\")","v":""}]
[null,null,{"$f":"SUBSTITUTE(Reporte!D1048198,\" \",\"\")","v":""}]
[null,null,{"$f":"SUBSTITUTE(Reporte!D1048199,\" \",\"\")","v":""}]
[null,null,{"$f":"SUBSTITUTE(Reporte!D1048200,\" \",\"\")","v":""}]
[null,null,{"$f":"SUBSTITUTE(Reporte!D1048201,\" \",\"\")","v":""}]
[null,null,{"$f":"SUBSTITUTE(Reporte!D1048202,\" \",\"\")","v":""}]
[null,null,{"$f":"SUBSTITUTE(Reporte!D1048203,\" \",\"\")","v":""}]
[null,null,{"$f":"SUBSTITUTE(Reporte!D1048204,\" \",\"\")","v":""}]
[null,null,{"$f":"SUBSTITUTE(Reporte!D1048205,\" \",\"\")","v":""}]
[null,null,{"$f":"SUBSTITUTE(Reporte!D1048206,\" \",\"\")","v":""}]
[null,null,{"$f":"SUBSTITUTE(Reporte!D1048207,\" \",\"\")","v":""}]
[null,null,{"$f":"SUBSTITUTE(Reporte!D1048208,\" \",\"\")","v":""}]
[null,null,{"$f":"SUBSTITUTE(Reporte!D1048209,\" \",\"\")","v":""}]
[null,null,{"$f":"SUBSTITUTE(Reporte!D1048210,\" \",\"\")","v":""}]
[null,null,{"$f":"SUBSTITUTE(Reporte!D1048211,\" \",\"\")","v":""}]
[null,null,{"$f":"SUBSTITUTE(Reporte!D1048212,\" \",\"\")","v":""}]
[null,null,{"$f":"SUBSTITUTE(Reporte!D1048213,\" \",\"\")","v":""}]
[null,null,{"$f":"SUBSTITUTE(Reporte!D1048214,\" \",\"\")","v":""}]
[null,null,{"$f":"SUBSTITUTE(Reporte!D1048215,\" \",\"\")","v":""}]
[null,null,{"$f":"SUBSTITUTE(Reporte!D1048216,\" \",\"\")","v":""}]
[null,null,{"$f":"SUBSTITUTE(Reporte!D1048217,\" \",\"\")","v":""}]
[null,null,{"$f":"SUBSTITUTE(Reporte!D1048218,\" \",\"\")","v":""}]
[null,null,{"$f":"SUBSTITUTE(Reporte!D1048219,\" \",\"\")","v":""}]
[null,null,{"$f":"SUBSTITUTE(Reporte!D1048220,\" \",\"\")","v":""}]
[null,null,{"$f":"SUBSTITUTE(Reporte!D1048221,\" \",\"\")","v":""}]
[null,null,{"$f":"SUBSTITUTE(Reporte!D1048222,\" \",\"\")","v":""}]
[null,null,{"$f":"SUBSTITUTE(Reporte!D1048223,\" \",\"\")","v":""}]
[null,null,{"$f":"SUBSTITUTE(Reporte!D1048224,\" \",\"\")","v":""}]
[null,null,{"$f":"SUBSTITUTE(Reporte!D1048225,\" \",\"\")","v":""}]
[null,null,{"$f":"SUBSTITUTE(Reporte!D1048226,\" \",\"\")","v":""}]
[null,null,{"$f":"SUBSTITUTE(Reporte!D1048227,\" \",\"\")","v":""}]
[null,null,{"$f":"SUBSTITUTE(Reporte!D1048228,\" \",\"\")","v":""}]
[null,null,{"$f":"SUBSTITUTE(Reporte!D1048229,\" \",\"\")","v":""}]
[null,null,{"$f":"SUBSTITUTE(Reporte!D1048230,\" \",\"\")","v":""}]
[null,null,{"$f":"SUBSTITUTE(Reporte!D1048231,\" \",\"\")","v":""}]
[null,null,{"$f":"SUBSTITUTE(Reporte!D1048232,\" \",\"\")","v":""}]
[null,null,{"$f":"SUBSTITUTE(Reporte!D1048233,\" \",\"\")","v":""}]
[null,null,{"$f":"SUBSTITUTE(Reporte!D1048234,\" \",\"\")","v":""}]
[null,null,{"$f":"SUBSTITUTE(Reporte!D1048235,\" \",\"\")","v":""}]
[null,null,{"$f":"SUBSTITUTE(Reporte!D1048236,\" \",\"\")","v":""}]
[null,null,{"$f":"SUBSTITUTE(Reporte!D1048237,\" \",\"\")","v":""}]
[null,null,{"$f":"SUBSTITUTE(Reporte!D1048238,\" \",\"\")","v":""}]
[null,null,{"$f":"SUBSTITUTE(Reporte!D1048239,\" \",\"\")","v":""}]
[null,null,{"$f":"SUBSTITUTE(Reporte!D1048240,\" \",\"\")","v":""}]
[null,null,{"$f":"SUBSTITUTE(Reporte!D1048241,\" \",\"\")","v":""}]
[null,null,{"$f":"SUBSTITUTE(Reporte!D1048242,\" \",\"\")","v":""}]
[null,null,{"$f":"SUBSTITUTE(Reporte!D1048243,\" \",\"\")","v":""}]
[null,null,{"$f":"SUBSTITUTE(Reporte!D1048244,\" \",\"\")","v":""}]
[null,null,{"$f":"SUBSTITUTE(Reporte!D1048245,\" \",\"\")","v":""}]
[null,null,{"$f":"SUBSTITUTE(Reporte!D1048246,\" \",\"\")","v":""}]
[null,null,{"$f":"SUBSTITUTE(Reporte!D1048247,\" \",\"\")","v":""}]
[null,null,{"$f":"SUBSTITUTE(Reporte!D1048248,\" \",\"\")","v":""}]
[null,null,{"$f":"SUBSTITUTE(Reporte!D1048249,\" \",\"\")","v":""}]
[null,null,{"$f":"SUBSTITUTE(Reporte!D1048250,\" \",\"\")","v":""}]
[null,null,{"$f":"SUBSTITUTE(Reporte!D1048251,\" \",\"\")","v":""}]
[null,null,{"$f":"SUBSTITUTE(Reporte!D1048252,\" \",\"\")","v":""}]
[null,null,{"$f":"SUBSTITUTE(Reporte!D1048253,\" \",\"\")","v":""}]
[null,null,{"$f":"SUBSTITUTE(Reporte!D1048254,\" \",\"\")","v":""}]
[null,null,{"$f":"SUBSTITUTE(Reporte!D1048255,\" \",\"\")","v":""}]
[null,null,{"$f":"SUBSTITUTE(Reporte!D1048256,\" \",\"\")","v":""}]
[null,null,{"$f":"SUBSTITUTE(Reporte!D1048257,\" \",\"\")","v":""}]
[null,null,{"$f":"SUBSTITUTE(Reporte!D1048258,\" \",\"\")","v":""}]
[null,null,{"$f":"SUBSTITUTE(Reporte!D1048259,\" \",\"\")","v":""}]
[null,null,{"$f":"SUBSTITUTE(Reporte!D1048260,\" \",\"\")","v":""}]
[null,null,{"$f":"SUBSTITUTE(Reporte!D1048261,\" \",\"\")","v":""}]
[null,null,{"$f":"SUBSTITUTE(Reporte!D1048262,\" \",\"\")","v":""}]
[null,null,{"$f":"SUBSTITUTE(Reporte!D1048263,\" \",\"\")","v":""}]
[null,null,{"$f":"SUBSTITUTE(Reporte!D1048264,\" \",\"\")","v":""}]
[null,null,{"$f":"SUBSTITUTE(Reporte!D1048265,\" \",\"\")","v":""}]
[null,null,{"$f":"SUBSTITUTE(Reporte!D1048266,\" \",\"\")","v":""}]
[null,null,{"$f":"SUBSTITUTE(Reporte!D1048267,\" \",\"\")","v":""}]
[null,null,{"$f":"SUBSTITUTE(Reporte!D1048268,\" \",\"\")","v":""}]
[null,null,{"$f":"SUBSTITUTE(Reporte!D1048269,\" \",\"\")","v":""}]
[null,null,{"$f":"SUBSTITUTE(Reporte!D1048270,\" \",\"\")","v":""}]
[null,null,{"$f":"SUBSTITUTE(Reporte!D1048271,\" \",\"\")","v":""}]
[null,null,{"$f":"SUBSTITUTE(Reporte!D1048272,\" \",\"\")","v":""}]
[null,null,{"$f":"SUBSTITUTE(Reporte!D1048273,\" \",\"\")","v":""}]
[null,null,{"$f":"SUBSTITUTE(Reporte!D1048274,\" \",\"\")","v":""}]
[null,null,{"$f":"SUBSTITUTE(Reporte!D1048275,\" \",\"\")","v":""}]
[null,null,{"$f":"SUBSTITUTE(Reporte!D1048276,\" \",\"\")","v":""}]
[null,null,{"$f":"SUBSTITUTE(Reporte!D1048277,\" \",\"\")","v":""}]
[null,null,{"$f":"SUBSTITUTE(Reporte!D1048278,\" \",\"\")","v":""}]
[null,null,{"$f":"SUBSTITUTE(Reporte!D1048279,\" \",\"\")","v":""}]
[null,null,{"$f":"SUBSTITUTE(Reporte!D1048280,\" \",\"\")","v":""}]
[null,null,{"$f":"SUBSTITUTE(Reporte!D1048281,\" \",\"\")","v":""}]
[null,null,{"$f":"SUBSTITUTE(Reporte!D1048282,\" \",\"\")","v":""}]
[null,null,{"$f":"SUBSTITUTE(Reporte!D1048283,\" \",\"\")","v":""}]
[null,null,{"$f":"SUBSTITUTE(Reporte!D1048284,\" \",\"\")","v":""}]
[null,null,{"$f":"SUBSTITUTE(Reporte!D1048285,\" \",\"\")","v":""}]
[null,null,{"$f":"SUBSTITUTE(Reporte!D1048286,\" \",\"\")","v":""}]
[null,null,{"$f":"SUBSTITUTE(Reporte!D1048287,\" \",\"\")","v":""}]
[null,null,{"$f":"SUBSTITUTE(Reporte!D1048288,\" \",\"\")","v":""}]
[null,null,{"$f":"SUBSTITUTE(Reporte!D1048289,\" \",\"\")","v":""}]
[null,null,{"$f":"SUBSTITUTE(Reporte!D1048290,\" \",\"\")","v":""}]
[null,null,{"$f":"SUBSTITUTE(Reporte!D1048291,\" \",\"\")","v":""}]
[null,null,{"$f":"SUBSTITUTE(Reporte!D1048292,\" \",\"\")","v":""}]
[null,null,{"$f":"SUBSTITUTE(Reporte!D1048293,\" \",\"\")","v":""}]
[null,null,{"$f":"SUBSTITUTE(Reporte!D1048294,\" \",\"\")","v":""}]
[null,null,{"$f":"SUBSTITUTE(Reporte!D1048295,\" \",\"\")","v":""}]
[null,null,{"$f":"SUBSTITUTE(Reporte!D1048296,\" \",\"\")","v":""}]
[null,null,{"$f":"SUBSTITUTE(Reporte!D1048297,\" \",\"\")","v":""}]
[null,null,{"$f":"SUBSTITUTE(Reporte!D1048298,\" \",\"\")","v":""}]
[null,null,{"$f":"SUBSTITUTE(Reporte!D1048299,\" \",\"\")","v":""}]
[null,null,{"$f":"SUBSTITUTE(Reporte!D1048300,\" \",\"\")","v":""}]
[null,null,{"$f":"SUBSTITUTE(Reporte!D1048301,\" \",\"\")","v":""}]
[null,null,{"$f":"SUBSTITUTE(Reporte!D1048302,\" \",\"\")","v":""}]
[null,null,{"$f":"SUBSTITUTE(Reporte!D1048303,\" \",\"\")","v":""}]
[null,null,{"$f":"SUBSTITUTE(Reporte!D1048304,\" \",\"\")","v":""}]
[null,null,{"$f":"SUBSTITUTE(Reporte!D1048305,\" \",\"\")","v":""}]
[null,null,{"$f":"SUBSTITUTE(Reporte!D1048306,\" \",\"\")","v":""}]
[null,null,{"$f":"SUBSTITUTE(Reporte!D1048307,\" \",\"\")","v":""}]
[null,null,{"$f":"SUBSTITUTE(Reporte!D1048308,\" \",\"\")","v":""}]
[null,null,{"$f":"SUBSTITUTE(Reporte!D1048309,\" \",\"\")","v":""}]
[null,null,{"$f":"SUBSTITUTE(Reporte!D1048310,\" \",\"\")","v":""}]
[null,null,{"$f":"SUBSTITUTE(Reporte!D1048311,\" \",\"\")","v":""}]
[null,null,{"$f":"SUBSTITUTE(Reporte!D1048312,\" \",\"\")","v":""}]
[null,null,{"$f":"SUBSTITUTE(Reporte!D1048313,\" \",\"\")","v":""}]
[null,null,{"$f":"SUBSTITUTE(Reporte!D1048314,\" \",\"\")","v":""}]
[null,null,{"$f":"SUBSTITUTE(Reporte!D1048315,\" \",\"\")","v":""}]
[null,null,{"$f":"SUBSTITUTE(Reporte!D1048316,\" \",\"\")","v":""}]
[null,null,{"$f":"SUBSTITUTE(Reporte!D1048317,\" \",\"\")","v":""}]
[null,null,{"$f":"SUBSTITUTE(Reporte!D1048318,\" \",\"\")","v":""}]
[null,null,{"$f":"SUBSTITUTE(Reporte!D1048319,\" \",\"\")","v":""}]
[null,null,{"$f":"SUBSTITUTE(Reporte!D1048320,\" \",\"\")","v":""}]
[null,null,{"$f":"SUBSTITUTE(Reporte!D1048321,\" \",\"\")","v":""}]
[null,null,{"$f":"SUBSTITUTE(Reporte!D1048322,\" \",\"\")","v":""}]
[null,null,{"$f":"SUBSTITUTE(Reporte!D1048323,\" \",\"\")","v":""}]
[null,null,{"$f":"SUBSTITUTE(Reporte!D1048324,\" \",\"\")","v":""}]
[null,null,{"$f":"SUBSTITUTE(Reporte!D1048325,\" \",\"\")","v":""}]
[null,null,{"$f":"SUBSTITUTE(Reporte!D1048326,\" \",\"\")","v":""}]
[null,null,{"$f":"SUBSTITUTE(Reporte!D1048327,\" \",\"\")","v":""}]
[null,null,{"$f":"SUBSTITUTE(Reporte!D1048328,\" \",\"\")","v":""}]
[null,null,{"$f":"SUBSTITUTE(Reporte!D1048329,\" \",\"\")","v":""}]
[null,null,{"$f":"SUBSTITUTE(Reporte!D1048330,\" \",\"\")","v":""}]
[null,null,{"$f":"SUBSTITUTE(Reporte!D1048331,\" \",\"\")","v":""}]
[null,null,{"$f":"SUBSTITUTE(Reporte!D1048332,\" \",\"\")","v":""}]
[null,null,{"$f":"SUBSTITUTE(Reporte!D1048333,\" \",\"\")","v":""}]
[null,null,{"$f":"SUBSTITUTE(Reporte!D1048334,\" \",\"\")","v":""}]
[null,null,{"$f":"SUBSTITUTE(Reporte!D1048335,\" \",\"\")","v":""}]
[null,null,{"$f":"SUBSTITUTE(Reporte!D1048336,\" \",\"\")","v":""}]
[null,null,{"$f":"SUBSTITUTE(Reporte!D1048337,\" \",\"\")","v":""}]
[null,null,{"$f":"SUBSTITUTE(Reporte!D1048338,\" \",\"\")","v":""}]
[null,null,{"$f":"SUBSTITUTE(Reporte!D1048339,\" \",\"\")","v":""}]
[null,null,{"$f":"SUBSTITUTE(Reporte!D1048340,\" \",\"\")","v":""}]
[null,null,{"$f":"SUBSTITUTE(Reporte!D1048341,\" \",\"\")","v":""}]
[null,null,{"$f":"SUBSTITUTE(Reporte!D1048342,\" \",\"\")","v":""}]
[null,null,{"$f":"SUBSTITUTE(Reporte!D1048343,\" \",\"\")","v":""}]
[null,null,{"$f":"SUBSTITUTE(Reporte!D1048344,\" \",\"\")","v":""}]
[null,null,{"$f":"SUBSTITUTE(Reporte!D1048345,\" \",\"\")","v":""}]
[null,null,{"$f":"SUBSTITUTE(Reporte!D1048346,\" \",\"\")","v":""}]
[null,null,{"$f":"SUBSTITUTE(Reporte!D1048347,\" \",\"\")","v":""}]
[null,null,{"$f":"SUBSTITUTE(Reporte!D1048348,\" \",\"\")","v":""}]
[null,null,{"$f":"SUBSTITUTE(Reporte!D1048349,\" \",\"\")","v":""}]
[null,null,{"$f":"SUBSTITUTE(Reporte!D1048350,\" \",\"\")","v":""}]
[null,null,{"$f":"SUBSTITUTE(Reporte!D1048351,\" \",\"\")","v":""}]
[null,null,{"$f":"SUBSTITUTE(Reporte!D1048352,\" \",\"\")","v":""}]
[null,null,{"$f":"SUBSTITUTE(Reporte!D1048353,\" \",\"\")","v":""}]
[null,null,{"$f":"SUBSTITUTE(Reporte!D1048354,\" \",\"\")","v":""}]
[null,null,{"$f":"SUBSTITUTE(Reporte!D1048355,\" \",\"\")","v":""}]
[null,null,{"$f":"SUBSTITUTE(Reporte!D1048356,\" \",\"\")","v":""}]
[null,null,{"$f":"SUBSTITUTE(Reporte!D1048357,\" \",\"\")","v":""}]
[null,null,{"$f":"SUBSTITUTE(Reporte!D1048358,\" \",\"\")","v":""}]
[null,null,{"$f":"SUBSTITUTE(Reporte!D1048359,\" \",\"\")","v":""}]
[null,null,{"$f":"SUBSTITUTE(Reporte!D1048360,\" \",\"\")","v":""}]
[null,null,{"$f":"SUBSTITUTE(Reporte!D1048361,\" \",\"\")","v":""}]
[null,null,{"$f":"SUBSTITUTE(Reporte!D1048362,\" \",\"\")","v":""}]
[null,null,{"$f":"SUBSTITUTE(Reporte!D1048363,\" \",\"\")","v":""}]
[null,null,{"$f":"SUBSTITUTE(Reporte!D1048364,\" \",\"\")","v":""}]
[null,null,{"$f":"SUBSTITUTE(Reporte!D1048365,\" \",\"\")","v":""}]
[null,null,{"$f":"SUBSTITUTE(Reporte!D1048366,\" \",\"\")","v":""}]
[null,null,{"$f":"SUBSTITUTE(Reporte!D1048367,\" \",\"\")","v":""}]
[null,null,{"$f":"SUBSTITUTE(Reporte!D1048368,\" \",\"\")","v":""}]
[null,null,{"$f":"SUBSTITUTE(Reporte!D1048369,\" \",\"\")","v":""}]
[null,null,{"$f":"SUBSTITUTE(Reporte!D1048370,\" \",\"\")","v":""}]
[null,null,{"$f":"SUBSTITUTE(Reporte!D1048371,\" \",\"\")","v":""}]
[null,null,{"$f":"SUBSTITUTE(Reporte!D1048372,\" \",\"\")","v":""}]
[null,null,{"$f":"SUBSTITUTE(Reporte!D1048373,\" \",\"\")","v":""}]
[null,null,{"$f":"SUBSTITUTE(Reporte!D1048374,\" \",\"\")","v":""}]
[null,null,{"$f":"SUBSTITUTE(Reporte!D1048375,\" \",\"\")","v":""}]
[null,null,{"$f":"SUBSTITUTE(Reporte!D1048376,\" \",\"\")","v":""}]
[null,null,{"$f":"SUBSTITUTE(Reporte!D1048377,\" \",\"\")","v":""}]
[null,null,{"$f":"SUBSTITUTE(Reporte!D1048378,\" \",\"\")","v":""}]
[null,null,{"$f":"SUBSTITUTE(Reporte!D1048379,\" \",\"\")","v":""}]
[null,null,{"$f":"SUBSTITUTE(Reporte!D1048380,\" \",\"\")","v":""}]
[null,null,{"$f":"SUBSTITUTE(Reporte!D1048381,\" \",\"\")","v":""}]
[null,null,{"$f":"SUBSTITUTE(Reporte!D1048382,\" \",\"\")","v":""}]
[null,null,{"$f":"SUBSTITUTE(Reporte!D1048383,\" \",\"\")","v":""}]
[null,null,{"$f":"SUBSTITUTE(Reporte!D1048384,\" \",\"\")","v":""}]
[null,null,{"$f":"SUBSTITUTE(Reporte!D1048385,\" \",\"\")","v":""}]
[null,null,{"$f":"SUBSTITUTE(Reporte!D1048386,\" \",\"\")","v":""}]
[null,null,{"$f":"SUBSTITUTE(Reporte!D1048387,\" \",\"\")","v":""}]
[null,null,{"$f":"SUBSTITUTE(Reporte!D1048388,\" \",\"\")","v":""}]
[null,null,{"$f":"SUBSTITUTE(Reporte!D1048389,\" \",\"\")","v":""}]
[null,null,{"$f":"SUBSTITUTE(Reporte!D1048390,\" \",\"\")","v":""}]
[null,null,{"$f":"SUBSTITUTE(Reporte!D1048391,\" \",\"\")","v":""}]
[null,null,{"$f":"SUBSTITUTE(Reporte!D1048392,\" \",\"\")","v":""}]
[null,null,{"$f":"SUBSTITUTE(Reporte!D1048393,\" \",\"\")","v":""}]
[null,null,{"$f":"SUBSTITUTE(Reporte!D1048394,\" \",\"\")","v":""}]
[null,null,{"$f":"SUBSTITUTE(Reporte!D1048395,\" \",\"\")","v":""}]
[null,null,{"$f":"SUBSTITUTE(Reporte!D1048396,\" \",\"\")","v":""}]
[null,null,{"$f":"SUBSTITUTE(Reporte!D1048397,\" \",\"\")","v":""}]
[null,null,{"$f":"SUBSTITUTE(Reporte!D1048398,\" \",\"\")","v":""}]
[null,null,{"$f":"SUBSTITUTE(Reporte!D1048399,\" \",\"\")","v":""}]
[null,null,{"$f":"SUBSTITUTE(Reporte!D1048400,\" \",\"\")","v":""}]
[null,null,{"$f":"SUBSTITUTE(Reporte!D1048401,\" \",\"\")","v":""}]
[null,null,{"$f":"SUBSTITUTE(Reporte!D1048402,\" \",\"\")","v":""}]
[null,null,{"$f":"SUBSTITUTE(Reporte!D1048403,\" \",\"\")","v":""}]
[null,null,{"$f":"SUBSTITUTE(Reporte!D1048404,\" \",\"\")","v":""}]
[null,null,{"$f":"SUBSTITUTE(Reporte!D1048405,\" \",\"\")","v":""}]
[null,null,{"$f":"SUBSTITUTE(Reporte!D1048406,\" \",\"\")","v":""}]
[null,null,{"$f":"SUBSTITUTE(Reporte!D1048407,\" \",\"\")","v":""}]
[null,null,{"$f":"SUBSTITUTE(Reporte!D1048408,\" \",\"\")","v":""}]
[null,null,{"$f":"SUBSTITUTE(Reporte!D1048409,\" \",\"\")","v":""}]
[null,null,{"$f":"SUBSTITUTE(Reporte!D1048410,\" \",\"\")","v":""}]
[null,null,{"$f":"SUBSTITUTE(Reporte!D1048411,\" \",\"\")","v":""}]
[null,null,{"$f":"SUBSTITUTE(Reporte!D1048412,\" \",\"\")","v":""}]
[null,null,{"$f":"SUBSTITUTE(Reporte!D1048413,\" \",\"\")","v":""}]
[null,null,{"$f":"SUBSTITUTE(Reporte!D1048414,\" \",\"\")","v":""}]
[null,null,{"$f":"SUBSTITUTE(Reporte!D1048415,\" \",\"\")","v":""}]
[null,null,{"$f":"SUBSTITUTE(Reporte!D1048416,\" \",\"\")","v":""}]
[null,null,{"$f":"SUBSTITUTE(Reporte!D1048417,\" \",\"\")","v":""}]
[null,null,{"$f":"SUBSTITUTE(Reporte!D1048418,\" \",\"\")","v":""}]
[null,null,{"$f":"SUBSTITUTE(Reporte!D1048419,\" \",\"\")","v":""}]
[null,null,{"$f":"SUBSTITUTE(Reporte!D1048420,\" \",\"\")","v":""}]
[null,null,{"$f":"SUBSTITUTE(Reporte!D1048421,\" \",\"\")","v":""}]
[null,null,{"$f":"SUBSTITUTE(Reporte!D1048422,\" \",\"\")","v":""}]
[null,null,{"$f":"SUBSTITUTE(Reporte!D1048423,\" \",\"\")","v":""}]
[null,null,{"$f":"SUBSTITUTE(Reporte!D1048424,\" \",\"\")","v":""}]
[null,null,{"$f":"SUBSTITUTE(Reporte!D1048425,\" \",\"\")","v":""}]
[null,null,{"$f":"SUBSTITUTE(Reporte!D1048426,\" \",\"\")","v":""}]
[null,null,{"$f":"SUBSTITUTE(Reporte!D1048427,\" \",\"\")","v":""}]
[null,null,{"$f":"SUBSTITUTE(Reporte!D1048428,\" \",\"\")","v":""}]
[null,null,{"$f":"SUBSTITUTE(Reporte!D1048429,\" \",\"\")","v":""}]
[null,null,{"$f":"SUBSTITUTE(Reporte!D1048430,\" \",\"\")","v":""}]
[null,null,{"$f":"SUBSTITUTE(Reporte!D1048431,\" \",\"\")","v":""}]
[null,null,{"$f":"SUBSTITUTE(Reporte!D1048432,\" \",\"\")","v":""}]
[null,null,{"$f":"SUBSTITUTE(Reporte!D1048433,\" \",\"\")","v":""}]
[null,null,{"$f":"SUBSTITUTE(Reporte!D1048434,\" \",\"\")","v":""}]
[null,null,{"$f":"SUBSTITUTE(Reporte!D1048435,\" \",\"\")","v":""}]
[null,null,{"$f":"SUBSTITUTE(Reporte!D1048436,\" \",\"\")","v":""}]
[null,null,{"$f":"SUBSTITUTE(Reporte!D1048437,\" \",\"\")","v":""}]
[null,null,{"$f":"SUBSTITUTE(Reporte!D1048438,\" \",\"\")","v":""}]
[null,null,{"$f":"SUBSTITUTE(Reporte!D1048439,\" \",\"\")","v":""}]
[null,null,{"$f":"SUBSTITUTE(Reporte!D1048440,\" \",\"\")","v":""}]
[null,null,{"$f":"SUBSTITUTE(Reporte!D1048441,\" \",\"\")","v":""}]
[null,null,{"$f":"SUBSTITUTE(Reporte!D1048442,\" \",\"\")","v":""}]
[null,null,{"$f":"SUBSTITUTE(Reporte!D1048443,\" \",\"\")","v":""}]
[null,null,{"$f":"SUBSTITUTE(Reporte!D1048444,\" \",\"\")","v":""}]
[null,null,{"$f":"SUBSTITUTE(Reporte!D1048445,\" \",\"\")","v":""}]
[null,null,{"$f":"SUBSTITUTE(Reporte!D1048446,\" \",\"\")","v":""}]
[null,null,{"$f":"SUBSTITUTE(Reporte!D1048447,\" \",\"\")","v":""}]
[null,null,{"$f":"SUBSTITUTE(Reporte!D1048448,\" \",\"\")","v":""}]
[null,null,{"$f":"SUBSTITUTE(Reporte!D1048449,\" \",\"\")","v":""}]
[null,null,{"$f":"SUBSTITUTE(Reporte!D1048450,\" \",\"\")","v":""}]
[null,null,{"$f":"SUBSTITUTE(Reporte!D1048451,\" \",\"\")","v":""}]
[null,null,{"$f":"SUBSTITUTE(Reporte!D1048452,\" \",\"\")","v":""}]
[null,null,{"$f":"SUBSTITUTE(Reporte!D1048453,\" \",\"\")","v":""}]
[null,null,{"$f":"SUBSTITUTE(Reporte!D1048454,\" \",\"\")","v":""}]
[null,null,{"$f":"SUBSTITUTE(Reporte!D1048455,\" \",\"\")","v":""}]
[null,null,{"$f":"SUBSTITUTE(Reporte!D1048456,\" \",\"\")","v":""}]
[null,null,{"$f":"SUBSTITUTE(Reporte!D1048457,\" \",\"\")","v":""}]
[null,null,{"$f":"SUBSTITUTE(Reporte!D1048458,\" \",\"\")","v":""}]
[null,null,{"$f":"SUBSTITUTE(Reporte!D1048459,\" \",\"\")","v":""}]
[null,null,{"$f":"SUBSTITUTE(Reporte!D1048460,\" \",\"\")","v":""}]
[null,null,{"$f":"SUBSTITUTE(Reporte!D1048461,\" \",\"\")","v":""}]
[null,null,{"$f":"SUBSTITUTE(Reporte!D1048462,\" \",\"\")","v":""}]
[null,null,{"$f":"SUBSTITUTE(Reporte!D1048463,\" \",\"\")","v":""}]
[null,null,{"$f":"SUBSTITUTE(Reporte!D1048464,\" \",\"\")","v":""}]
[null,null,{"$f":"SUBSTITUTE(Reporte!D1048465,\" \",\"\")","v":""}]
[null,null,{"$f":"SUBSTITUTE(Reporte!D1048466,\" \",\"\")","v":""}]
[null,null,{"$f":"SUBSTITUTE(Reporte!D1048467,\" \",\"\")","v":""}]
[null,null,{"$f":"SUBSTITUTE(Reporte!D1048468,\" \",\"\")","v":""}]
[null,null,{"$f":"SUBSTITUTE(Reporte!D1048469,\" \",\"\")","v":""}]
[null,null,{"$f":"SUBSTITUTE(Reporte!D1048470,\" \",\"\")","v":""}]
[null,null,{"$f":"SUBSTITUTE(Reporte!D1048471,\" \",\"\")","v":""}]
[null,null,{"$f":"SUBSTITUTE(Reporte!D1048472,\" \",\"\")","v":""}]
[null,null,{"$f":"SUBSTITUTE(Reporte!D1048473,\" \",\"\")","v":""}]
[null,null,{"$f":"SUBSTITUTE(Reporte!D1048474,\" \",\"\")","v":""}]
[null,null,{"$f":"SUBSTITUTE(Reporte!D1048475,\" \",\"\")","v":""}]
[null,null,{"$f":"SUBSTITUTE(Reporte!D1048476,\" \",\"\")","v":""}]
[null,null,{"$f":"SUBSTITUTE(Reporte!D1048477,\" \",\"\")","v":""}]
[null,null,{"$f":"SUBSTITUTE(Reporte!D1048478,\" \",\"\")","v":""}]
[null,null,{"$f":"SUBSTITUTE(Reporte!D1048479,\" \",\"\")","v":""}]
[null,null,{"$f":"SUBSTITUTE(Reporte!D1048480,\" \",\"\")","v":""}]
[null,null,{"$f":"SUBSTITUTE(Reporte!D1048481,\" \",\"\")","v":""}]
[null,null,{"$f":"SUBSTITUTE(Reporte!D1048482,\" \",\"\")","v":""}]
[null,null,{"$f":"SUBSTITUTE(Reporte!D1048483,\" \",\"\")","v":""}]
[null,null,{"$f":"SUBSTITUTE(Reporte!D1048484,\" \",\"\")","v":""}]
[null,null,{"$f":"SUBSTITUTE(Reporte!D1048485,\" \",\"\")","v":""}]
[null,null,{"$f":"SUBSTITUTE(Reporte!D1048486,\" \",\"\")","v":""}]
[null,null,{"$f":"SUBSTITUTE(Reporte!D1048487,\" \",\"\")","v":""}]
[null,null,{"$f":"SUBSTITUTE(Reporte!D1048488,\" \",\"\")","v":""}]
[null,null,{"$f":"SUBSTITUTE(Reporte!D1048489,\" \",\"\")","v":""}]
[null,null,{"$f":"SUBSTITUTE(Reporte!D1048490,\" \",\"\")","v":""}]
[null,null,{"$f":"SUBSTITUTE(Reporte!D1048491,\" \",\"\")","v":""}]
[null,null,{"$f":"SUBSTITUTE(Reporte!D1048492,\" \",\"\")","v":""}]
[null,null,{"$f":"SUBSTITUTE(Reporte!D1048493,\" \",\"\")","v":""}]
[null,null,{"$f":"SUBSTITUTE(Reporte!D1048494,\" \",\"\")","v":""}]
[null,null,{"$f":"SUBSTITUTE(Reporte!D1048495,\" \",\"\")","v":""}]
[null,null,{"$f":"SUBSTITUTE(Reporte!D1048496,\" \",\"\")","v":""}]
[null,null,{"$f":"SUBSTITUTE(Reporte!D1048497,\" \",\"\")","v":""}]
[null,null,{"$f":"SUBSTITUTE(Reporte!D1048498,\" \",\"\")","v":""}]
[null,null,{"$f":"SUBSTITUTE(Reporte!D1048499,\" \",\"\")","v":""}]
[null,null,{"$f":"SUBSTITUTE(Reporte!D1048500,\" \",\"\")","v":""}]
[null,null,{"$f":"SUBSTITUTE(Reporte!D1048501,\" \",\"\")","v":""}]
[null,null,{"$f":"SUBSTITUTE(Reporte!D1048502,\" \",\"\")","v":""}]
[null,null,{"$f":"SUBSTITUTE(Reporte!D1048503,\" \",\"\")","v":""}]
[null,null,{"$f":"SUBSTITUTE(Reporte!D1048504,\" \",\"\")","v":""}]
[null,null,{"$f":"SUBSTITUTE(Reporte!D1048505,\" \",\"\")","v":""}]
[null,null,{"$f":"SUBSTITUTE(Reporte!D1048506,\" \",\"\")","v":""}]
[null,null,{"$f":"SUBSTITUTE(Reporte!D1048507,\" \",\"\")","v":""}]
[null,null,{"$f":"SUBSTITUTE(Reporte!D1048508,\" \",\"\")","v":""}]
[null,null,{"$f":"SUBSTITUTE(Reporte!D1048509,\" \",\"\")","v":""}]
[null,null,{"$f":"SUBSTITUTE(Reporte!D1048510,\" \",\"\")","v":""}]
[null,null,{"$f":"SUBSTITUTE(Reporte!D1048511,\" \",\"\")","v":""}]
[null,null,{"$f":"SUBSTITUTE(Reporte!D1048512,\" \",\"\")","v":""}]
[null,null,{"$f":"SUBSTITUTE(Reporte!D1048513,\" \",\"\")","v":""}]
[null,null,{"$f":"SUBSTITUTE(Reporte!D1048514,\" \",\"\")","v":""}]
[null,null,{"$f":"SUBSTITUTE(Reporte!D1048515,\" \",\"\")","v":""}]
[null,null,{"$f":"SUBSTITUTE(Reporte!D1048516,\" \",\"\")","v":""}]
[null,null,{"$f":"SUBSTITUTE(Reporte!D1048517,\" \",\"\")","v":""}]
[null,null,{"$f":"SUBSTITUTE(Reporte!D1048518,\" \",\"\")","v":""}]
[null,null,{"$f":"SUBSTITUTE(Reporte!D1048519,\" \",\"\")","v":""}]
[null,null,{"$f":"SUBSTITUTE(Reporte!D1048520,\" \",\"\")","v":""}]
[null,null,{"$f":"SUBSTITUTE(Reporte!D1048521,\" \",\"\")","v":""}]
[null,null,{"$f":"SUBSTITUTE(Reporte!D1048522,\" \",\"\")","v":""}]
[null,null,{"$f":"SUBSTITUTE(Reporte!D1048523,\" \",\"\")","v":""}]
[null,null,{"$f":"SUBSTITUTE(Reporte!D1048524,\" \",\"\")","v":""}]
[null,null,{"$f":"SUBSTITUTE(Reporte!D1048525,\" \",\"\")","v":""}]
[null,null,{"$f":"SUBSTITUTE(Reporte!D1048526,\" \",\"\")","v":""}]
[null,null,{"$f":"SUBSTITUTE(Reporte!D1048527,\" \",\"\")","v":""}]
[null,null,{"$f":"SUBSTITUTE(Reporte!D1048528,\" \",\"\")","v":""}]
[null,null,{"$f":"SUBSTITUTE(Reporte!D1048529,\" \",\"\")","v":""}]
[null,null,{"$f":"SUBSTITUTE(Reporte!D1048530,\" \",\"\")","v":""}]
[null,null,{"$f":"SUBSTITUTE(Reporte!D1048531,\" \",\"\")","v":""}]
[null,null,{"$f":"SUBSTITUTE(Reporte!D1048532,\" \",\"\")","v":""}]
[null,null,{"$f":"SUBSTITUTE(Reporte!D1048533,\" \",\"\")","v":""}]
[null,null,{"$f":"SUBSTITUTE(Reporte!D1048534,\" \",\"\")","v":""}]
[null,null,{"$f":"SUBSTITUTE(Reporte!D1048535,\" \",\"\")","v":""}]
[null,null,{"$f":"SUBSTITUTE(Reporte!D1048536,\" \",\"\")","v":""}]
[null,null,{"$f":"SUBSTITUTE(Reporte!D1048537,\" \",\"\")","v":""}]
[null,null,{"$f":"SUBSTITUTE(Reporte!D1048538,\" \",\"\")","v":""}]
[null,null,{"$f":"SUBSTITUTE(Reporte!D1048539,\" \",\"\")","v":""}]
[null,null,{"$f":"SUBSTITUTE(Reporte!D1048540,\" \",\"\")","v":""}]
[null,null,{"$f":"SUBSTITUTE(Reporte!D1048541,\" \",\"\")","v":""}]
[null,null,{"$f":"SUBSTITUTE(Reporte!D1048542,\" \",\"\")","v":""}]
[null,null,{"$f":"SUBSTITUTE(Reporte!D1048543,\" \",\"\")","v":""}]
[null,null,{"$f":"SUBSTITUTE(Reporte!D1048544,\" \",\"\")","v":""}]
[null,null,{"$f":"SUBSTITUTE(Reporte!D1048545,\" \",\"\")","v":""}]
[null,null,{"$f":"SUBSTITUTE(Reporte!D1048546,\" \",\"\")","v":""}]
[null,null,{"$f":"SUBSTITUTE(Reporte!D1048547,\" \",\"\")","v":""}]
[null,null,{"$f":"SUBSTITUTE(Reporte!D1048548,\" \",\"\")","v":""}]
[null,null,{"$f":"SUBSTITUTE(Reporte!D1048549,\" \",\"\")","v":""}]
[null,null,{"$f":"SUBSTITUTE(Reporte!D1048550,\" \",\"\")","v":""}]
[null,null,{"$f":"SUBSTITUTE(Reporte!D1048551,\" \",\"\")","v":""}]
[null,null,{"$f":"SUBSTITUTE(Reporte!D1048552,\" \",\"\")","v":""}]
[null,null,{"$f":"SUBSTITUTE(Reporte!D1048553,\" \",\"\")","v":""}]
[null,null,{"$f":"SUBSTITUTE(Reporte!D1048554,\" \",\"\")","v":""}]
[null,null,{"$f":"SUBSTITUTE(Reporte!D1048555,\" \",\"\")","v":""}]
[null,null,{"$f":"SUBSTITUTE(Reporte!D1048556,\" \",\"\")","v":""}]
[null,null,{"$f":"SUBSTITUTE(Reporte!D1048557,\" \",\"\")","v":""}]
[null,null,{"$f":"SUBSTITUTE(Reporte!D1048558,\" \",\"\")","v":""}]
[null,null,{"$f":"SUBSTITUTE(Reporte!D1048559,\" \",\"\")","v":""}]
[null,null,{"$f":"SUBSTITUTE(Reporte!D1048560,\" \",\"\")","v":""}]
[null,null,{"$f":"SUBSTITUTE(Reporte!D1048561,\" \",\"\")","v":""}]
[null,null,{"$f":"SUBSTITUTE(Reporte!D1048562,\" \",\"\")","v":""}]
[null,null,{"$f":"SUBSTITUTE(Reporte!D1048563,\" \",\"\")","v":""}]
[null,null,{"$f":"SUBSTITUTE(Reporte!D1048564,\" \",\"\")","v":""}]
[null,null,{"$f":"SUBSTITUTE(Reporte!D1048565,\" \",\"\")","v":""}]
[null,null,{"$f":"SUBSTITUTE(Reporte!D1048566,\" \",\"\")","v":""}]
[null,null,{"$f":"SUBSTITUTE(Reporte!D1048567,\" \",\"\")","v":""}]
[null,null,{"$f":"SUBSTITUTE(Reporte!D1048568,\" \",\"\")","v":""}]
[null,null,{"$f":"SUBSTITUTE(Reporte!D1048569,\" \",\"\")","v":""}]
[null,null,{"$f":"SUBSTITUTE(Reporte!D1048570,\" \",\"\")","v":""}]
[null,null,{"$f":"SUBSTITUTE(Reporte!D1048571,\" \",\"\")","v":""}]
[null,null,{"$f":"SUBSTITUTE(Reporte!D1048572,\" \",\"\")","v":""}]
[null,null,{"$f":"SUBSTITUTE(Reporte!D1048573,\" \",\"\")","v":""}]
[null,null,{"$f":"SUBSTITUTE(Reporte!D1048574,\" \",\"\")","v":""}]
[null,null,{"$f":"SUBSTITUTE(Reporte!D1048575,\" \",\"\")","v":""}]
[null,null,{"$f":"SUBSTITUTE(Reporte!D1048576,\" \",\"\")","v":""}]

{"sheet":"Catalogos","index":2,"n_rows":7,"n_cols":21,"rows_kept":7,"cut":false,"hidden":true,"merged":[]}
["TipoCliente",null,"Id","Nombre","Acronimo","Tipo","Activo",null,"Unidad de Medida",null,"Tipo Captura",null,"Monedas",null,"ÍndicesPR",null,"TipoDiferencial",null,"Tipo Transacción",null,"Periodicidad del índice"]
["Generación de energía eléctrica",null,13,"Metros cúbicos","m3","Volumen",1,null,{"$f":"CONCATENATE(E2,\"- \",D2)","v":"m3- Metros cúbicos"},null,"Precio fijo",null,"MXN- peso mexicano",null,"HH (USD/Mmbtu)",null,"Porcentaje",null,"Compra",null,"Diario"]
["Industria manufacturera",null,19,"Millones de unidades térmicas británicas","MMBtu","Energía",1,null,{"$f":"CONCATENATE(E3,\"- \",D3)","v":"MMBtu- Millones de unidades térmicas británicas"},null,"Precio referenciado a un índice",null,"USD- dólar estadounidense",null,"HSC (USD/Mmbtu)",null,"Moneda",null,"Venta",null,"Mensual"]
["Sector comercial",null,20,"Gigacalorías","Gcal","Energía",1,null,"Gcal- Gigacalorías",null,null,null,"EUR- euro",null,"Tetco (USD/Mmbtu)",null,null,null,null,null,"Bidweek"]
["Distribución",null,21,"GJ- Gigajoules","GJ","Energía",1,null,"GJ- GJ- Gigajoules",null,null,null,"GBP- libra esterlina",null,"Tennessee (USD/Mmbtu)"]
["Construcción",null,23,"L- litros","L","Volumen",1,null,"L- L- litros",null,null,null,"Otra divisa",null,"Otro"]
["Minería",null,24,"Millones de pies cúbicos","MMpc","Volumen",1,null,{"$f":"CONCATENATE(E7,\"- \",D7)","v":"MMpc- Millones de pies cúbicos"}]